{"text_format":"3","workbook":"xlsx","n_sheets":1,"sheets":["Ko tgia"],"not_rendered":{"external_links":2,"defined_names":1},"read":"whole","date_system":"1900"}

{"sheet":"Ko tgia","index":0,"n_rows":1836,"n_cols":12,"rows_kept":1836}
["STT","MSSV","Họ tên","Mã BHYT","CCCD","Ngày sinh",null,"Địa chỉ hộ khẩu mới","Số tháng","Số tiền","Lớp","Khoa"]
[1,"K215520103180","Trần Hữu Phước",{"$f":"VLOOKUP(B2,'[1]Ko tgia'!$B$2:$M$1900,4,0)","v":"0820085629"},{"$f":"VLOOKUP(B2,'[1]Ko tgia'!$B$2:$M$1900,5,0)","v":"042203000235"},"08/10/2003",null,null,10,{"v":526500,"d":"526,500"},"K57CCM.01","CK"]
[2,"K215520103006","Đỗ Việt Anh",{"$f":"VLOOKUP(B3,'[1]Ko tgia'!$B$2:$M$1900,4,0)","v":"1920053642"},{"$f":"VLOOKUP(B3,'[1]Ko tgia'!$B$2:$M$1900,5,0)","v":"019203006128"},"17/10/2003",null,null,10,{"v":526500,"d":"526,500"},"K57CCM.01","CK"]
[3,"K215520103027","Lê Việt Hoàng",{"$f":"VLOOKUP(B4,'[1]Ko tgia'!$B$2:$M$1900,4,0)","v":"1920062135"},{"$f":"VLOOKUP(B4,'[1]Ko tgia'!$B$2:$M$1900,5,0)","v":"019203005634"},"13/11/2003",null,null,10,{"v":526500,"d":"526,500"},"K57CCM.01","CK"]
[4,"K215520103020","Nguyễn Văn Hà",{"$f":"VLOOKUP(B5,'[1]Ko tgia'!$B$2:$M$1900,4,0)","v":"1920106079"},{"$f":"VLOOKUP(B5,'[1]Ko tgia'!$B$2:$M$1900,5,0)","v":"019203012780"},"24/07/2003",null,null,10,{"v":526500,"d":"526,500"},"K57CCM.01","CK"]
[5,"K215520103063","Trần Huy Tùng",{"$f":"VLOOKUP(B6,'[1]Ko tgia'!$B$2:$M$1900,4,0)","v":"1920295474"},null,"14/12/2003",null,null,10,{"v":526500,"d":"526,500"},"K57CCM.01","CK"]
[6,"K215520103004","Phạm Bình An",{"$f":"VLOOKUP(B7,'[1]Ko tgia'!$B$2:$M$1900,4,0)","v":"1920314777"},null,"02/12/2003",null,null,10,{"v":526500,"d":"526,500"},"K57CCM.01","CK"]
[7,"K215520103033","Nguyễn Viết Huy",{"$f":"VLOOKUP(B8,'[1]Ko tgia'!$B$2:$M$1900,4,0)","v":"1920421479"},{"$f":"VLOOKUP(B8,'[1]Ko tgia'!$B$2:$M$1900,5,0)","v":"019203001111"},"11/03/2003",null,null,10,{"v":526500,"d":"526,500"},"K57CCM.01","CK"]
[8,"K215510301044","Trần Quang Huy",{"$f":"VLOOKUP(B9,'[1]Ko tgia'!$B$2:$M$1900,4,0)","v":"1920558010"},{"$f":"VLOOKUP(B9,'[1]Ko tgia'!$B$2:$M$1900,5,0)","v":"019203003007"},"26/02/2003",null,null,10,{"v":526500,"d":"526,500"},"K57CCM.01","CK"]
[9,"K215520103009","Phạm Công Bằng",{"$f":"VLOOKUP(B10,'[1]Ko tgia'!$B$2:$M$1900,4,0)","v":"1921015307"},{"$f":"VLOOKUP(B10,'[1]Ko tgia'!$B$2:$M$1900,5,0)","v":"019203002243"},"29/07/2003",null,null,10,{"v":526500,"d":"526,500"},"K57CCM.01","CK"]
[10,"K215520103136","Hà Văn Quyết",{"$f":"VLOOKUP(B11,'[1]Ko tgia'!$B$2:$M$1900,4,0)","v":"1921031780"},{"$f":"VLOOKUP(B11,'[1]Ko tgia'!$B$2:$M$1900,5,0)","v":"019203000473"},"20/03/2003",null,null,10,{"v":526500,"d":"526,500"},"K57CCM.01","CK"]
[11,"K215520103045","Dương Lê Phúc Nam",{"$f":"VLOOKUP(B12,'[1]Ko tgia'!$B$2:$M$1900,4,0)","v":"1921102466"},{"$f":"VLOOKUP(B12,'[1]Ko tgia'!$B$2:$M$1900,5,0)","v":"019203000687"},"11/02/2003",null,null,10,{"v":526500,"d":"526,500"},"K57CCM.01","CK"]
[12,"K215520103008","Lê Tuấn Anh",{"$f":"VLOOKUP(B13,'[1]Ko tgia'!$B$2:$M$1900,4,0)","v":"1921144247"},{"$f":"VLOOKUP(B13,'[1]Ko tgia'!$B$2:$M$1900,5,0)","v":"019203010443"},"19/07/2003",null,null,10,{"v":526500,"d":"526,500"},"K57CCM.01","CK"]
[13,"K215520103039","Lê Nguyễn Phương Lan",{"$f":"VLOOKUP(B14,'[1]Ko tgia'!$B$2:$M$1900,4,0)","v":"1921198692"},{"$f":"VLOOKUP(B14,'[1]Ko tgia'!$B$2:$M$1900,5,0)","v":"019303010250"},"05/08/2003",{"$f":"VLOOKUP(B14,'[2]Ko tgia'!$C$2:$K$9900,8,0)","v":"x"},null,10,{"v":526500,"d":"526,500"},"K57CCM.01","CK"]
[14,"K215520103056","Luân Văn Toại",{"$f":"VLOOKUP(B15,'[1]Ko tgia'!$B$2:$M$1900,4,0)","v":"2020152626"},{"$f":"VLOOKUP(B15,'[1]Ko tgia'!$B$2:$M$1900,5,0)","v":"020203007019"},"13/04/2003",null,null,10,{"v":526500,"d":"526,500"},"K57CCM.01","CK"]
[15,"K215520103055","Trần Quang Tiến",{"$f":"VLOOKUP(B16,'[1]Ko tgia'!$B$2:$M$1900,4,0)","v":"2420134630"},{"$f":"VLOOKUP(B16,'[1]Ko tgia'!$B$2:$M$1900,5,0)","v":"024203001708"},"02/11/2003",null,null,10,{"v":526500,"d":"526,500"},"K57CCM.01","CK"]
[16,"K215520103030","Lưu Văn Huấn",{"$f":"VLOOKUP(B17,'[1]Ko tgia'!$B$2:$M$1900,4,0)","v":"2720882256"},{"$f":"VLOOKUP(B17,'[1]Ko tgia'!$B$2:$M$1900,5,0)","v":"027203002730"},"17/03/2003",null,null,10,{"v":526500,"d":"526,500"},"K57CCM.01","CK"]
[17,"K215520103043","Đinh Văn Mạnh",{"$f":"VLOOKUP(B18,'[1]Ko tgia'!$B$2:$M$1900,4,0)","v":"2720928827"},{"$f":"VLOOKUP(B18,'[1]Ko tgia'!$B$2:$M$1900,5,0)","v":"027203001002"},"03/02/2003",null,null,10,{"v":526500,"d":"526,500"},"K57CCM.01","CK"]
[18,"K215520103046","Trần Quang Nghĩa",{"$f":"VLOOKUP(B19,'[1]Ko tgia'!$B$2:$M$1900,4,0)","v":"2720946604"},{"$f":"VLOOKUP(B19,'[1]Ko tgia'!$B$2:$M$1900,5,0)","v":"027203000892"},"20/06/2003",null,null,10,{"v":526500,"d":"526,500"},"K57CCM.01","CK"]
[19,"K215520103015","Nguyễn Văn Điệp",{"$f":"VLOOKUP(B20,'[1]Ko tgia'!$B$2:$M$1900,4,0)","v":"2720957781"},{"$f":"VLOOKUP(B20,'[1]Ko tgia'!$B$2:$M$1900,5,0)","v":"027202000897"},"05/02/2002",null,null,10,{"v":526500,"d":"526,500"},"K57CCM.01","CK"]
[20,"K215520103053","Phạm Ngọc Thành",{"$f":"VLOOKUP(B21,'[1]Ko tgia'!$B$2:$M$1900,4,0)","v":"3420380306"},{"$f":"VLOOKUP(B21,'[1]Ko tgia'!$B$2:$M$1900,5,0)","v":"034203011102"},"20/12/2003",null,null,10,{"v":526500,"d":"526,500"},"K57CCM.01","CK"]
[21,"K215520103115","Nguyễn Thanh Quý",{"$f":"VLOOKUP(B22,'[1]Ko tgia'!$B$2:$M$1900,4,0)","v":"0124615181"},{"$f":"VLOOKUP(B22,'[1]Ko tgia'!$B$2:$M$1900,5,0)","v":"001203044180"},"09/09/2003",null,null,10,{"v":526500,"d":"526,500"},"K57CCM.02","CK"]
[22,"K215520103164","Hoàng Quang Thịnh",{"$f":"VLOOKUP(B23,'[1]Ko tgia'!$B$2:$M$1900,4,0)","v":"0620222677"},{"$f":"VLOOKUP(B23,'[1]Ko tgia'!$B$2:$M$1900,5,0)","v":"006203000237"},"15/08/2003",null,null,10,{"v":526500,"d":"526,500"},"K57CCM.02","CK"]
[23,"K215520103077","Đặng Chí Công",{"$f":"VLOOKUP(B24,'[1]Ko tgia'!$B$2:$M$1900,4,0)","v":"0820354064"},{"$f":"VLOOKUP(B24,'[1]Ko tgia'!$B$2:$M$1900,5,0)","v":"008203004139"},"01/12/2003",null,null,10,{"v":526500,"d":"526,500"},"K57CCM.02","CK"]
[24,"K215520103127","Trịnh Minh Tuấn",{"$f":"VLOOKUP(B25,'[1]Ko tgia'!$B$2:$M$1900,4,0)","v":"1920014602"},null,"26/10/2003",null,null,10,{"v":526500,"d":"526,500"},"K57CCM.02","CK"]
[25,"K215520103099","Đường Quốc Huy",{"$f":"VLOOKUP(B26,'[1]Ko tgia'!$B$2:$M$1900,4,0)","v":"1920094177"},null,"18/01/2003",null,null,10,{"v":526500,"d":"526,500"},"K57CCM.02","CK"]
[26,"K215520103107","Vũ Dương Long",{"$f":"VLOOKUP(B27,'[1]Ko tgia'!$B$2:$M$1900,4,0)","v":"1920269679"},{"$f":"VLOOKUP(B27,'[1]Ko tgia'!$B$2:$M$1900,5,0)","v":"019203000755"},"29/11/2003",null,null,10,{"v":526500,"d":"526,500"},"K57CCM.02","CK"]
[27,"K215520103158","Trần Mạnh Thắng",{"$f":"VLOOKUP(B28,'[1]Ko tgia'!$B$2:$M$1900,4,0)","v":"1920276933"},null,"14/04/2003",null,null,10,{"v":526500,"d":"526,500"},"K57CCM.02","CK"]
[28,"K215520103162","Dương Thanh Hoàng",{"$f":"VLOOKUP(B29,'[1]Ko tgia'!$B$2:$M$1900,4,0)","v":"1920292222"},{"$f":"VLOOKUP(B29,'[1]Ko tgia'!$B$2:$M$1900,5,0)","v":"019203000796"},"29/12/2003",null,null,10,{"v":526500,"d":"526,500"},"K57CCM.02","CK"]
[29,"K215520103133","Phạm Tiến Vinh",{"$f":"VLOOKUP(B30,'[1]Ko tgia'!$B$2:$M$1900,4,0)","v":"1920311828"},{"$f":"VLOOKUP(B30,'[1]Ko tgia'!$B$2:$M$1900,5,0)","v":"019203000801"},"10/05/2003",null,null,10,{"v":526500,"d":"526,500"},"K57CCM.02","CK"]
[30,"K215520103079","Đằng Tiến Đạt",{"$f":"VLOOKUP(B31,'[1]Ko tgia'!$B$2:$M$1900,4,0)","v":"1920432307"},{"$f":"VLOOKUP(B31,'[1]Ko tgia'!$B$2:$M$1900,5,0)","v":"019203010572"},"28/01/2003",null,null,10,{"v":526500,"d":"526,500"},"K57CCM.02","CK"]
[31,"K215520103110","Vũ Gia Nam",{"$f":"VLOOKUP(B32,'[1]Ko tgia'!$B$2:$M$1900,4,0)","v":"1920453970"},{"$f":"VLOOKUP(B32,'[1]Ko tgia'!$B$2:$M$1900,5,0)","v":"019203003561"},"31/10/2003",null,null,10,{"v":526500,"d":"526,500"},"K57CCM.02","CK"]
[32,"K215520103125","Trần Xuân Trường",{"$f":"VLOOKUP(B33,'[1]Ko tgia'!$B$2:$M$1900,4,0)","v":"1920493500"},{"$f":"VLOOKUP(B33,'[1]Ko tgia'!$B$2:$M$1900,5,0)","v":"019203001112"},"15/12/2003",null,null,10,{"v":526500,"d":"526,500"},"K57CCM.02","CK"]
[33,"K215520103097","Lâm Cao Văn Hùng",{"$f":"VLOOKUP(B34,'[1]Ko tgia'!$B$2:$M$1900,4,0)","v":"1920504028"},{"$f":"VLOOKUP(B34,'[1]Ko tgia'!$B$2:$M$1900,5,0)","v":"019203001097"},"09/11/2003",null,null,10,{"v":526500,"d":"526,500"},"K57CCM.02","CK"]
[34,"K215520103121","Đào Duy Tính",{"$f":"VLOOKUP(B35,'[1]Ko tgia'!$B$2:$M$1900,4,0)","v":"1920802605"},{"$f":"VLOOKUP(B35,'[1]Ko tgia'!$B$2:$M$1900,5,0)","v":"019203009071"},"21/07/2003",null,null,10,{"v":526500,"d":"526,500"},"K57CCM.02","CK"]
[35,"K215520103156","Nguyễn Văn Hoàng",{"$f":"VLOOKUP(B36,'[1]Ko tgia'!$B$2:$M$1900,4,0)","v":"1921094778"},{"$f":"VLOOKUP(B36,'[1]Ko tgia'!$B$2:$M$1900,5,0)","v":"019203008817"},"15/10/2003",null,null,10,{"v":526500,"d":"526,500"},"K57CCM.02","CK"]
[36,"K215520103307","Nguyễn Thế Anh",{"$f":"VLOOKUP(B37,'[1]Ko tgia'!$B$2:$M$1900,4,0)","v":"2720688905"},{"$f":"VLOOKUP(B37,'[1]Ko tgia'!$B$2:$M$1900,5,0)","v":"027203009760"},"18/08/2003",null,null,10,{"v":526500,"d":"526,500"},"K57CCM.02","CK"]
[37,"K215520103317","Phan Xuân Đạo",{"$f":"VLOOKUP(B38,'[1]Ko tgia'!$B$2:$M$1900,4,0)","v":"0124349723"},{"$f":"VLOOKUP(B38,'[1]Ko tgia'!$B$2:$M$1900,5,0)","v":"01203034503"},"26/07/2003",null,null,10,{"v":526500,"d":"526,500"},"K57CCM.03","CK"]
[38,"K215520103191","Nguyễn Tiến Đạt",{"$f":"VLOOKUP(B39,'[1]Ko tgia'!$B$2:$M$1900,4,0)","v":"0124571427"},{"$f":"VLOOKUP(B39,'[1]Ko tgia'!$B$2:$M$1900,5,0)","v":"01203046765"},"02/08/2003",null,null,10,{"v":526500,"d":"526,500"},"K57CCM.03","CK"]
[39,"K215520103255","Đỗ Trí Dũng",{"$f":"VLOOKUP(B40,'[1]Ko tgia'!$B$2:$M$1900,4,0)","v":"0124598710"},{"$f":"VLOOKUP(B40,'[1]Ko tgia'!$B$2:$M$1900,5,0)","v":"01203041992"},"19/12/2003",null,null,10,{"v":526500,"d":"526,500"},"K57CCM.03","CK"]
[40,"K215520103283","Hoàng Minh Phú",{"$f":"VLOOKUP(B41,'[1]Ko tgia'!$B$2:$M$1900,4,0)","v":"0124686309"},{"$f":"VLOOKUP(B41,'[1]Ko tgia'!$B$2:$M$1900,5,0)","v":"034203013614"},"26/08/2003",null,null,10,{"v":526500,"d":"526,500"},"K57CCM.03","CK"]
[41,"K215520103278","Nguyễn Hoàng Minh",{"$f":"VLOOKUP(B42,'[1]Ko tgia'!$B$2:$M$1900,4,0)","v":"0125762995"},{"$f":"VLOOKUP(B42,'[1]Ko tgia'!$B$2:$M$1900,5,0)","v":"01202041278"},"14/12/2002",null,null,10,{"v":526500,"d":"526,500"},"K57CCM.03","CK"]
[42,"K215520103265","Nguyễn Minh Hoàng",{"$f":"VLOOKUP(B43,'[1]Ko tgia'!$B$2:$M$1900,4,0)","v":"1920045532"},{"$f":"VLOOKUP(B43,'[1]Ko tgia'!$B$2:$M$1900,5,0)","v":"019203002497"},"05/03/2003",null,null,10,{"v":526500,"d":"526,500"},"K57CCM.03","CK"]
[43,"K215520103295","Vũ Đình Thuận",{"$f":"VLOOKUP(B44,'[1]Ko tgia'!$B$2:$M$1900,4,0)","v":"1920503073"},{"$f":"VLOOKUP(B44,'[1]Ko tgia'!$B$2:$M$1900,5,0)","v":"019203001101"},"15/02/2003",null,null,10,{"v":526500,"d":"526,500"},"K57CCM.03","CK"]
[44,"K215520103227","Dương Thanh Sơn",{"$f":"VLOOKUP(B45,'[1]Ko tgia'!$B$2:$M$1900,4,0)","v":"1920590869"},null,"15/10/2003",null,null,10,{"v":526500,"d":"526,500"},"K57CCM.03","CK"]
[45,"K215520103221","Ma Hoàng Phúc",{"$f":"VLOOKUP(B46,'[1]Ko tgia'!$B$2:$M$1900,4,0)","v":"1920676535"},{"$f":"VLOOKUP(B46,'[1]Ko tgia'!$B$2:$M$1900,5,0)","v":"019203009453"},"06/03/2003",null,null,10,{"v":526500,"d":"526,500"},"K57CCM.03","CK"]
[46,"K215520103215","Nguyễn Quang Minh",{"$f":"VLOOKUP(B47,'[1]Ko tgia'!$B$2:$M$1900,4,0)","v":"1920986661"},{"$f":"VLOOKUP(B47,'[1]Ko tgia'!$B$2:$M$1900,5,0)","v":"019203000973"},"04/07/2003",null,null,10,{"v":526500,"d":"526,500"},"K57CCM.03","CK"]
[47,"K215520103225","Diệp Xuân Quý",{"$f":"VLOOKUP(B48,'[1]Ko tgia'!$B$2:$M$1900,4,0)","v":"1921175722"},{"$f":"VLOOKUP(B48,'[1]Ko tgia'!$B$2:$M$1900,5,0)","v":"019203006435"},"20/06/2003",null,null,10,{"v":526500,"d":"526,500"},"K57CCM.03","CK"]
[48,"K215520103219","Nguyễn Quang Ninh",{"$f":"VLOOKUP(B49,'[1]Ko tgia'!$B$2:$M$1900,4,0)","v":"1921686875"},{"$f":"VLOOKUP(B49,'[1]Ko tgia'!$B$2:$M$1900,5,0)","v":"019203000378"},"10/06/2003",null,null,10,{"v":526500,"d":"526,500"},"K57CCM.03","CK"]
[49,"K215520103202","Nguyễn Văn Hoàn",{"$f":"VLOOKUP(B50,'[1]Ko tgia'!$B$2:$M$1900,4,0)","v":"2421164015"},{"$f":"VLOOKUP(B50,'[1]Ko tgia'!$B$2:$M$1900,5,0)","v":"024203008614"},"25/08/2003",null,null,10,{"v":526500,"d":"526,500"},"K57CCM.03","CK"]
[50,"K215520103305","Phí Văn Tuyến",{"$f":"VLOOKUP(B51,'[1]Ko tgia'!$B$2:$M$1900,4,0)","v":"2421184691"},{"$f":"VLOOKUP(B51,'[1]Ko tgia'!$B$2:$M$1900,5,0)","v":"024203001868"},"01/04/2003",null,null,10,{"v":526500,"d":"526,500"},"K57CCM.03","CK"]
[51,"K215520103269","Nguyễn Mạnh Hùng",{"$f":"VLOOKUP(B52,'[1]Ko tgia'!$B$2:$M$1900,4,0)","v":"2421394845"},null,"13/11/2003",null,null,10,{"v":526500,"d":"526,500"},"K57CCM.03","CK"]
[52,"K215520103324","Lưu Mạnh Thắng",{"$f":"VLOOKUP(B53,'[1]Ko tgia'!$B$2:$M$1900,4,0)","v":"2520581546"},{"$f":"VLOOKUP(B53,'[1]Ko tgia'!$B$2:$M$1900,5,0)","v":"025203005073"},"02/02/2003",null,null,10,{"v":526500,"d":"526,500"},"K57CCM.03","CK"]
[53,"K215520103195","Nguyễn Văn Khương Duy",{"$f":"VLOOKUP(B54,'[1]Ko tgia'!$B$2:$M$1900,4,0)","v":"2620116233"},{"$f":"VLOOKUP(B54,'[1]Ko tgia'!$B$2:$M$1900,5,0)","v":"026203002290"},"05/12/2003",null,null,10,{"v":526500,"d":"526,500"},"K57CCM.03","CK"]
[54,"K215520103266","Đặng Việt Hoàng",{"$f":"VLOOKUP(B55,'[1]Ko tgia'!$B$2:$M$1900,4,0)","v":"2620929865"},{"$f":"VLOOKUP(B55,'[1]Ko tgia'!$B$2:$M$1900,5,0)","v":"026203000557"},"21/02/2003",null,null,10,{"v":526500,"d":"526,500"},"K57CCM.03","CK"]
[55,"K215520103320","La Ngọc Anh",{"$f":"VLOOKUP(B56,'[1]Ko tgia'!$B$2:$M$1900,4,0)","v":"2720334510"},{"$f":"VLOOKUP(B56,'[1]Ko tgia'!$B$2:$M$1900,5,0)","v":"02203012722"},"16/07/2003",null,null,10,{"v":526500,"d":"526,500"},"K57CCM.03","CK"]
[56,"K215520103231","Nguyễn Quang Thắng",{"$f":"VLOOKUP(B57,'[1]Ko tgia'!$B$2:$M$1900,4,0)","v":"2721301537"},{"$f":"VLOOKUP(B57,'[1]Ko tgia'!$B$2:$M$1900,5,0)","v":"027203005132"},"07/12/2003",null,null,10,{"v":526500,"d":"526,500"},"K57CCM.03","CK"]
[57,"K215520103230","Nhữ Văn Thái",{"$f":"VLOOKUP(B58,'[1]Ko tgia'!$B$2:$M$1900,4,0)","v":"3021166137"},{"$f":"VLOOKUP(B58,'[1]Ko tgia'!$B$2:$M$1900,5,0)","v":"030203003063"},"14/01/2003",null,null,10,{"v":526500,"d":"526,500"},"K57CCM.03","CK"]
[58,"K215520103190","Tạ Ngọc Hải Đăng",{"$f":"VLOOKUP(B59,'[1]Ko tgia'!$B$2:$M$1900,4,0)","v":"3520955455"},{"$f":"VLOOKUP(B59,'[1]Ko tgia'!$B$2:$M$1900,5,0)","v":"035203000795"},"05/03/2003",null,null,10,{"v":526500,"d":"526,500"},"K57CCM.03","CK"]
[59,"K215520103289","Võ Bá Sáng",{"$f":"VLOOKUP(B60,'[1]Ko tgia'!$B$2:$M$1900,4,0)","v":"4017162834"},{"$f":"VLOOKUP(B60,'[1]Ko tgia'!$B$2:$M$1900,5,0)","v":"040203004428"},"01/01/2003",null,null,10,{"v":526500,"d":"526,500"},"K57CCM.03","CK"]
[60,"K215510202045","Đỗ Phương Nam",{"$f":"VLOOKUP(B61,'[1]Ko tgia'!$B$2:$M$1900,4,0)","v":"1920187078"},{"$f":"VLOOKUP(B61,'[1]Ko tgia'!$B$2:$M$1900,5,0)","v":"019203000560"},"26/06/2003",null,null,10,{"v":526500,"d":"526,500"},"K57CĐT.01","CK"]
[61,"K215520114060","Đào Bá Thanh Quý",{"$f":"VLOOKUP(B62,'[1]Ko tgia'!$B$2:$M$1900,4,0)","v":"1920450826"},null,"17/08/2003",null,null,10,{"v":526500,"d":"526,500"},"K57CĐT.01","CK"]
[62,"K215520114018","Hoàng Tiến Đức",{"$f":"VLOOKUP(B63,'[1]Ko tgia'!$B$2:$M$1900,4,0)","v":"1920480916"},{"$f":"VLOOKUP(B63,'[1]Ko tgia'!$B$2:$M$1900,5,0)","v":"019203008398"},"23/04/2003",null,null,10,{"v":526500,"d":"526,500"},"K57CĐT.01","CK"]
[63,"K215520114074","Trần Văn Tới",{"$f":"VLOOKUP(B64,'[1]Ko tgia'!$B$2:$M$1900,4,0)","v":"1920625529"},{"$f":"VLOOKUP(B64,'[1]Ko tgia'!$B$2:$M$1900,5,0)","v":"019203000565"},"10/10/2003",null,null,10,{"v":526500,"d":"526,500"},"K57CĐT.01","CK"]
[64,"K215520114022","Nguyễn Minh Dương",{"$f":"VLOOKUP(B65,'[1]Ko tgia'!$B$2:$M$1900,4,0)","v":"1920796681"},{"$f":"VLOOKUP(B65,'[1]Ko tgia'!$B$2:$M$1900,5,0)","v":"019203009426"},"26/04/2003",null,null,10,{"v":526500,"d":"526,500"},"K57CĐT.01","CK"]
[65,"K215520114032","Nguyễn Minh Hiếu",{"$f":"VLOOKUP(B66,'[1]Ko tgia'!$B$2:$M$1900,4,0)","v":"1920840820"},{"$f":"VLOOKUP(B66,'[1]Ko tgia'!$B$2:$M$1900,5,0)","v":"019203009306"},"28/09/2003",null,null,10,{"v":526500,"d":"526,500"},"K57CĐT.01","CK"]
[66,"K215520114211","Trần Đức Huy",{"$f":"VLOOKUP(B67,'[1]Ko tgia'!$B$2:$M$1900,4,0)","v":"1920960402"},{"$f":"VLOOKUP(B67,'[1]Ko tgia'!$B$2:$M$1900,5,0)","v":"019203002228"},"06/04/2003",null,null,10,{"v":526500,"d":"526,500"},"K57CĐT.01","CK"]
[67,"K215520114169","Hoàng Việt Kiều",{"$f":"VLOOKUP(B68,'[1]Ko tgia'!$B$2:$M$1900,4,0)","v":"1921058177"},{"$f":"VLOOKUP(B68,'[1]Ko tgia'!$B$2:$M$1900,5,0)","v":"019203002136"},"10/06/2003",null,null,10,{"v":526500,"d":"526,500"},"K57CĐT.01","CK"]
[68,"K215520114125","Dương Đình Hùng",{"$f":"VLOOKUP(B69,'[1]Ko tgia'!$B$2:$M$1900,4,0)","v":"1921159263"},{"$f":"VLOOKUP(B69,'[1]Ko tgia'!$B$2:$M$1900,5,0)","v":"019203008306"},"14/07/2003",null,null,10,{"v":526500,"d":"526,500"},"K57CĐT.01","CK"]
[69,"K215520114043","Nguyễn Văn Hưng",{"$f":"VLOOKUP(B70,'[1]Ko tgia'!$B$2:$M$1900,4,0)","v":"1921176506"},null,"26/05/2003",null,null,10,{"v":526500,"d":"526,500"},"K57CĐT.01","CK"]
[70,"K215520114031","Trần Hoàng Hiệp",{"$f":"VLOOKUP(B71,'[1]Ko tgia'!$B$2:$M$1900,4,0)","v":"1921272303"},{"$f":"VLOOKUP(B71,'[1]Ko tgia'!$B$2:$M$1900,5,0)","v":"019203000914"},"04/11/2003",null,null,10,{"v":526500,"d":"526,500"},"K57CĐT.01","CK"]
[71,"K215520114067","Nguyễn Đăng Thiện",{"$f":"VLOOKUP(B72,'[1]Ko tgia'!$B$2:$M$1900,4,0)","v":"1921323157"},{"$f":"VLOOKUP(B72,'[1]Ko tgia'!$B$2:$M$1900,5,0)","v":"019203000394"},"17/08/2003",null,null,10,{"v":526500,"d":"526,500"},"K57CĐT.01","CK"]
[72,"K215520114013","Thân Chí Đạt",{"$f":"VLOOKUP(B73,'[1]Ko tgia'!$B$2:$M$1900,4,0)","v":"2420120811"},null,"12/10/2003",null,null,10,{"v":526500,"d":"526,500"},"K57CĐT.01","CK"]
[73,"K215520114026","Hoàng Khánh Duy",{"$f":"VLOOKUP(B74,'[1]Ko tgia'!$B$2:$M$1900,4,0)","v":"2420133924"},{"$f":"VLOOKUP(B74,'[1]Ko tgia'!$B$2:$M$1900,5,0)","v":"024203004185"},"14/10/2003",null,null,10,{"v":526500,"d":"526,500"},"K57CĐT.01","CK"]
[74,"K215520114024","Lục Vũ Duy",{"$f":"VLOOKUP(B75,'[1]Ko tgia'!$B$2:$M$1900,4,0)","v":"2420170102"},{"$f":"VLOOKUP(B75,'[1]Ko tgia'!$B$2:$M$1900,5,0)","v":"024203002429"},"01/11/2003",null,null,10,{"v":526500,"d":"526,500"},"K57CĐT.01","CK"]
[75,"K215520114176","Nguyễn Minh Tú",{"$f":"VLOOKUP(B76,'[1]Ko tgia'!$B$2:$M$1900,4,0)","v":"2421354105"},{"$f":"VLOOKUP(B76,'[1]Ko tgia'!$B$2:$M$1900,5,0)","v":"024203003266"},"27/08/2003",null,null,10,{"v":526500,"d":"526,500"},"K57CĐT.01","CK"]
[76,"K215520114075","Đào Xuân Trinh",{"$f":"VLOOKUP(B77,'[1]Ko tgia'!$B$2:$M$1900,4,0)","v":"2421409497"},{"$f":"VLOOKUP(B77,'[1]Ko tgia'!$B$2:$M$1900,5,0)","v":"024203002954"},"13/10/2003",null,null,10,{"v":526500,"d":"526,500"},"K57CĐT.01","CK"]
[77,"K215520114019","Đồng Văn Đức",{"$f":"VLOOKUP(B78,'[1]Ko tgia'!$B$2:$M$1900,4,0)","v":"2421546779"},{"$f":"VLOOKUP(B78,'[1]Ko tgia'!$B$2:$M$1900,5,0)","v":"024203007499"},"26/10/2003",null,null,10,{"v":526500,"d":"526,500"},"K57CĐT.01","CK"]
[78,"K215520114049","Bùi Ký",{"$f":"VLOOKUP(B79,'[1]Ko tgia'!$B$2:$M$1900,4,0)","v":"2421799187"},{"$f":"VLOOKUP(B79,'[1]Ko tgia'!$B$2:$M$1900,5,0)","v":"024203013717"},"29/09/2003",null,null,10,{"v":526500,"d":"526,500"},"K57CĐT.01","CK"]
[79,"K215520114179","Nguyễn Hữu Linh",{"$f":"VLOOKUP(B80,'[1]Ko tgia'!$B$2:$M$1900,4,0)","v":"2720944811"},{"$f":"VLOOKUP(B80,'[1]Ko tgia'!$B$2:$M$1900,5,0)","v":"027203003790"},"29/10/2003",null,null,10,{"v":526500,"d":"526,500"},"K57CĐT.01","CK"]
[80,"K215520114028","Bùi Hải Hà",{"$f":"VLOOKUP(B81,'[1]Ko tgia'!$B$2:$M$1900,4,0)","v":"3420904952"},{"$f":"VLOOKUP(B81,'[1]Ko tgia'!$B$2:$M$1900,5,0)","v":"034203007230"},"03/03/2003",null,null,10,{"v":526500,"d":"526,500"},"K57CĐT.01","CK"]
[81,"K215520114129","Lê Đoàn Nam Khánh",{"$f":"VLOOKUP(B82,'[1]Ko tgia'!$B$2:$M$1900,4,0)","v":"0820023737"},{"$f":"VLOOKUP(B82,'[1]Ko tgia'!$B$2:$M$1900,5,0)","v":"008203004098"},"28/06/2003",null,null,10,{"v":526500,"d":"526,500"},"K57CĐT.02","CK"]
[82,"K215520114189","Lê Đức Mạnh",{"$f":"VLOOKUP(B83,'[1]Ko tgia'!$B$2:$M$1900,4,0)","v":"1920228545"},null,"29/12/2003",null,null,10,{"v":526500,"d":"526,500"},"K57CĐT.02","CK"]
[83,"K215520114192","Lục Bảo Hưng",{"$f":"VLOOKUP(B84,'[1]Ko tgia'!$B$2:$M$1900,4,0)","v":"1920566651"},{"$f":"VLOOKUP(B84,'[1]Ko tgia'!$B$2:$M$1900,5,0)","v":"019203002700"},"07/04/2003",null,null,10,{"v":526500,"d":"526,500"},"K57CĐT.02","CK"]
[84,"K215520114147","Chu Văn Sỹ",{"$f":"VLOOKUP(B85,'[1]Ko tgia'!$B$2:$M$1900,4,0)","v":"1920605009"},{"$f":"VLOOKUP(B85,'[1]Ko tgia'!$B$2:$M$1900,5,0)","v":"019203000551"},"07/01/2003",null,null,10,{"v":526500,"d":"526,500"},"K57CĐT.02","CK"]
[85,"K215520114214","Lê Đức Hòa",{"$f":"VLOOKUP(B86,'[1]Ko tgia'!$B$2:$M$1900,4,0)","v":"1921042885"},null,"30/03/2003",null,null,10,{"v":526500,"d":"526,500"},"K57CĐT.02","CK"]
[86,"K215520114157","Phạm Minh Trí",{"$f":"VLOOKUP(B87,'[1]Ko tgia'!$B$2:$M$1900,4,0)","v":"1921076963"},{"$f":"VLOOKUP(B87,'[1]Ko tgia'!$B$2:$M$1900,5,0)","v":"019203000898"},"29/12/2003",null,null,10,{"v":526500,"d":"526,500"},"K57CĐT.02","CK"]
[87,"K215520114124","Lý Văn Hùng",{"$f":"VLOOKUP(B88,'[1]Ko tgia'!$B$2:$M$1900,4,0)","v":"1921093976"},{"$f":"VLOOKUP(B88,'[1]Ko tgia'!$B$2:$M$1900,5,0)","v":"019203009172"},"14/07/2003",null,null,10,{"v":526500,"d":"526,500"},"K57CĐT.02","CK"]
[88,"K215520114118","Nguyễn Đức Hoàng",{"$f":"VLOOKUP(B89,'[1]Ko tgia'!$B$2:$M$1900,4,0)","v":"1921173698"},{"$f":"VLOOKUP(B89,'[1]Ko tgia'!$B$2:$M$1900,5,0)","v":"019203010506"},"28/09/2003",null,null,10,{"v":526500,"d":"526,500"},"K57CĐT.02","CK"]
[89,"K215520114233","Tạ Văn Phú",{"$f":"VLOOKUP(B90,'[1]Ko tgia'!$B$2:$M$1900,4,0)","v":"1921349517"},{"$f":"VLOOKUP(B90,'[1]Ko tgia'!$B$2:$M$1900,5,0)","v":"019203005833"},"28/07/2003",null,null,10,{"v":526500,"d":"526,500"},"K57CĐT.02","CK"]
[90,"K215520114430","Lê Huy Tùng",{"$f":"VLOOKUP(B91,'[1]Ko tgia'!$B$2:$M$1900,4,0)","v":"1921440853"},{"$f":"VLOOKUP(B91,'[1]Ko tgia'!$B$2:$M$1900,5,0)","v":"019203012067"},"17/07/2003",null,null,10,{"v":526500,"d":"526,500"},"K57CĐT.02","CK"]
[91,"K215520114016","Nguyễn Duy Đức",{"$f":"VLOOKUP(B92,'[1]Ko tgia'!$B$2:$M$1900,4,0)","v":"1921465711"},{"$f":"VLOOKUP(B92,'[1]Ko tgia'!$B$2:$M$1900,5,0)","v":"019203009530"},"28/12/2003",null,null,10,{"v":526500,"d":"526,500"},"K57CĐT.02","CK"]
[92,"K215520114130","Nguyễn Trung Kiên",{"$f":"VLOOKUP(B93,'[1]Ko tgia'!$B$2:$M$1900,4,0)","v":"2420242710"},{"$f":"VLOOKUP(B93,'[1]Ko tgia'!$B$2:$M$1900,5,0)","v":"024203011480"},"24/06/2003",null,null,10,{"v":526500,"d":"526,500"},"K57CĐT.02","CK"]
[93,"K215520114152","Bùi Xuân Thu",{"$f":"VLOOKUP(B94,'[1]Ko tgia'!$B$2:$M$1900,4,0)","v":"2420294877"},{"$f":"VLOOKUP(B94,'[1]Ko tgia'!$B$2:$M$1900,5,0)","v":"024203003025"},"22/08/2003",null,null,10,{"v":526500,"d":"526,500"},"K57CĐT.02","CK"]
[94,"K215520114225","Nguyễn Đức Dũng",{"$f":"VLOOKUP(B95,'[1]Ko tgia'!$B$2:$M$1900,4,0)","v":"2420695391"},{"$f":"VLOOKUP(B95,'[1]Ko tgia'!$B$2:$M$1900,5,0)","v":"024203017043"},"31/10/2003",null,null,10,{"v":526500,"d":"526,500"},"K57CĐT.02","CK"]
[95,"K215520114092","Thân Mai Thanh Bình",{"$f":"VLOOKUP(B96,'[1]Ko tgia'!$B$2:$M$1900,4,0)","v":"2421139760"},{"$f":"VLOOKUP(B96,'[1]Ko tgia'!$B$2:$M$1900,5,0)","v":"024203005157"},"05/05/2003",null,null,10,{"v":526500,"d":"526,500"},"K57CĐT.02","CK"]
[96,"K215520114090","Phạm Xuân Bắc",{"$f":"VLOOKUP(B97,'[1]Ko tgia'!$B$2:$M$1900,4,0)","v":"2421954453"},{"$f":"VLOOKUP(B97,'[1]Ko tgia'!$B$2:$M$1900,5,0)","v":"024203000726"},"02/05/2003",null,null,10,{"v":526500,"d":"526,500"},"K57CĐT.02","CK"]
[97,"K215520114114","Đặng Thế Hiệp",{"$f":"VLOOKUP(B98,'[1]Ko tgia'!$B$2:$M$1900,4,0)","v":"2422051681"},{"$f":"VLOOKUP(B98,'[1]Ko tgia'!$B$2:$M$1900,5,0)","v":"024203007838"},"03/06/2003",null,null,10,{"v":526500,"d":"526,500"},"K57CĐT.02","CK"]
[98,"K215520114220","Nguyễn Đình Trung",{"$f":"VLOOKUP(B99,'[1]Ko tgia'!$B$2:$M$1900,4,0)","v":"2422071539"},{"$f":"VLOOKUP(B99,'[1]Ko tgia'!$B$2:$M$1900,5,0)","v":"024203003327"},"12/04/2003",null,null,10,{"v":526500,"d":"526,500"},"K57CĐT.02","CK"]
[99,"K215520114431","Nguyễn Hải Anh",{"$f":"VLOOKUP(B100,'[1]Ko tgia'!$B$2:$M$1900,4,0)","v":"2620484410"},{"$f":"VLOOKUP(B100,'[1]Ko tgia'!$B$2:$M$1900,5,0)","v":"002203000038"},"27/09/2003",null,null,10,{"v":526500,"d":"526,500"},"K57CĐT.02","CK"]
[100,"K215520114420","Nguyễn Đình Trung",{"$f":"VLOOKUP(B101,'[1]Ko tgia'!$B$2:$M$1900,4,0)","v":"2721174687"},{"$f":"VLOOKUP(B101,'[1]Ko tgia'!$B$2:$M$1900,5,0)","v":"027203003072"},"30/10/2003",null,null,10,{"v":526500,"d":"526,500"},"K57CĐT.02","CK"]
[101,"K215520114257","Hoàng Anh Đức",{"$f":"VLOOKUP(B102,'[1]Ko tgia'!$B$2:$M$1900,4,0)","v":"0820400473"},{"$f":"VLOOKUP(B102,'[1]Ko tgia'!$B$2:$M$1900,5,0)","v":"008203003195"},"09/10/2003",null,null,10,{"v":526500,"d":"526,500"},"K57CĐT.03","CK"]
[102,"K215520114287","Đặng Đức Mạnh",{"$f":"VLOOKUP(B103,'[1]Ko tgia'!$B$2:$M$1900,4,0)","v":"1520778135"},{"$f":"VLOOKUP(B103,'[1]Ko tgia'!$B$2:$M$1900,5,0)","v":"015203000605"},"18/05/2003",null,null,10,{"v":526500,"d":"526,500"},"K57CĐT.03","CK"]
[103,"K215520114306","Trần Thế Tài",{"$f":"VLOOKUP(B104,'[1]Ko tgia'!$B$2:$M$1900,4,0)","v":"1920567611"},{"$f":"VLOOKUP(B104,'[1]Ko tgia'!$B$2:$M$1900,5,0)","v":"019203001229"},"02/11/2003",null,null,10,{"v":526500,"d":"526,500"},"K57CĐT.03","CK"]
[104,"K215520114251","Trần Quốc Đạt",{"$f":"VLOOKUP(B105,'[1]Ko tgia'!$B$2:$M$1900,4,0)","v":"1921078937"},{"$f":"VLOOKUP(B105,'[1]Ko tgia'!$B$2:$M$1900,5,0)","v":"019203002169"},"12/05/2003",null,null,10,{"v":526500,"d":"526,500"},"K57CĐT.03","CK"]
[105,"K215520114264","Dương Tiến Duy",{"$f":"VLOOKUP(B106,'[1]Ko tgia'!$B$2:$M$1900,4,0)","v":"1921290892"},{"$f":"VLOOKUP(B106,'[1]Ko tgia'!$B$2:$M$1900,5,0)","v":"019203003497"},"14/10/2003",null,null,10,{"v":526500,"d":"526,500"},"K57CĐT.03","CK"]
[106,"K215520114444","Nguyễn Văn Tài",{"$f":"VLOOKUP(B107,'[1]Ko tgia'!$B$2:$M$1900,4,0)","v":"2421474043"},{"$f":"VLOOKUP(B107,'[1]Ko tgia'!$B$2:$M$1900,5,0)","v":"024203003440"},"27/02/2003",null,null,10,{"v":526500,"d":"526,500"},"K57CĐT.03","CK"]
[107,"K215520114281","Đồng Văn Khởi",{"$f":"VLOOKUP(B108,'[1]Ko tgia'!$B$2:$M$1900,4,0)","v":"2421515582"},{"$f":"VLOOKUP(B108,'[1]Ko tgia'!$B$2:$M$1900,5,0)","v":"024203011442"},"16/12/2003",null,null,10,{"v":526500,"d":"526,500"},"K57CĐT.03","CK"]
[108,"K215520114249","Đỗ Tấn Đạt",{"$f":"VLOOKUP(B109,'[1]Ko tgia'!$B$2:$M$1900,4,0)","v":"2422059790"},{"$f":"VLOOKUP(B109,'[1]Ko tgia'!$B$2:$M$1900,5,0)","v":"024203002790"},"10/10/2003",null,null,10,{"v":526500,"d":"526,500"},"K57CĐT.03","CK"]
[109,"K215520114456","Nguyễn Quang Huy",{"$f":"VLOOKUP(B110,'[1]Ko tgia'!$B$2:$M$1900,4,0)","v":"2620619087"},{"$f":"VLOOKUP(B110,'[1]Ko tgia'!$B$2:$M$1900,5,0)","v":"026203001676"},"30/12/2003",null,null,10,{"v":526500,"d":"526,500"},"K57CĐT.03","CK"]
[110,"K215520114300","Đỗ Minh Quang",{"$f":"VLOOKUP(B111,'[1]Ko tgia'!$B$2:$M$1900,4,0)","v":"2620860113"},{"$f":"VLOOKUP(B111,'[1]Ko tgia'!$B$2:$M$1900,5,0)","v":"026203000470"},"01/10/2003",null,null,10,{"v":526500,"d":"526,500"},"K57CĐT.03","CK"]
[111,"K215520114310","Nguyễn Đình Thịnh",{"$f":"VLOOKUP(B112,'[1]Ko tgia'!$B$2:$M$1900,4,0)","v":"3420674813"},{"$f":"VLOOKUP(B112,'[1]Ko tgia'!$B$2:$M$1900,5,0)","v":"034203006614"},"30/01/2003",null,null,10,{"v":526500,"d":"526,500"},"K57CĐT.03","CK"]
[112,"K215520114346","Ngô Trung Đức",{"$f":"VLOOKUP(B113,'[1]Ko tgia'!$B$2:$M$1900,4,0)","v":"1920206176"},{"$f":"VLOOKUP(B113,'[1]Ko tgia'!$B$2:$M$1900,5,0)","v":"019203008700"},"29/10/2003",null,null,10,{"v":526500,"d":"526,500"},"K57CĐT.04","CK"]
[113,"K215520114340","Hoàng Đạt",{"$f":"VLOOKUP(B114,'[1]Ko tgia'!$B$2:$M$1900,4,0)","v":"1920954036"},{"$f":"VLOOKUP(B114,'[1]Ko tgia'!$B$2:$M$1900,5,0)","v":"019203001001"},"18/05/2003",null,null,10,{"v":526500,"d":"526,500"},"K57CĐT.04","CK"]
[114,"K215520114360","Nguyễn Việt Hoàng",{"$f":"VLOOKUP(B115,'[1]Ko tgia'!$B$2:$M$1900,4,0)","v":"1921049720"},{"$f":"VLOOKUP(B115,'[1]Ko tgia'!$B$2:$M$1900,5,0)","v":"019203011833"},"09/06/2003",null,null,10,{"v":526500,"d":"526,500"},"K57CĐT.04","CK"]
[115,"K215520114344","Đào Duy Đức",{"$f":"VLOOKUP(B116,'[1]Ko tgia'!$B$2:$M$1900,4,0)","v":"2420322417"},{"$f":"VLOOKUP(B116,'[1]Ko tgia'!$B$2:$M$1900,5,0)","v":"024203004322"},"11/12/2003",null,null,10,{"v":526500,"d":"526,500"},"K57CĐT.04","CK"]
[116,"K215520114370","Nguyễn Thanh Lâm",{"$f":"VLOOKUP(B117,'[1]Ko tgia'!$B$2:$M$1900,4,0)","v":"2421250501"},{"$f":"VLOOKUP(B117,'[1]Ko tgia'!$B$2:$M$1900,5,0)","v":"024203006114"},"09/08/2003",null,null,10,{"v":526500,"d":"526,500"},"K57CĐT.04","CK"]
[117,"K215520114331","Chu Văn Binh",{"$f":"VLOOKUP(B118,'[1]Ko tgia'!$B$2:$M$1900,4,0)","v":"2421597534"},{"$f":"VLOOKUP(B118,'[1]Ko tgia'!$B$2:$M$1900,5,0)","v":"024203010536"},"08/04/2003",null,null,10,{"v":526500,"d":"526,500"},"K57CĐT.04","CK"]
[118,"K215520114328","Nguyễn Hoàng Anh",{"$f":"VLOOKUP(B119,'[1]Ko tgia'!$B$2:$M$1900,4,0)","v":"2422021169"},{"$f":"VLOOKUP(B119,'[1]Ko tgia'!$B$2:$M$1900,5,0)","v":"024203007710"},"28/08/2003",null,null,10,{"v":526500,"d":"526,500"},"K57CĐT.04","CK"]
[119,"K215520114195","Kiều Quang Linh",{"$f":"VLOOKUP(B120,'[1]Ko tgia'!$B$2:$M$1900,4,0)","v":"1921289789"},{"$f":"VLOOKUP(B120,'[1]Ko tgia'!$B$2:$M$1900,5,0)","v":"019203008566"},"19/07/2003",null,null,10,{"v":526500,"d":"526,500"},"K57CĐT-CLC.01","CK"]
[120,"K215520114198","Hoàng Minh Hiệp",{"$f":"VLOOKUP(B121,'[1]Ko tgia'!$B$2:$M$1900,4,0)","v":"2420383164"},{"$f":"VLOOKUP(B121,'[1]Ko tgia'!$B$2:$M$1900,5,0)","v":"024203003114"},"24/03/2003",null,null,10,{"v":526500,"d":"526,500"},"K57CĐT-CLC.01","CK"]
[121,"K215520309016","Trần Nam Anh",{"$f":"VLOOKUP(B122,'[1]Ko tgia'!$B$2:$M$1900,4,0)","v":"0124561365"},{"$f":"VLOOKUP(B122,'[1]Ko tgia'!$B$2:$M$1900,5,0)","v":"01201009929"},"08/05/2001",null,null,10,{"v":526500,"d":"526,500"},"K57CVL.01","CK"]
[122,"K215520309014","Giàng Quyết Thắng",{"$f":"VLOOKUP(B123,'[1]Ko tgia'!$B$2:$M$1900,4,0)","v":"1020291332"},{"$f":"VLOOKUP(B123,'[1]Ko tgia'!$B$2:$M$1900,5,0)","v":"010203000278"},"20/11/2003",null,null,10,{"v":526500,"d":"526,500"},"K57CVL.01","CK"]
[123,"K215520309019","Hoàng Trường Thành",{"$f":"VLOOKUP(B124,'[1]Ko tgia'!$B$2:$M$1900,4,0)","v":"1020827511"},{"$f":"VLOOKUP(B124,'[1]Ko tgia'!$B$2:$M$1900,5,0)","v":"010203009596"},"12/12/2003",null,null,10,{"v":526500,"d":"526,500"},"K57CVL.01","CK"]
[124,"K215520114213","Nguyễn Ngọc Quyết",{"$f":"VLOOKUP(B125,'[1]Ko tgia'!$B$2:$M$1900,4,0)","v":"1921146130"},{"$f":"VLOOKUP(B125,'[1]Ko tgia'!$B$2:$M$1900,5,0)","v":"019203000230"},"27/07/2003",null,null,10,{"v":526500,"d":"526,500"},"K57CVL.01","CK"]
[125,"K215520114046","Đặng Lê Huỳnh",{"$f":"VLOOKUP(B126,'[1]Ko tgia'!$B$2:$M$1900,4,0)","v":"1921151769"},null,"29/07/2003",null,null,10,{"v":526500,"d":"526,500"},"K57CVL.01","CK"]
[126,"K215520103170","Bùi Quang Tuấn",{"$f":"VLOOKUP(B127,'[1]Ko tgia'!$B$2:$M$1900,4,0)","v":"1921456397"},{"$f":"VLOOKUP(B127,'[1]Ko tgia'!$B$2:$M$1900,5,0)","v":"019203000384"},"11/08/2003",null,null,10,{"v":526500,"d":"526,500"},"K57CVL.01","CK"]
[127,"K205520114001","Nguyễn Trần Minh Hiếu",{"$f":"VLOOKUP(B128,'[1]Ko tgia'!$B$2:$M$1900,4,0)","v":"2420345862"},null,"06/10/2000",null,null,10,{"v":526500,"d":"526,500"},"K57CVL.01","CK"]
[128,"K215520309005","Ngô Thế Thưởng",{"$f":"VLOOKUP(B129,'[1]Ko tgia'!$B$2:$M$1900,4,0)","v":"2421310260"},null,"17/02/2001",null,null,10,{"v":526500,"d":"526,500"},"K57CVL.01","CK"]
[129,"K215520309015","Trần Công Anh",{"$f":"VLOOKUP(B130,'[1]Ko tgia'!$B$2:$M$1900,4,0)","v":"3020309607"},{"$f":"VLOOKUP(B130,'[1]Ko tgia'!$B$2:$M$1900,5,0)","v":"030201010927"},"11/08/2001",null,null,10,{"v":526500,"d":"526,500"},"K57CVL.01","CK"]
[130,"K215520320007","Mai Khánh Linh",{"$f":"VLOOKUP(B131,'[1]Ko tgia'!$B$2:$M$1900,4,0)","v":"1920436863"},{"$f":"VLOOKUP(B131,'[1]Ko tgia'!$B$2:$M$1900,5,0)","v":"019303004137"},"16/09/2003",{"$f":"VLOOKUP(B131,'[2]Ko tgia'!$C$2:$K$9900,8,0)","v":"x"},null,10,{"v":526500,"d":"526,500"},"K57KTM.01","CK"]
[131,"K225520103039","Nguyễn Thái Nguyên",{"$f":"VLOOKUP(B132,'[1]Ko tgia'!$B$2:$M$1900,4,0)","v":"1020021421"},{"$f":"VLOOKUP(B132,'[1]Ko tgia'!$B$2:$M$1900,5,0)","v":"010204007786"},"03/12/2004",null,null,10,{"v":526500,"d":"526,500"},"K58CCM.K01","CK"]
[132,"K225520103004","Nguyễn Duy Cường",{"$f":"VLOOKUP(B133,'[1]Ko tgia'!$B$2:$M$1900,4,0)","v":"1520709749"},null,"23/04/2004",null,null,10,{"v":526500,"d":"526,500"},"K58CCM.K01","CK"]
[133,"K225520114251","Nguyễn Minh Huy",{"$f":"VLOOKUP(B134,'[1]Ko tgia'!$B$2:$M$1900,4,0)","v":"1520794257"},{"$f":"VLOOKUP(B134,'[1]Ko tgia'!$B$2:$M$1900,5,0)","v":"015204003897"},"25/09/2004",null,null,10,{"v":526500,"d":"526,500"},"K58CCM.K01","CK"]
[134,"K225520103023","Đào Tiến Hùng",{"$f":"VLOOKUP(B135,'[1]Ko tgia'!$B$2:$M$1900,4,0)","v":"1920049298"},{"$f":"VLOOKUP(B135,'[1]Ko tgia'!$B$2:$M$1900,5,0)","v":"019204003067"},"06/04/2004",null,null,10,{"v":526500,"d":"526,500"},"K58CCM.K01","CK"]
[135,"K225520103010","Phạm Nhật Khánh Duy",{"$f":"VLOOKUP(B136,'[1]Ko tgia'!$B$2:$M$1900,4,0)","v":"1920068543"},{"$f":"VLOOKUP(B136,'[1]Ko tgia'!$B$2:$M$1900,5,0)","v":"019204000364"},"15/04/2004",null,null,10,{"v":526500,"d":"526,500"},"K58CCM.K01","CK"]
[136,"K225520103036","Đào Trần Đăng Minh",{"$f":"VLOOKUP(B137,'[1]Ko tgia'!$B$2:$M$1900,4,0)","v":"1920103001"},{"$f":"VLOOKUP(B137,'[1]Ko tgia'!$B$2:$M$1900,5,0)","v":"019204002047"},"02/09/2004",null,null,10,{"v":526500,"d":"526,500"},"K58CCM.K01","CK"]
[137,"K225520103034","Nhữ Bảo Long",{"$f":"VLOOKUP(B138,'[1]Ko tgia'!$B$2:$M$1900,4,0)","v":"1920103813"},{"$f":"VLOOKUP(B138,'[1]Ko tgia'!$B$2:$M$1900,5,0)","v":"019204001980"},"01/04/2004",null,null,10,{"v":526500,"d":"526,500"},"K58CCM.K01","CK"]
[138,"K225520103012","Đặng Văn Giang",{"$f":"VLOOKUP(B139,'[1]Ko tgia'!$B$2:$M$1900,4,0)","v":"1920285938"},{"$f":"VLOOKUP(B139,'[1]Ko tgia'!$B$2:$M$1900,5,0)","v":"019204002348"},"28/09/2004",null,null,10,{"v":526500,"d":"526,500"},"K58CCM.K01","CK"]
[139,"K225520103011","Dương Khương Duy",{"$f":"VLOOKUP(B140,'[1]Ko tgia'!$B$2:$M$1900,4,0)","v":"1920320130"},{"$f":"VLOOKUP(B140,'[1]Ko tgia'!$B$2:$M$1900,5,0)","v":"019204001257"},"04/08/2004",null,null,10,{"v":526500,"d":"526,500"},"K58CCM.K01","CK"]
[140,"K225520103002","Lê Tuấn Anh",{"$f":"VLOOKUP(B141,'[1]Ko tgia'!$B$2:$M$1900,4,0)","v":"1921144247"},{"$f":"VLOOKUP(B141,'[1]Ko tgia'!$B$2:$M$1900,5,0)","v":"019204005736"},"24/09/2004",null,null,10,{"v":526500,"d":"526,500"},"K58CCM.K01","CK"]
[141,"K225520103062","Ngô Đức Việt",{"$f":"VLOOKUP(B142,'[1]Ko tgia'!$B$2:$M$1900,4,0)","v":"3620637766"},{"$f":"VLOOKUP(B142,'[1]Ko tgia'!$B$2:$M$1900,5,0)","v":"036204004680"},"18/10/2004",null,null,10,{"v":526500,"d":"526,500"},"K58CCM.K01","CK"]
[142,"K225520103031","Nguyễn Trung Kiên",{"$f":"VLOOKUP(B143,'[1]Ko tgia'!$B$2:$M$1900,4,0)","v":"3720162803"},{"$f":"VLOOKUP(B143,'[1]Ko tgia'!$B$2:$M$1900,5,0)","v":"037204005129"},"06/09/2004",null,null,10,{"v":526500,"d":"526,500"},"K58CCM.K01","CK"]
[143,"K225520103005","Nguyễn Văn Đạt",{"$f":"VLOOKUP(B144,'[1]Ko tgia'!$B$2:$M$1900,4,0)","v":"4016748505"},{"$f":"VLOOKUP(B144,'[1]Ko tgia'!$B$2:$M$1900,5,0)","v":"040204009377"},"22/03/2004",null,null,10,{"v":526500,"d":"526,500"},"K58CCM.K01","CK"]
[144,"K225520103066","Nguyễn Hải Anh",{"$f":"VLOOKUP(B145,'[1]Ko tgia'!$B$2:$M$1900,4,0)","v":"1920155314"},{"$f":"VLOOKUP(B145,'[1]Ko tgia'!$B$2:$M$1900,5,0)","v":"019204006793"},"30/06/2004",null,null,10,{"v":526500,"d":"526,500"},"K58CCM.K02","CK"]
[145,"K225520103125","Lê Quốc Việt",{"$f":"VLOOKUP(B146,'[1]Ko tgia'!$B$2:$M$1900,4,0)","v":"1920310375"},{"$f":"VLOOKUP(B146,'[1]Ko tgia'!$B$2:$M$1900,5,0)","v":"019204002336"},"26/12/2004",null,null,10,{"v":526500,"d":"526,500"},"K58CCM.K02","CK"]
[146,"K225520103069","Lưu Tiến Đạt",{"$f":"VLOOKUP(B147,'[1]Ko tgia'!$B$2:$M$1900,4,0)","v":"1920623991"},{"$f":"VLOOKUP(B147,'[1]Ko tgia'!$B$2:$M$1900,5,0)","v":"019204000620"},"16/05/2004",null,null,10,{"v":526500,"d":"526,500"},"K58CCM.K02","CK"]
[147,"K225520103113","Dương Văn Thảo",{"$f":"VLOOKUP(B148,'[1]Ko tgia'!$B$2:$M$1900,4,0)","v":"1920972660"},{"$f":"VLOOKUP(B148,'[1]Ko tgia'!$B$2:$M$1900,5,0)","v":"019204008941"},"02/12/2004",null,null,10,{"v":526500,"d":"526,500"},"K58CCM.K02","CK"]
[148,"K225520103130","Nguyễn Huy Hoàng",{"$f":"VLOOKUP(B149,'[1]Ko tgia'!$B$2:$M$1900,4,0)","v":"1921033545"},{"$f":"VLOOKUP(B149,'[1]Ko tgia'!$B$2:$M$1900,5,0)","v":"019204002748"},"12/09/2004",null,null,10,{"v":526500,"d":"526,500"},"K58CCM.K02","CK"]
[149,"K225520103078","Nguyễn Anh Hào",{"$f":"VLOOKUP(B150,'[1]Ko tgia'!$B$2:$M$1900,4,0)","v":"2421506842"},{"$f":"VLOOKUP(B150,'[1]Ko tgia'!$B$2:$M$1900,5,0)","v":"024204004298"},"21/06/2004",null,null,10,{"v":526500,"d":"526,500"},"K58CCM.K02","CK"]
[150,"K225520103068","Ngô Văn Cường",{"$f":"VLOOKUP(B151,'[1]Ko tgia'!$B$2:$M$1900,4,0)","v":"2421564130"},{"$f":"VLOOKUP(B151,'[1]Ko tgia'!$B$2:$M$1900,5,0)","v":"024204008858"},"14/02/2004",null,null,10,{"v":526500,"d":"526,500"},"K58CCM.K02","CK"]
[151,"K225520103076","Trần Văn Giang",{"$f":"VLOOKUP(B152,'[1]Ko tgia'!$B$2:$M$1900,4,0)","v":"2421584706"},{"$f":"VLOOKUP(B152,'[1]Ko tgia'!$B$2:$M$1900,5,0)","v":"024204014267"},"14/04/2004",null,null,10,{"v":526500,"d":"526,500"},"K58CCM.K02","CK"]
[152,"K225520103071","Nguyễn Văn Đức",{"$f":"VLOOKUP(B153,'[1]Ko tgia'!$B$2:$M$1900,4,0)","v":"2720269212"},{"$f":"VLOOKUP(B153,'[1]Ko tgia'!$B$2:$M$1900,5,0)","v":"027204006291"},"19/12/2004",null,null,10,{"v":526500,"d":"526,500"},"K58CCM.K02","CK"]
[153,"K225520103082","Nguyễn Duy Hiệu",{"$f":"VLOOKUP(B154,'[1]Ko tgia'!$B$2:$M$1900,4,0)","v":"3420267616"},null,"01/03/2004",null,null,10,{"v":526500,"d":"526,500"},"K58CCM.K02","CK"]
[154,"K225520114001","Trần Trường An",{"$f":"VLOOKUP(B155,'[1]Ko tgia'!$B$2:$M$1900,4,0)","v":"0124566503"},{"$f":"VLOOKUP(B155,'[1]Ko tgia'!$B$2:$M$1900,5,0)","v":"001204036721"},"28/01/2004",null,null,10,{"v":526500,"d":"526,500"},"K58CĐT.K01","CK"]
[155,"K225520114034","Nguyễn Trọng Huân",{"$f":"VLOOKUP(B156,'[1]Ko tgia'!$B$2:$M$1900,4,0)","v":"1920164543"},{"$f":"VLOOKUP(B156,'[1]Ko tgia'!$B$2:$M$1900,5,0)","v":"019204009677"},"25/05/2004",null,null,10,{"v":526500,"d":"526,500"},"K58CĐT.K01","CK"]
[156,"K225520114065","Nguyễn Duy Thiết",{"$f":"VLOOKUP(B157,'[1]Ko tgia'!$B$2:$M$1900,4,0)","v":"1920276480"},{"$f":"VLOOKUP(B157,'[1]Ko tgia'!$B$2:$M$1900,5,0)","v":"019204001258"},"08/11/2004",null,null,10,{"v":526500,"d":"526,500"},"K58CĐT.K01","CK"]
[157,"K225520114036","Lê Mạnh Hưng",{"$f":"VLOOKUP(B158,'[1]Ko tgia'!$B$2:$M$1900,4,0)","v":"1920278067"},{"$f":"VLOOKUP(B158,'[1]Ko tgia'!$B$2:$M$1900,5,0)","v":"019204002357"},"25/09/2004",null,null,10,{"v":526500,"d":"526,500"},"K58CĐT.K01","CK"]
[158,"K225520114046","Đào Ngọc Minh",{"$f":"VLOOKUP(B159,'[1]Ko tgia'!$B$2:$M$1900,4,0)","v":"1920280424"},{"$f":"VLOOKUP(B159,'[1]Ko tgia'!$B$2:$M$1900,5,0)","v":"019204000011"},"17/01/2004",null,null,10,{"v":526500,"d":"526,500"},"K58CĐT.K01","CK"]
[159,"K225520114020","Trần Khánh Duy",{"$f":"VLOOKUP(B160,'[1]Ko tgia'!$B$2:$M$1900,4,0)","v":"1920444219"},{"$f":"VLOOKUP(B160,'[1]Ko tgia'!$B$2:$M$1900,5,0)","v":"019204001377"},"22/08/2004",null,null,10,{"v":526500,"d":"526,500"},"K58CĐT.K01","CK"]
[160,"K225520114066","Nguyễn Đức Thịnh",{"$f":"VLOOKUP(B161,'[1]Ko tgia'!$B$2:$M$1900,4,0)","v":"1920469459"},{"$f":"VLOOKUP(B161,'[1]Ko tgia'!$B$2:$M$1900,5,0)","v":"019204008647"},"31/08/2004",null,null,10,{"v":526500,"d":"526,500"},"K58CĐT.K01","CK"]
[161,"K225520114021","Hà Đình Duy",{"$f":"VLOOKUP(B162,'[1]Ko tgia'!$B$2:$M$1900,4,0)","v":"1920722389"},{"$f":"VLOOKUP(B162,'[1]Ko tgia'!$B$2:$M$1900,5,0)","v":"019204008419"},"17/03/2004",null,null,10,{"v":526500,"d":"526,500"},"K58CĐT.K01","CK"]
[162,"K225520114069","Trần Quốc Tiến",{"$f":"VLOOKUP(B163,'[1]Ko tgia'!$B$2:$M$1900,4,0)","v":"1921006781"},{"$f":"VLOOKUP(B163,'[1]Ko tgia'!$B$2:$M$1900,5,0)","v":"019204006496"},"18/11/2004",null,null,10,{"v":526500,"d":"526,500"},"K58CĐT.K01","CK"]
[163,"K225520114064","Đàm Thị Thanh Thảo",{"$f":"VLOOKUP(B164,'[1]Ko tgia'!$B$2:$M$1900,4,0)","v":"1921041137"},{"$f":"VLOOKUP(B164,'[1]Ko tgia'!$B$2:$M$1900,5,0)","v":"019303000439"},"10/08/2003",{"$f":"VLOOKUP(B164,'[2]Ko tgia'!$C$2:$K$9900,8,0)","v":"x"},null,10,{"v":526500,"d":"526,500"},"K58CĐT.K01","CK"]
[164,"K225520114032","Nguyễn Thiện Hoàng",{"$f":"VLOOKUP(B165,'[1]Ko tgia'!$B$2:$M$1900,4,0)","v":"1921208078"},{"$f":"VLOOKUP(B165,'[1]Ko tgia'!$B$2:$M$1900,5,0)","v":"019204007950"},"28/03/2004",null,null,10,{"v":526500,"d":"526,500"},"K58CĐT.K01","CK"]
[165,"K225520114058","Trần Quang Son",{"$f":"VLOOKUP(B166,'[1]Ko tgia'!$B$2:$M$1900,4,0)","v":"1921392666"},{"$f":"VLOOKUP(B166,'[1]Ko tgia'!$B$2:$M$1900,5,0)","v":"019204004790"},"10/07/2004",null,null,10,{"v":526500,"d":"526,500"},"K58CĐT.K01","CK"]
[166,"K225520114077","Lục Tiến Tường",{"$f":"VLOOKUP(B167,'[1]Ko tgia'!$B$2:$M$1900,4,0)","v":"2420316122"},{"$f":"VLOOKUP(B167,'[1]Ko tgia'!$B$2:$M$1900,5,0)","v":"024204011098"},"28/09/2004",null,null,10,{"v":526500,"d":"526,500"},"K58CĐT.K01","CK"]
[167,"K225520114289","Hà Hoàng Anh",{"$f":"VLOOKUP(B168,'[1]Ko tgia'!$B$2:$M$1900,4,0)","v":"2421554883"},{"$f":"VLOOKUP(B168,'[1]Ko tgia'!$B$2:$M$1900,5,0)","v":"024204001304"},"22/12/2004",null,null,10,{"v":526500,"d":"526,500"},"K58CĐT.K01","CK"]
[168,"K225520114051","Nguyễn Đăng Phong",{"$f":"VLOOKUP(B169,'[1]Ko tgia'!$B$2:$M$1900,4,0)","v":"2421603405"},{"$f":"VLOOKUP(B169,'[1]Ko tgia'!$B$2:$M$1900,5,0)","v":"024204003369"},"15/07/2004",null,null,10,{"v":526500,"d":"526,500"},"K58CĐT.K01","CK"]
[169,"K225520114023","Trần Ngọc Duy",{"$f":"VLOOKUP(B170,'[1]Ko tgia'!$B$2:$M$1900,4,0)","v":"2620069419"},{"$f":"VLOOKUP(B170,'[1]Ko tgia'!$B$2:$M$1900,5,0)","v":"026204006563"},"14/07/2004",null,null,10,{"v":526500,"d":"526,500"},"K58CĐT.K01","CK"]
[170,"K225520114254","Trịnh Tuấn Cường",{"$f":"VLOOKUP(B171,'[1]Ko tgia'!$B$2:$M$1900,4,0)","v":"3520533015"},{"$f":"VLOOKUP(B171,'[1]Ko tgia'!$B$2:$M$1900,5,0)","v":"035204007834"},"09/04/2004",null,null,10,{"v":526500,"d":"526,500"},"K58CĐT.K01","CK"]
[171,"K225520114143","Đỗ Tiến Thành",{"$f":"VLOOKUP(B172,'[1]Ko tgia'!$B$2:$M$1900,4,0)","v":"0123206621"},{"$f":"VLOOKUP(B172,'[1]Ko tgia'!$B$2:$M$1900,5,0)","v":"001204026817"},"29/11/2004",null,null,10,{"v":526500,"d":"526,500"},"K58CĐT.K02","CK"]
[172,"K225520114128","Nguyễn Phúc Nam",{"$f":"VLOOKUP(B173,'[1]Ko tgia'!$B$2:$M$1900,4,0)","v":"0620190067"},{"$f":"VLOOKUP(B173,'[1]Ko tgia'!$B$2:$M$1900,5,0)","v":"006204000143"},"28/06/2004",null,null,10,{"v":526500,"d":"526,500"},"K58CĐT.K02","CK"]
[173,"K225520114139","Lù Thành Tài",{"$f":"VLOOKUP(B174,'[1]Ko tgia'!$B$2:$M$1900,4,0)","v":"1220425374"},{"$f":"VLOOKUP(B174,'[1]Ko tgia'!$B$2:$M$1900,5,0)","v":"012204000383"},"06/01/2004",null,null,10,{"v":526500,"d":"526,500"},"K58CĐT.K02","CK"]
[174,"K225520114120","Đỗ Xuân Khánh",{"$f":"VLOOKUP(B175,'[1]Ko tgia'!$B$2:$M$1900,4,0)","v":"1920570436"},{"$f":"VLOOKUP(B175,'[1]Ko tgia'!$B$2:$M$1900,5,0)","v":"019204000655"},"04/01/2004",null,null,10,{"v":526500,"d":"526,500"},"K58CĐT.K02","CK"]
[175,"K225520114100","Đồng Phương Duy",{"$f":"VLOOKUP(B176,'[1]Ko tgia'!$B$2:$M$1900,4,0)","v":"1921000423"},{"$f":"VLOOKUP(B176,'[1]Ko tgia'!$B$2:$M$1900,5,0)","v":"019204010185"},"03/01/2004",null,null,10,{"v":526500,"d":"526,500"},"K58CĐT.K02","CK"]
[176,"K225520114271","Dương Quang Khánh",{"$f":"VLOOKUP(B177,'[1]Ko tgia'!$B$2:$M$1900,4,0)","v":"1921289090"},null,"05/08/2004",null,null,10,{"v":526500,"d":"526,500"},"K58CĐT.K02","CK"]
[177,"K225520114134","Phạm Anh Quân",{"$f":"VLOOKUP(B178,'[1]Ko tgia'!$B$2:$M$1900,4,0)","v":"2020816277"},{"$f":"VLOOKUP(B178,'[1]Ko tgia'!$B$2:$M$1900,5,0)","v":"020204002582"},"18/11/2004",null,null,10,{"v":526500,"d":"526,500"},"K58CĐT.K02","CK"]
[178,"K225520114276","Nguyễn Đức Hùng",{"$f":"VLOOKUP(B179,'[1]Ko tgia'!$B$2:$M$1900,4,0)","v":"2420287495"},{"$f":"VLOOKUP(B179,'[1]Ko tgia'!$B$2:$M$1900,5,0)","v":"024204004947"},"28/07/2004",null,null,10,{"v":526500,"d":"526,500"},"K58CĐT.K02","CK"]
[179,"K225520114144","Nguyễn Đắc Thế",{"$f":"VLOOKUP(B180,'[1]Ko tgia'!$B$2:$M$1900,4,0)","v":"2420313315"},{"$f":"VLOOKUP(B180,'[1]Ko tgia'!$B$2:$M$1900,5,0)","v":"024204004538"},"11/05/2004",null,null,10,{"v":526500,"d":"526,500"},"K58CĐT.K02","CK"]
[180,"K225520114286","Hoàng Minh Tân",{"$f":"VLOOKUP(B181,'[1]Ko tgia'!$B$2:$M$1900,4,0)","v":"2420504059"},{"$f":"VLOOKUP(B181,'[1]Ko tgia'!$B$2:$M$1900,5,0)","v":"024201003709"},"28/09/2001",null,null,10,{"v":526500,"d":"526,500"},"K58CĐT.K02","CK"]
[181,"K225520114158","Trần Thành Văn",{"$f":"VLOOKUP(B182,'[1]Ko tgia'!$B$2:$M$1900,4,0)","v":"2420640621"},{"$f":"VLOOKUP(B182,'[1]Ko tgia'!$B$2:$M$1900,5,0)","v":"024204000506"},"24/02/2004",null,null,10,{"v":526500,"d":"526,500"},"K58CĐT.K02","CK"]
[182,"K225520114087","Vũ Xuân Chính",{"$f":"VLOOKUP(B183,'[1]Ko tgia'!$B$2:$M$1900,4,0)","v":"2420900555"},{"$f":"VLOOKUP(B183,'[1]Ko tgia'!$B$2:$M$1900,5,0)","v":"024204003931"},"25/02/2004",null,null,10,{"v":526500,"d":"526,500"},"K58CĐT.K02","CK"]
[183,"K225520114083","Phạm Việt Anh",{"$f":"VLOOKUP(B184,'[1]Ko tgia'!$B$2:$M$1900,4,0)","v":"2420992736"},{"$f":"VLOOKUP(B184,'[1]Ko tgia'!$B$2:$M$1900,5,0)","v":"024204003596"},"21/03/2004",null,null,10,{"v":526500,"d":"526,500"},"K58CĐT.K02","CK"]
[184,"K225520114106","Hà Sơn Hải",{"$f":"VLOOKUP(B185,'[1]Ko tgia'!$B$2:$M$1900,4,0)","v":"2421024686"},{"$f":"VLOOKUP(B185,'[1]Ko tgia'!$B$2:$M$1900,5,0)","v":"024204007476"},"15/12/2004",null,null,10,{"v":526500,"d":"526,500"},"K58CĐT.K02","CK"]
[185,"K225520114149","Phạm Ngọc Toản",{"$f":"VLOOKUP(B186,'[1]Ko tgia'!$B$2:$M$1900,4,0)","v":"2421317100"},{"$f":"VLOOKUP(B186,'[1]Ko tgia'!$B$2:$M$1900,5,0)","v":"024204010847"},"14/05/2004",null,null,10,{"v":526500,"d":"526,500"},"K58CĐT.K02","CK"]
[186,"K225520114240","Lê Văn Hoạt",{"$f":"VLOOKUP(B187,'[1]Ko tgia'!$B$2:$M$1900,4,0)","v":"2421616382"},{"$f":"VLOOKUP(B187,'[1]Ko tgia'!$B$2:$M$1900,5,0)","v":"024204000671"},"12/11/2004",null,null,10,{"v":526500,"d":"526,500"},"K58CĐT.K02","CK"]
[187,"K225520114086","Nguyễn Văn Chiến",{"$f":"VLOOKUP(B188,'[1]Ko tgia'!$B$2:$M$1900,4,0)","v":"2422046527"},{"$f":"VLOOKUP(B188,'[1]Ko tgia'!$B$2:$M$1900,5,0)","v":"024204004175"},"02/01/2004",null,null,10,{"v":526500,"d":"526,500"},"K58CĐT.K02","CK"]
[188,"K225520114275","Đào Bá Cảnh",{"$f":"VLOOKUP(B189,'[1]Ko tgia'!$B$2:$M$1900,4,0)","v":"2721115503"},{"$f":"VLOOKUP(B189,'[1]Ko tgia'!$B$2:$M$1900,5,0)","v":"027204008413"},"20/12/2004",null,null,10,{"v":526500,"d":"526,500"},"K58CĐT.K02","CK"]
[189,"K225520114220","Nguyễn Xuân Thành",{"$f":"VLOOKUP(B190,'[1]Ko tgia'!$B$2:$M$1900,4,0)","v":"0820029604"},{"$f":"VLOOKUP(B190,'[1]Ko tgia'!$B$2:$M$1900,5,0)","v":"008204001300"},"13/10/2004",null,null,10,{"v":526500,"d":"526,500"},"K58CĐT.K03","CK"]
[190,"K225520114171","Vi Quang Điệp",{"$f":"VLOOKUP(B191,'[1]Ko tgia'!$B$2:$M$1900,4,0)","v":"1920587835"},{"$f":"VLOOKUP(B191,'[1]Ko tgia'!$B$2:$M$1900,5,0)","v":"019204000743"},"11/02/2004",null,null,10,{"v":526500,"d":"526,500"},"K58CĐT.K03","CK"]
[191,"K225520114224","Dương Quang Thịnh",{"$f":"VLOOKUP(B192,'[1]Ko tgia'!$B$2:$M$1900,4,0)","v":"1921219361"},{"$f":"VLOOKUP(B192,'[1]Ko tgia'!$B$2:$M$1900,5,0)","v":"019204008018"},"26/09/2004",null,null,10,{"v":526500,"d":"526,500"},"K58CĐT.K03","CK"]
[192,"K225520114166","Hoàng Đức Chung",{"$f":"VLOOKUP(B193,'[1]Ko tgia'!$B$2:$M$1900,4,0)","v":"1921332191"},{"$f":"VLOOKUP(B193,'[1]Ko tgia'!$B$2:$M$1900,5,0)","v":"019204000387"},"09/09/2004",null,null,10,{"v":526500,"d":"526,500"},"K58CĐT.K03","CK"]
[193,"K225520114255","Vũ Bùi Minh Dương",{"$f":"VLOOKUP(B194,'[1]Ko tgia'!$B$2:$M$1900,4,0)","v":"2420271582"},{"$f":"VLOOKUP(B194,'[1]Ko tgia'!$B$2:$M$1900,5,0)","v":"024204005161"},"15/08/2004",null,null,10,{"v":526500,"d":"526,500"},"K58CĐT.K03","CK"]
[194,"K225520114262","Nguyễn Văn Thiêm",{"$f":"VLOOKUP(B195,'[1]Ko tgia'!$B$2:$M$1900,4,0)","v":"2421456362"},{"$f":"VLOOKUP(B195,'[1]Ko tgia'!$B$2:$M$1900,5,0)","v":"024204007242"},"11/07/2004",null,null,10,{"v":526500,"d":"526,500"},"K58CĐT.K03","CK"]
[195,"K225520114253","Nguyễn Văn Duy",{"$f":"VLOOKUP(B196,'[1]Ko tgia'!$B$2:$M$1900,4,0)","v":"2621232912"},{"$f":"VLOOKUP(B196,'[1]Ko tgia'!$B$2:$M$1900,5,0)","v":"026204009142"},"27/08/2004",null,null,10,{"v":526500,"d":"526,500"},"K58CĐT.K03","CK"]
[196,"K225520114229","Đào Văn Trung",{"$f":"VLOOKUP(B197,'[1]Ko tgia'!$B$2:$M$1900,4,0)","v":"2621239871"},{"$f":"VLOOKUP(B197,'[1]Ko tgia'!$B$2:$M$1900,5,0)","v":"033204009421"},"07/03/2004",null,null,10,{"v":526500,"d":"526,500"},"K58CĐT.K03","CK"]
[197,"K225520114200","Nguyễn Tuấn Kiệt",{"$f":"VLOOKUP(B198,'[1]Ko tgia'!$B$2:$M$1900,4,0)","v":"3021492964"},{"$f":"VLOOKUP(B198,'[1]Ko tgia'!$B$2:$M$1900,5,0)","v":"030204000638"},"06/11/2004",null,null,10,{"v":526500,"d":"526,500"},"K58CĐT.K03","CK"]
[198,"K225520114170","Dương Thế Đạt",{"$f":"VLOOKUP(B199,'[1]Ko tgia'!$B$2:$M$1900,4,0)","v":"3520287225"},{"$f":"VLOOKUP(B199,'[1]Ko tgia'!$B$2:$M$1900,5,0)","v":"035203004819"},"16/04/2003",null,null,10,{"v":526500,"d":"526,500"},"K58CĐT.K03","CK"]
[199,"K225520114214","Lê Minh Quyền",{"$f":"VLOOKUP(B200,'[1]Ko tgia'!$B$2:$M$1900,4,0)","v":"3620993272"},{"$f":"VLOOKUP(B200,'[1]Ko tgia'!$B$2:$M$1900,5,0)","v":"036204007490"},"31/08/2004",null,null,10,{"v":526500,"d":"526,500"},"K58CĐT.K03","CK"]
[200,"K225520114232","Trần Anh Tuấn",{"$f":"VLOOKUP(B201,'[1]Ko tgia'!$B$2:$M$1900,4,0)","v":"4017622310"},{"$f":"VLOOKUP(B201,'[1]Ko tgia'!$B$2:$M$1900,5,0)","v":"040203023361"},"26/10/2003",null,null,10,{"v":526500,"d":"526,500"},"K58CĐT.K03","CK"]
[201,"K225520114033","Võ Huy Hoàng",{"$f":"VLOOKUP(B202,'[1]Ko tgia'!$B$2:$M$1900,4,0)","v":"1921028260"},{"$f":"VLOOKUP(B202,'[1]Ko tgia'!$B$2:$M$1900,5,0)","v":"019204010636"},"12/07/2004",null,null,10,{"v":526500,"d":"526,500"},"K58CĐT-CLC.K01","CK"]
[202,"K225520114122","Từ Văn Lịch",{"$f":"VLOOKUP(B203,'[1]Ko tgia'!$B$2:$M$1900,4,0)","v":"2420835801"},{"$f":"VLOOKUP(B203,'[1]Ko tgia'!$B$2:$M$1900,5,0)","v":"024204002583"},"06/09/2004",null,null,10,{"v":526500,"d":"526,500"},"K58CĐT-CLC.K01","CK"]
[203,"K225520114003","Hà Việt Anh",{"$f":"VLOOKUP(B204,'[1]Ko tgia'!$B$2:$M$1900,4,0)","v":"2422030489"},{"$f":"VLOOKUP(B204,'[1]Ko tgia'!$B$2:$M$1900,5,0)","v":"024204004210"},"11/08/2004",null,null,10,{"v":526500,"d":"526,500"},"K58CĐT-CLC.K01","CK"]
[204,"K225510201020","Lê Hòa Hải",{"$f":"VLOOKUP(B205,'[1]Ko tgia'!$B$2:$M$1900,4,0)","v":"0121364502"},{"$f":"VLOOKUP(B205,'[1]Ko tgia'!$B$2:$M$1900,5,0)","v":"001204009937"},"19/05/2004",null,null,10,{"v":526500,"d":"526,500"},"K58CN-SXT.K01","CK"]
[205,"K225510201003","Phạm Tuấn Anh",{"$f":"VLOOKUP(B206,'[1]Ko tgia'!$B$2:$M$1900,4,0)","v":"0620282307"},{"$f":"VLOOKUP(B206,'[1]Ko tgia'!$B$2:$M$1900,5,0)","v":"034204011404"},"02/05/2004",null,null,10,{"v":526500,"d":"526,500"},"K58CN-SXT.K01","CK"]
[206,"K225510201067","Lâm Quang Vũ",{"$f":"VLOOKUP(B207,'[1]Ko tgia'!$B$2:$M$1900,4,0)","v":"1920015999"},{"$f":"VLOOKUP(B207,'[1]Ko tgia'!$B$2:$M$1900,5,0)","v":"019204007309"},"26/07/2004",null,null,10,{"v":526500,"d":"526,500"},"K58CN-SXT.K01","CK"]
[207,"K225510201055","Đào Nguyên Vũ",{"$f":"VLOOKUP(B208,'[1]Ko tgia'!$B$2:$M$1900,4,0)","v":"1920160485"},{"$f":"VLOOKUP(B208,'[1]Ko tgia'!$B$2:$M$1900,5,0)","v":"019204005406"},"07/11/2004",null,null,10,{"v":526500,"d":"526,500"},"K58CN-SXT.K01","CK"]
[208,"K225510201016","Phạm Trường Giang",{"$f":"VLOOKUP(B209,'[1]Ko tgia'!$B$2:$M$1900,4,0)","v":"1920177704"},{"$f":"VLOOKUP(B209,'[1]Ko tgia'!$B$2:$M$1900,5,0)","v":"019204010953"},"18/09/2004",null,null,10,{"v":526500,"d":"526,500"},"K58CN-SXT.K01","CK"]
[209,"K225510201056","Đào Văn Xuyên",{"$f":"VLOOKUP(B210,'[1]Ko tgia'!$B$2:$M$1900,4,0)","v":"1920198874"},{"$f":"VLOOKUP(B210,'[1]Ko tgia'!$B$2:$M$1900,5,0)","v":"019204009405"},"08/02/2004",null,null,10,{"v":526500,"d":"526,500"},"K58CN-SXT.K01","CK"]
[210,"K225510201032","Nguyễn Văn Mạnh",{"$f":"VLOOKUP(B211,'[1]Ko tgia'!$B$2:$M$1900,4,0)","v":"1920290590"},{"$f":"VLOOKUP(B211,'[1]Ko tgia'!$B$2:$M$1900,5,0)","v":"019204001251"},"20/02/2004",null,null,10,{"v":526500,"d":"526,500"},"K58CN-SXT.K01","CK"]
[211,"K225510201004","Dương Văn Công",{"$f":"VLOOKUP(B212,'[1]Ko tgia'!$B$2:$M$1900,4,0)","v":"1920319697"},{"$f":"VLOOKUP(B212,'[1]Ko tgia'!$B$2:$M$1900,5,0)","v":"019204000418"},"03/06/2004",null,null,10,{"v":526500,"d":"526,500"},"K58CN-SXT.K01","CK"]
[212,"K225510201034","Lâm Huy Nghĩa",{"$f":"VLOOKUP(B213,'[1]Ko tgia'!$B$2:$M$1900,4,0)","v":"1921427918"},{"$f":"VLOOKUP(B213,'[1]Ko tgia'!$B$2:$M$1900,5,0)","v":"019204004341"},"19/09/2004",null,null,10,{"v":526500,"d":"526,500"},"K58CN-SXT.K01","CK"]
[213,"K225510201066","Nguyễn Văn Hải",{"$f":"VLOOKUP(B214,'[1]Ko tgia'!$B$2:$M$1900,4,0)","v":"2420183801"},{"$f":"VLOOKUP(B214,'[1]Ko tgia'!$B$2:$M$1900,5,0)","v":"024202010412"},"01/08/2002",null,null,10,{"v":526500,"d":"526,500"},"K58CN-SXT.K01","CK"]
[214,"K225510201052","Hoàng Trọng Tường",{"$f":"VLOOKUP(B215,'[1]Ko tgia'!$B$2:$M$1900,4,0)","v":"2420359588"},{"$f":"VLOOKUP(B215,'[1]Ko tgia'!$B$2:$M$1900,5,0)","v":"024204010606"},"17/02/2004",null,null,10,{"v":526500,"d":"526,500"},"K58CN-SXT.K01","CK"]
[215,"K225510201031","Thân Văn Mạnh",{"$f":"VLOOKUP(B216,'[1]Ko tgia'!$B$2:$M$1900,4,0)","v":"2420406280"},{"$f":"VLOOKUP(B216,'[1]Ko tgia'!$B$2:$M$1900,5,0)","v":"024203015809"},"26/09/2003",null,null,10,{"v":526500,"d":"526,500"},"K58CN-SXT.K01","CK"]
[216,"K225510201033","Nguyễn Công Nghĩa",{"$f":"VLOOKUP(B217,'[1]Ko tgia'!$B$2:$M$1900,4,0)","v":"2420585853"},{"$f":"VLOOKUP(B217,'[1]Ko tgia'!$B$2:$M$1900,5,0)","v":"024204014644"},"17/01/2004",null,null,10,{"v":526500,"d":"526,500"},"K58CN-SXT.K01","CK"]
[217,"K225510201038","Nguyễn Quang Quyền",{"$f":"VLOOKUP(B218,'[1]Ko tgia'!$B$2:$M$1900,4,0)","v":"2421590097"},{"$f":"VLOOKUP(B218,'[1]Ko tgia'!$B$2:$M$1900,5,0)","v":"024204002057"},"05/01/2004",null,null,10,{"v":526500,"d":"526,500"},"K58CN-SXT.K01","CK"]
[218,"K225510201051","Nguyễn Quang Trường",{"$f":"VLOOKUP(B219,'[1]Ko tgia'!$B$2:$M$1900,4,0)","v":"2422362547"},{"$f":"VLOOKUP(B219,'[1]Ko tgia'!$B$2:$M$1900,5,0)","v":"024204007548"},"13/04/2004",null,null,10,{"v":526500,"d":"526,500"},"K58CN-SXT.K01","CK"]
[219,"K225510201013","Nguyễn Tiến Dũng",{"$f":"VLOOKUP(B220,'[1]Ko tgia'!$B$2:$M$1900,4,0)","v":"2621404042"},{"$f":"VLOOKUP(B220,'[1]Ko tgia'!$B$2:$M$1900,5,0)","v":"030204002771"},"24/09/2004",null,null,10,{"v":526500,"d":"526,500"},"K58CN-SXT.K01","CK"]
[220,"K225510201012","Phạm Minh Đức",{"$f":"VLOOKUP(B221,'[1]Ko tgia'!$B$2:$M$1900,4,0)","v":"3520726526"},{"$f":"VLOOKUP(B221,'[1]Ko tgia'!$B$2:$M$1900,5,0)","v":"035204001773"},"10/10/2004",null,null,10,{"v":526500,"d":"526,500"},"K58CN-SXT.K01","CK"]
[221,"K225520309009","Trần Trung Hiếu",{"$f":"VLOOKUP(B222,'[1]Ko tgia'!$B$2:$M$1900,4,0)","v":"0124044041"},{"$f":"VLOOKUP(B222,'[1]Ko tgia'!$B$2:$M$1900,5,0)","v":"015202003050"},"06/08/2002",null,null,10,{"v":526500,"d":"526,500"},"K58CVL.K01","CK"]
[222,"K225520309012","Nguyễn Nhật Linh",{"$f":"VLOOKUP(B223,'[1]Ko tgia'!$B$2:$M$1900,4,0)","v":"1920218970"},{"$f":"VLOOKUP(B223,'[1]Ko tgia'!$B$2:$M$1900,5,0)","v":"019202008689"},"23/12/2002",null,null,10,{"v":526500,"d":"526,500"},"K58CVL.K01","CK"]
[223,"K225520309008","Nguyễn Trung Hiếu",{"$f":"VLOOKUP(B224,'[1]Ko tgia'!$B$2:$M$1900,4,0)","v":"1920296364"},{"$f":"VLOOKUP(B224,'[1]Ko tgia'!$B$2:$M$1900,5,0)","v":"019204001834"},"21/01/2004",null,null,10,{"v":526500,"d":"526,500"},"K58CVL.K01","CK"]
[224,"K225520309010","Dương Công Hoan",{"$f":"VLOOKUP(B225,'[1]Ko tgia'!$B$2:$M$1900,4,0)","v":"1920556733"},{"$f":"VLOOKUP(B225,'[1]Ko tgia'!$B$2:$M$1900,5,0)","v":"019204000289"},"09/09/2004",null,null,10,{"v":526500,"d":"526,500"},"K58CVL.K01","CK"]
[225,"K225520309020","Nguyễn Hoàng Vĩ",{"$f":"VLOOKUP(B226,'[1]Ko tgia'!$B$2:$M$1900,4,0)","v":"1921252763"},{"$f":"VLOOKUP(B226,'[1]Ko tgia'!$B$2:$M$1900,5,0)","v":"019204007860"},"22/10/2004",null,null,10,{"v":526500,"d":"526,500"},"K58CVL.K01","CK"]
[226,"K225520309021","Nguyễn Quốc Việt",{"$f":"VLOOKUP(B227,'[1]Ko tgia'!$B$2:$M$1900,4,0)","v":"1921337098"},{"$f":"VLOOKUP(B227,'[1]Ko tgia'!$B$2:$M$1900,5,0)","v":"019202002728"},"29/01/2002",null,null,10,{"v":526500,"d":"526,500"},"K58CVL.K01","CK"]
[227,"K225520309023","Nguyễn Đăng Đức",{"$f":"VLOOKUP(B228,'[1]Ko tgia'!$B$2:$M$1900,4,0)","v":"2422052832"},{"$f":"VLOOKUP(B228,'[1]Ko tgia'!$B$2:$M$1900,5,0)","v":"024204001398"},"04/08/2004",null,null,10,{"v":526500,"d":"526,500"},"K58CVL.K01","CK"]
[228,"K225580101004","Đào Trung Đức",{"$f":"VLOOKUP(B229,'[1]Ko tgia'!$B$2:$M$1900,4,0)","v":"1920128340"},{"$f":"VLOOKUP(B229,'[1]Ko tgia'!$B$2:$M$1900,5,0)","v":"019201003239"},"12/03/2001",null,null,10,{"v":526500,"d":"526,500"},"K58KTC.S01","CK"]
[229,"K225580201020","Dương Công Luận",{"$f":"VLOOKUP(B230,'[1]Ko tgia'!$B$2:$M$1900,4,0)","v":"2020401771"},{"$f":"VLOOKUP(B230,'[1]Ko tgia'!$B$2:$M$1900,5,0)","v":"020204006885"},"03/11/2004",null,null,10,{"v":526500,"d":"526,500"},"K58KXC.K01","CK"]
[230,"K235520103032","Lê Duy Hiển",{"$f":"VLOOKUP(B231,'[1]Ko tgia'!$B$2:$M$1900,4,0)","v":"0121441182"},{"$f":"VLOOKUP(B231,'[1]Ko tgia'!$B$2:$M$1900,5,0)","v":"01205021385"},"04/07/2005",null,null,10,{"v":526500,"d":"526,500"},"K59CCM.K01","CK"]
[231,"K235520103073","Lưu Đình Nhất",{"$f":"VLOOKUP(B232,'[1]Ko tgia'!$B$2:$M$1900,4,0)","v":"1920031885"},{"$f":"VLOOKUP(B232,'[1]Ko tgia'!$B$2:$M$1900,5,0)","v":"019205008223"},"17/03/2005",null,null,10,{"v":526500,"d":"526,500"},"K59CCM.K01","CK"]
[232,"K235520103058","Nguyễn Đức Kiên",{"$f":"VLOOKUP(B233,'[1]Ko tgia'!$B$2:$M$1900,4,0)","v":"1920175613"},{"$f":"VLOOKUP(B233,'[1]Ko tgia'!$B$2:$M$1900,5,0)","v":"019205006220"},"15/12/2005",null,null,10,{"v":526500,"d":"526,500"},"K59CCM.K01","CK"]
[233,"K235520103036","Diệp Minh Hiếu",{"$f":"VLOOKUP(B234,'[1]Ko tgia'!$B$2:$M$1900,4,0)","v":"1920637061"},{"$f":"VLOOKUP(B234,'[1]Ko tgia'!$B$2:$M$1900,5,0)","v":"019205004535"},"19/05/2005",null,null,10,{"v":526500,"d":"526,500"},"K59CCM.K01","CK"]
[234,"K235520103028","Ngô Hồng Hải",{"$f":"VLOOKUP(B235,'[1]Ko tgia'!$B$2:$M$1900,4,0)","v":"1921256818"},{"$f":"VLOOKUP(B235,'[1]Ko tgia'!$B$2:$M$1900,5,0)","v":"019205005183"},"07/10/2005",null,null,10,{"v":526500,"d":"526,500"},"K59CCM.K01","CK"]
[235,"K235520103084","Nguyễn Hồng Sơn",{"$f":"VLOOKUP(B236,'[1]Ko tgia'!$B$2:$M$1900,4,0)","v":"2420393089"},{"$f":"VLOOKUP(B236,'[1]Ko tgia'!$B$2:$M$1900,5,0)","v":"024205009537"},"01/01/2005",null,null,10,{"v":526500,"d":"526,500"},"K59CCM.K01","CK"]
[236,"K235520103072","Lê Hồng Nhất",{"$f":"VLOOKUP(B237,'[1]Ko tgia'!$B$2:$M$1900,4,0)","v":"2420406475"},{"$f":"VLOOKUP(B237,'[1]Ko tgia'!$B$2:$M$1900,5,0)","v":"024205000700"},"09/05/2005",null,null,10,{"v":526500,"d":"526,500"},"K59CCM.K01","CK"]
[237,"K235520103014","Nguyễn Văn Duy",{"$f":"VLOOKUP(B238,'[1]Ko tgia'!$B$2:$M$1900,4,0)","v":"2421106567"},{"$f":"VLOOKUP(B238,'[1]Ko tgia'!$B$2:$M$1900,5,0)","v":"024205006287"},"03/06/2005",null,null,10,{"v":526500,"d":"526,500"},"K59CCM.K01","CK"]
[238,"K235520103003","Trần Tuấn Anh",{"$f":"VLOOKUP(B239,'[1]Ko tgia'!$B$2:$M$1900,4,0)","v":"3620641644"},{"$f":"VLOOKUP(B239,'[1]Ko tgia'!$B$2:$M$1900,5,0)","v":"036205017014"},"18/11/2005",null,null,10,{"v":526500,"d":"526,500"},"K59CCM.K01","CK"]
[239,"K235520103075","Nguyễn Nghiêm Phong",{"$f":"VLOOKUP(B240,'[1]Ko tgia'!$B$2:$M$1900,4,0)","v":"0121534422"},{"$f":"VLOOKUP(B240,'[1]Ko tgia'!$B$2:$M$1900,5,0)","v":"01205021447"},"13/01/2005",null,null,10,{"v":526500,"d":"526,500"},"K59CCM.K02","CK"]
[240,"K235520103020","Vương Quốc Đạt",{"$f":"VLOOKUP(B241,'[1]Ko tgia'!$B$2:$M$1900,4,0)","v":"0124808439"},{"$f":"VLOOKUP(B241,'[1]Ko tgia'!$B$2:$M$1900,5,0)","v":"001205033096"},"19/12/2005",null,null,10,{"v":526500,"d":"526,500"},"K59CCM.K02","CK"]
[241,"K235520103116","Nguyễn Minh Vũ",{"$f":"VLOOKUP(B242,'[1]Ko tgia'!$B$2:$M$1900,4,0)","v":"0125569216"},{"$f":"VLOOKUP(B242,'[1]Ko tgia'!$B$2:$M$1900,5,0)","v":"01205014044"},"18/05/2005",null,null,10,{"v":526500,"d":"526,500"},"K59CCM.K02","CK"]
[242,"K235520103143","Vũ Hoàng Nguyên",{"$f":"VLOOKUP(B243,'[1]Ko tgia'!$B$2:$M$1900,4,0)","v":"1220002459"},{"$f":"VLOOKUP(B243,'[1]Ko tgia'!$B$2:$M$1900,5,0)","v":"034205012064"},"26/09/2005",null,null,10,{"v":526500,"d":"526,500"},"K59CCM.K02","CK"]
[243,"K235520103034","Lưu Đức Hiệp",{"$f":"VLOOKUP(B244,'[1]Ko tgia'!$B$2:$M$1900,4,0)","v":"1920050656"},{"$f":"VLOOKUP(B244,'[1]Ko tgia'!$B$2:$M$1900,5,0)","v":"019205003138"},"03/03/2005",null,null,10,{"v":526500,"d":"526,500"},"K59CCM.K02","CK"]
[244,"K235520103017","Ma Quốc Đạt",{"$f":"VLOOKUP(B245,'[1]Ko tgia'!$B$2:$M$1900,4,0)","v":"1920109873"},{"$f":"VLOOKUP(B245,'[1]Ko tgia'!$B$2:$M$1900,5,0)","v":"019205002771"},"08/10/2005",null,null,10,{"v":526500,"d":"526,500"},"K59CCM.K02","CK"]
[245,"K235520103011","Nguyễn Xuân Cường",{"$f":"VLOOKUP(B246,'[1]Ko tgia'!$B$2:$M$1900,4,0)","v":"1920124318"},{"$f":"VLOOKUP(B246,'[1]Ko tgia'!$B$2:$M$1900,5,0)","v":"019205009425"},"10/09/2005",null,null,10,{"v":526500,"d":"526,500"},"K59CCM.K02","CK"]
[246,"K235520103062","Nguyễn Sơn Lâm",{"$f":"VLOOKUP(B247,'[1]Ko tgia'!$B$2:$M$1900,4,0)","v":"1920174608"},{"$f":"VLOOKUP(B247,'[1]Ko tgia'!$B$2:$M$1900,5,0)","v":"019205001501"},"14/06/2005",null,null,10,{"v":526500,"d":"526,500"},"K59CCM.K02","CK"]
[247,"K235520309007","Dương Quang Long",{"$f":"VLOOKUP(B248,'[1]Ko tgia'!$B$2:$M$1900,4,0)","v":"1920307494"},{"$f":"VLOOKUP(B248,'[1]Ko tgia'!$B$2:$M$1900,5,0)","v":"019201000761"},"18/02/2001",null,null,10,{"v":526500,"d":"526,500"},"K59CCM.K02","CK"]
[248,"K235520103083","Lê Văn Sơn",{"$f":"VLOOKUP(B249,'[1]Ko tgia'!$B$2:$M$1900,4,0)","v":"2420161091"},{"$f":"VLOOKUP(B249,'[1]Ko tgia'!$B$2:$M$1900,5,0)","v":"024205005544"},"26/09/2005",null,null,10,{"v":526500,"d":"526,500"},"K59CCM.K02","CK"]
[249,"K235520103009","Nguyễn Huy Chức",{"$f":"VLOOKUP(B250,'[1]Ko tgia'!$B$2:$M$1900,4,0)","v":"2420226121"},{"$f":"VLOOKUP(B250,'[1]Ko tgia'!$B$2:$M$1900,5,0)","v":"024205012232"},"13/11/2005",null,null,10,{"v":526500,"d":"526,500"},"K59CCM.K02","CK"]
[250,"K235520103008","Thân Văn Chiến",{"$f":"VLOOKUP(B251,'[1]Ko tgia'!$B$2:$M$1900,4,0)","v":"2420822520"},{"$f":"VLOOKUP(B251,'[1]Ko tgia'!$B$2:$M$1900,5,0)","v":"024205006394"},"17/07/2005",null,null,10,{"v":526500,"d":"526,500"},"K59CCM.K02","CK"]
[251,"K235520103065","Nguyễn Công Luật",{"$f":"VLOOKUP(B252,'[1]Ko tgia'!$B$2:$M$1900,4,0)","v":"2720336159"},{"$f":"VLOOKUP(B252,'[1]Ko tgia'!$B$2:$M$1900,5,0)","v":"027205003644"},"17/02/2005",null,null,10,{"v":526500,"d":"526,500"},"K59CCM.K02","CK"]
[252,"K235520114148","Trần Văn Quyền",{"$f":"VLOOKUP(B253,'[1]Ko tgia'!$B$2:$M$1900,4,0)","v":"0123399746"},{"$f":"VLOOKUP(B253,'[1]Ko tgia'!$B$2:$M$1900,5,0)","v":"001205043839"},"14/12/2005",null,null,10,{"v":526500,"d":"526,500"},"K59CĐT.K01","CK"]
[253,"K235520114142","Chu Văn Quân",{"$f":"VLOOKUP(B254,'[1]Ko tgia'!$B$2:$M$1900,4,0)","v":"0620328191"},{"$f":"VLOOKUP(B254,'[1]Ko tgia'!$B$2:$M$1900,5,0)","v":"006205000127"},"20/07/2005",null,null,10,{"v":526500,"d":"526,500"},"K59CĐT.K01","CK"]
[254,"K235520114219","Trần Huy Hiếu",{"$f":"VLOOKUP(B255,'[1]Ko tgia'!$B$2:$M$1900,4,0)","v":"1920059266"},{"$f":"VLOOKUP(B255,'[1]Ko tgia'!$B$2:$M$1900,5,0)","v":"019205011046"},"11/03/2005",null,null,10,{"v":526500,"d":"526,500"},"K59CĐT.K01","CK"]
[255,"K235520114106","Vũ Hoàng Tùng Lâm",{"$f":"VLOOKUP(B256,'[1]Ko tgia'!$B$2:$M$1900,4,0)","v":"1920092555"},{"$f":"VLOOKUP(B256,'[1]Ko tgia'!$B$2:$M$1900,5,0)","v":"019205010177"},"15/12/2005",null,null,10,{"v":526500,"d":"526,500"},"K59CĐT.K01","CK"]
[256,"K235520114140","Nguyễn Minh Quang",{"$f":"VLOOKUP(B257,'[1]Ko tgia'!$B$2:$M$1900,4,0)","v":"1920106069"},{"$f":"VLOOKUP(B257,'[1]Ko tgia'!$B$2:$M$1900,5,0)","v":"019205008245"},"31/03/2005",null,null,10,{"v":526500,"d":"526,500"},"K59CĐT.K01","CK"]
[257,"K235520114162","Nguyễn Thị Thanh Thảo",{"$f":"VLOOKUP(B258,'[1]Ko tgia'!$B$2:$M$1900,4,0)","v":"1920118991"},{"$f":"VLOOKUP(B258,'[1]Ko tgia'!$B$2:$M$1900,5,0)","v":"019305002198"},"22/07/2005",{"$f":"VLOOKUP(B258,'[2]Ko tgia'!$C$2:$K$9900,8,0)","v":"x"},null,10,{"v":526500,"d":"526,500"},"K59CĐT.K01","CK"]
[258,"K235520114015","Dương Quốc Bảo",{"$f":"VLOOKUP(B259,'[1]Ko tgia'!$B$2:$M$1900,4,0)","v":"1920236441"},{"$f":"VLOOKUP(B259,'[1]Ko tgia'!$B$2:$M$1900,5,0)","v":"019205003105"},"10/11/2005",null,null,10,{"v":526500,"d":"526,500"},"K59CĐT.K01","CK"]
[259,"K235520114023","Trần Trọng Bính",{"$f":"VLOOKUP(B260,'[1]Ko tgia'!$B$2:$M$1900,4,0)","v":"1920984976"},{"$f":"VLOOKUP(B260,'[1]Ko tgia'!$B$2:$M$1900,5,0)","v":"019205009669"},"23/09/2005",null,null,10,{"v":526500,"d":"526,500"},"K59CĐT.K01","CK"]
[260,"K235520114143","Nguyễn Mạnh Quân",{"$f":"VLOOKUP(B261,'[1]Ko tgia'!$B$2:$M$1900,4,0)","v":"1921230520"},{"$f":"VLOOKUP(B261,'[1]Ko tgia'!$B$2:$M$1900,5,0)","v":"019205006457"},"12/05/2005",null,null,10,{"v":526500,"d":"526,500"},"K59CĐT.K01","CK"]
[261,"K235520114020","Ngô Duy Biên",{"$f":"VLOOKUP(B262,'[1]Ko tgia'!$B$2:$M$1900,4,0)","v":"2421475978"},{"$f":"VLOOKUP(B262,'[1]Ko tgia'!$B$2:$M$1900,5,0)","v":"024205010412"},"06/09/2005",null,null,10,{"v":526500,"d":"526,500"},"K59CĐT.K01","CK"]
[262,"K235520114012","Nguyễn Tuấn Anh",{"$f":"VLOOKUP(B263,'[1]Ko tgia'!$B$2:$M$1900,4,0)","v":"2421626550"},{"$f":"VLOOKUP(B263,'[1]Ko tgia'!$B$2:$M$1900,5,0)","v":"024205006128"},"03/11/2005",null,null,10,{"v":526500,"d":"526,500"},"K59CĐT.K01","CK"]
[263,"K235520114209","Nguyễn Văn Duy",{"$f":"VLOOKUP(B264,'[1]Ko tgia'!$B$2:$M$1900,4,0)","v":"2621383969"},{"$f":"VLOOKUP(B264,'[1]Ko tgia'!$B$2:$M$1900,5,0)","v":"026205000193"},"07/09/2005",null,null,10,{"v":526500,"d":"526,500"},"K59CĐT.K01","CK"]
[264,"K235520114062","Nguyễn Lưu Anh Hải",{"$f":"VLOOKUP(B265,'[1]Ko tgia'!$B$2:$M$1900,4,0)","v":"0124656720"},{"$f":"VLOOKUP(B265,'[1]Ko tgia'!$B$2:$M$1900,5,0)","v":"001205028678"},"13/12/2005",null,null,10,{"v":526500,"d":"526,500"},"K59CĐT.K02","CK"]
[265,"K235520114051","Nguyễn Thành Đạt",{"$f":"VLOOKUP(B266,'[1]Ko tgia'!$B$2:$M$1900,4,0)","v":"1920012075"},{"$f":"VLOOKUP(B266,'[1]Ko tgia'!$B$2:$M$1900,5,0)","v":"019205004191"},"30/06/2005",null,null,10,{"v":526500,"d":"526,500"},"K59CĐT.K02","CK"]
[266,"K235520114252","Nguyễn Viết Thiên Thăng",{"$f":"VLOOKUP(B267,'[1]Ko tgia'!$B$2:$M$1900,4,0)","v":"1920234372"},{"$f":"VLOOKUP(B267,'[1]Ko tgia'!$B$2:$M$1900,5,0)","v":"019204009790"},"15/01/2004",null,null,10,{"v":526500,"d":"526,500"},"K59CĐT.K02","CK"]
[267,"K235520114026","Lương Thành Công",{"$f":"VLOOKUP(B268,'[1]Ko tgia'!$B$2:$M$1900,4,0)","v":"1920281881"},{"$f":"VLOOKUP(B268,'[1]Ko tgia'!$B$2:$M$1900,5,0)","v":"019205002887"},"09/02/2005",null,null,10,{"v":526500,"d":"526,500"},"K59CĐT.K02","CK"]
[268,"K235520114202","Nguyễn Hoàng Anh",{"$f":"VLOOKUP(B269,'[1]Ko tgia'!$B$2:$M$1900,4,0)","v":"1920912154"},{"$f":"VLOOKUP(B269,'[1]Ko tgia'!$B$2:$M$1900,5,0)","v":"019205008793"},"23/09/2005",null,null,10,{"v":526500,"d":"526,500"},"K59CĐT.K02","CK"]
[269,"K235520114249","Trần Duy Long",{"$f":"VLOOKUP(B270,'[1]Ko tgia'!$B$2:$M$1900,4,0)","v":"1921066945"},{"$f":"VLOOKUP(B270,'[1]Ko tgia'!$B$2:$M$1900,5,0)","v":"019205005252"},"26/11/2005",null,null,10,{"v":526500,"d":"526,500"},"K59CĐT.K02","CK"]
[270,"K235520114072","Nguyễn Văn Hiếu",{"$f":"VLOOKUP(B271,'[1]Ko tgia'!$B$2:$M$1900,4,0)","v":"1921077496"},{"$f":"VLOOKUP(B271,'[1]Ko tgia'!$B$2:$M$1900,5,0)","v":"019205010986"},"18/01/2005",null,null,10,{"v":526500,"d":"526,500"},"K59CĐT.K02","CK"]
[271,"K235520114130","Hoàng Hải Nguyên",{"$f":"VLOOKUP(B272,'[1]Ko tgia'!$B$2:$M$1900,4,0)","v":"1921426431"},{"$f":"VLOOKUP(B272,'[1]Ko tgia'!$B$2:$M$1900,5,0)","v":"019205002034"},"26/09/2005",null,null,10,{"v":526500,"d":"526,500"},"K59CĐT.K02","CK"]
[272,"K235520114090","Nguyễn Quang Huy",{"$f":"VLOOKUP(B273,'[1]Ko tgia'!$B$2:$M$1900,4,0)","v":"1921560469"},{"$f":"VLOOKUP(B273,'[1]Ko tgia'!$B$2:$M$1900,5,0)","v":"019205005795"},"16/05/2005",null,null,10,{"v":526500,"d":"526,500"},"K59CĐT.K02","CK"]
[273,"K235520114245","Nguyễn Đại Nghĩa",{"$f":"VLOOKUP(B274,'[1]Ko tgia'!$B$2:$M$1900,4,0)","v":"2420231437"},{"$f":"VLOOKUP(B274,'[1]Ko tgia'!$B$2:$M$1900,5,0)","v":"024205012706"},"14/06/2005",null,null,10,{"v":526500,"d":"526,500"},"K59CĐT.K02","CK"]
[274,"K235520114182","Nguyễn Hoàng Tuấn",{"$f":"VLOOKUP(B275,'[1]Ko tgia'!$B$2:$M$1900,4,0)","v":"2421610616"},{"$f":"VLOOKUP(B275,'[1]Ko tgia'!$B$2:$M$1900,5,0)","v":"024205009894"},"16/09/2005",null,null,10,{"v":526500,"d":"526,500"},"K59CĐT.K02","CK"]
[275,"K235520114208","Nguyễn Đoàn Duy",{"$f":"VLOOKUP(B276,'[1]Ko tgia'!$B$2:$M$1900,4,0)","v":"2421965907"},{"$f":"VLOOKUP(B276,'[1]Ko tgia'!$B$2:$M$1900,5,0)","v":"024205006188"},"24/08/2005",null,null,10,{"v":526500,"d":"526,500"},"K59CĐT.K02","CK"]
[276,"K235520114088","Lê Quang Huy",{"$f":"VLOOKUP(B277,'[1]Ko tgia'!$B$2:$M$1900,4,0)","v":"2520083404"},{"$f":"VLOOKUP(B277,'[1]Ko tgia'!$B$2:$M$1900,5,0)","v":"025205001185"},"26/05/2005",null,null,10,{"v":526500,"d":"526,500"},"K59CĐT.K02","CK"]
[277,"K235520114057","Nguyễn Chí Giang",{"$f":"VLOOKUP(B278,'[1]Ko tgia'!$B$2:$M$1900,4,0)","v":"2620527369"},{"$f":"VLOOKUP(B278,'[1]Ko tgia'!$B$2:$M$1900,5,0)","v":"026205013299"},"22/11/2005",null,null,10,{"v":526500,"d":"526,500"},"K59CĐT.K02","CK"]
[278,"K235520114224","Lê Đức Huy",{"$f":"VLOOKUP(B279,'[1]Ko tgia'!$B$2:$M$1900,4,0)","v":"3520622525"},{"$f":"VLOOKUP(B279,'[1]Ko tgia'!$B$2:$M$1900,5,0)","v":"035205002321"},"21/11/2005",null,null,10,{"v":526500,"d":"526,500"},"K59CĐT.K02","CK"]
[279,"K235520114241","Trần Quốc Thái",{"$f":"VLOOKUP(B280,'[1]Ko tgia'!$B$2:$M$1900,4,0)","v":"1020438687"},{"$f":"VLOOKUP(B280,'[1]Ko tgia'!$B$2:$M$1900,5,0)","v":"010205005781"},"27/05/2005",null,null,10,{"v":526500,"d":"526,500"},"K59CĐT.K03","CK"]
[280,"K235520114250","Nguyễn Sỹ Tuân",{"$f":"VLOOKUP(B281,'[1]Ko tgia'!$B$2:$M$1900,4,0)","v":"1920238081"},{"$f":"VLOOKUP(B281,'[1]Ko tgia'!$B$2:$M$1900,5,0)","v":"019205000468"},"06/09/2005",null,null,10,{"v":526500,"d":"526,500"},"K59CĐT.K03","CK"]
[281,"K235520114133","Nguyễn Văn Ninh",{"$f":"VLOOKUP(B282,'[1]Ko tgia'!$B$2:$M$1900,4,0)","v":"1921050277"},{"$f":"VLOOKUP(B282,'[1]Ko tgia'!$B$2:$M$1900,5,0)","v":"019205004320"},"17/11/2005",null,null,10,{"v":526500,"d":"526,500"},"K59CĐT.K03","CK"]
[282,"K235520114175","Trần Trân",{"$f":"VLOOKUP(B283,'[1]Ko tgia'!$B$2:$M$1900,4,0)","v":"1921060868"},{"$f":"VLOOKUP(B283,'[1]Ko tgia'!$B$2:$M$1900,5,0)","v":"019205005920"},"07/07/2005",null,null,10,{"v":526500,"d":"526,500"},"K59CĐT.K03","CK"]
[283,"K235520114079","Nguyễn Đức Hoàng",{"$f":"VLOOKUP(B284,'[1]Ko tgia'!$B$2:$M$1900,4,0)","v":"2420227094"},{"$f":"VLOOKUP(B284,'[1]Ko tgia'!$B$2:$M$1900,5,0)","v":"024205014913"},"05/07/2005",null,null,10,{"v":526500,"d":"526,500"},"K59CĐT.K03","CK"]
[284,"K235520114096","Hà Minh Khôi",{"$f":"VLOOKUP(B285,'[1]Ko tgia'!$B$2:$M$1900,4,0)","v":"2420236297"},{"$f":"VLOOKUP(B285,'[1]Ko tgia'!$B$2:$M$1900,5,0)","v":"024205007610"},"15/12/2005",null,null,10,{"v":526500,"d":"526,500"},"K59CĐT.K03","CK"]
[285,"K235520114034","Dương Ngô Dũng",{"$f":"VLOOKUP(B286,'[1]Ko tgia'!$B$2:$M$1900,4,0)","v":"2421876138"},{"$f":"VLOOKUP(B286,'[1]Ko tgia'!$B$2:$M$1900,5,0)","v":"024205002099"},"15/11/2005",null,null,10,{"v":526500,"d":"526,500"},"K59CĐT.K03","CK"]
[286,"K235520114060","Khương Trung Hải",{"$f":"VLOOKUP(B287,'[1]Ko tgia'!$B$2:$M$1900,4,0)","v":"2620261807"},{"$f":"VLOOKUP(B287,'[1]Ko tgia'!$B$2:$M$1900,5,0)","v":"048205000114"},"13/05/2005",null,null,10,{"v":526500,"d":"526,500"},"K59CĐT.K03","CK"]
[287,"K235520114076","Chu Minh Hoàn",{"$f":"VLOOKUP(B288,'[1]Ko tgia'!$B$2:$M$1900,4,0)","v":"2620755186"},{"$f":"VLOOKUP(B288,'[1]Ko tgia'!$B$2:$M$1900,5,0)","v":"026205009231"},"11/05/2005",null,null,10,{"v":526500,"d":"526,500"},"K59CĐT.K03","CK"]
[288,"K235520114039","Nguyễn Tuấn Dũng",{"$f":"VLOOKUP(B289,'[1]Ko tgia'!$B$2:$M$1900,4,0)","v":"2621207327"},{"$f":"VLOOKUP(B289,'[1]Ko tgia'!$B$2:$M$1900,5,0)","v":"026205010176"},"08/11/2005",null,null,10,{"v":526500,"d":"526,500"},"K59CĐT.K03","CK"]
[289,"K235520114049","Đinh Xuân Đạt",{"$f":"VLOOKUP(B290,'[1]Ko tgia'!$B$2:$M$1900,4,0)","v":"2721710540"},{"$f":"VLOOKUP(B290,'[1]Ko tgia'!$B$2:$M$1900,5,0)","v":"027205009971"},"29/04/2005",null,null,10,{"v":526500,"d":"526,500"},"K59CĐT.K03","CK"]
[290,"K235520114110","Lê Hoàng Long",{"$f":"VLOOKUP(B291,'[1]Ko tgia'!$B$2:$M$1900,4,0)","v":"3820317129"},{"$f":"VLOOKUP(B291,'[1]Ko tgia'!$B$2:$M$1900,5,0)","v":"038205025809"},"02/06/2005",null,null,10,{"v":526500,"d":"526,500"},"K59CĐT.K03","CK"]
[291,"K235510201017","Đoàn Đức Hiệp",{"$f":"VLOOKUP(B292,'[1]Ko tgia'!$B$2:$M$1900,4,0)","v":"0124941063"},{"$f":"VLOOKUP(B292,'[1]Ko tgia'!$B$2:$M$1900,5,0)","v":"001205038663"},"15/09/2005",null,null,10,{"v":526500,"d":"526,500"},"K59CN-SXT.K01","CK"]
[292,"K235510201020","Trần Đình Huy Hoàng",{"$f":"VLOOKUP(B293,'[1]Ko tgia'!$B$2:$M$1900,4,0)","v":"1020790544"},{"$f":"VLOOKUP(B293,'[1]Ko tgia'!$B$2:$M$1900,5,0)","v":"010205005265"},"18/09/2005",null,null,10,{"v":526500,"d":"526,500"},"K59CN-SXT.K01","CK"]
[293,"K235510201021","Bùi Việt Hùng",{"$f":"VLOOKUP(B294,'[1]Ko tgia'!$B$2:$M$1900,4,0)","v":"1720739280"},{"$f":"VLOOKUP(B294,'[1]Ko tgia'!$B$2:$M$1900,5,0)","v":"017204008346"},"12/08/2004",null,null,10,{"v":526500,"d":"526,500"},"K59CN-SXT.K01","CK"]
[294,"K235510201063","Bùi Ngọc Sơn",{"$f":"VLOOKUP(B295,'[1]Ko tgia'!$B$2:$M$1900,4,0)","v":"1920072844"},{"$f":"VLOOKUP(B295,'[1]Ko tgia'!$B$2:$M$1900,5,0)","v":"019204006761"},"11/08/2004",null,null,10,{"v":526500,"d":"526,500"},"K59CN-SXT.K01","CK"]
[295,"K235510201062","Trịnh Tiến Đạt",{"$f":"VLOOKUP(B296,'[1]Ko tgia'!$B$2:$M$1900,4,0)","v":"1920190556"},{"$f":"VLOOKUP(B296,'[1]Ko tgia'!$B$2:$M$1900,5,0)","v":"019205001921"},"26/04/2005",null,null,10,{"v":526500,"d":"526,500"},"K59CN-SXT.K01","CK"]
[296,"K235510201001","Dương Hoàng Nam",{"$f":"VLOOKUP(B297,'[1]Ko tgia'!$B$2:$M$1900,4,0)","v":"1920291046"},{"$f":"VLOOKUP(B297,'[1]Ko tgia'!$B$2:$M$1900,5,0)","v":"019205002422"},"26/06/2005",null,null,10,{"v":526500,"d":"526,500"},"K59CN-SXT.K01","CK"]
[297,"K235510201057","Đồng Việt Hòa",{"$f":"VLOOKUP(B298,'[1]Ko tgia'!$B$2:$M$1900,4,0)","v":"1920303256"},{"$f":"VLOOKUP(B298,'[1]Ko tgia'!$B$2:$M$1900,5,0)","v":"019205010412"},"08/11/2005",null,null,10,{"v":526500,"d":"526,500"},"K59CN-SXT.K01","CK"]
[298,"K235510201018","Nguyễn Trung Hiếu",{"$f":"VLOOKUP(B299,'[1]Ko tgia'!$B$2:$M$1900,4,0)","v":"1920317922"},{"$f":"VLOOKUP(B299,'[1]Ko tgia'!$B$2:$M$1900,5,0)","v":"019205005012"},"12/09/2005",null,null,10,{"v":526500,"d":"526,500"},"K59CN-SXT.K01","CK"]
[299,"K235510201043","Đỗ Quốc Toàn",{"$f":"VLOOKUP(B300,'[1]Ko tgia'!$B$2:$M$1900,4,0)","v":"2420062076"},{"$f":"VLOOKUP(B300,'[1]Ko tgia'!$B$2:$M$1900,5,0)","v":"024205002584"},"02/07/2005",null,null,10,{"v":526500,"d":"526,500"},"K59CN-SXT.K01","CK"]
[300,"K235510201060","Đặng Việt Hoàng",{"$f":"VLOOKUP(B301,'[1]Ko tgia'!$B$2:$M$1900,4,0)","v":"2420604201"},{"$f":"VLOOKUP(B301,'[1]Ko tgia'!$B$2:$M$1900,5,0)","v":"024205009653"},"20/07/2005",null,null,10,{"v":526500,"d":"526,500"},"K59CN-SXT.K01","CK"]
[301,"K235510201051","Nguyễn Thành Đông",{"$f":"VLOOKUP(B302,'[1]Ko tgia'!$B$2:$M$1900,4,0)","v":"2621341458"},{"$f":"VLOOKUP(B302,'[1]Ko tgia'!$B$2:$M$1900,5,0)","v":"001205041776"},"23/11/2005",null,null,10,{"v":526500,"d":"526,500"},"K59CN-SXT.K01","CK"]
[302,"K235510201052","Phạm Quang Hà",{"$f":"VLOOKUP(B303,'[1]Ko tgia'!$B$2:$M$1900,4,0)","v":"3720650036"},{"$f":"VLOOKUP(B303,'[1]Ko tgia'!$B$2:$M$1900,5,0)","v":"037205005710"},"16/11/2005",null,null,10,{"v":526500,"d":"526,500"},"K59CN-SXT.K01","CK"]
[303,"K235520309009","Hoàng Nhật Tân",{"$f":"VLOOKUP(B304,'[1]Ko tgia'!$B$2:$M$1900,4,0)","v":"2420878792"},{"$f":"VLOOKUP(B304,'[1]Ko tgia'!$B$2:$M$1900,5,0)","v":"024205013354"},"03/02/2005",null,null,10,{"v":526500,"d":"526,500"},"K59CVL.K01","CK"]
[304,"K235580201020","Phạm Mạnh Trường",{"$f":"VLOOKUP(B305,'[1]Ko tgia'!$B$2:$M$1900,4,0)","v":"0121656687"},{"$f":"VLOOKUP(B305,'[1]Ko tgia'!$B$2:$M$1900,5,0)","v":"001205009363"},"22/08/2005",null,null,10,{"v":526500,"d":"526,500"},"K59KXC.K01","CK"]
[305,"K235580201027","Hoàng Tuấn Thành",{"$f":"VLOOKUP(B306,'[1]Ko tgia'!$B$2:$M$1900,4,0)","v":"0126380999"},{"$f":"VLOOKUP(B306,'[1]Ko tgia'!$B$2:$M$1900,5,0)","v":"038205001177"},"13/09/2005",null,null,10,{"v":526500,"d":"526,500"},"K59KXC.K01","CK"]
[306,"K235580201028","Hoàng Quốc Đạt",{"$f":"VLOOKUP(B307,'[1]Ko tgia'!$B$2:$M$1900,4,0)","v":"0129745312"},{"$f":"VLOOKUP(B307,'[1]Ko tgia'!$B$2:$M$1900,5,0)","v":"038205001178"},"13/09/2005",null,null,10,{"v":526500,"d":"526,500"},"K59KXC.K01","CK"]
[307,"K235580201013","Hoàng Văn Lực",{"$f":"VLOOKUP(B308,'[1]Ko tgia'!$B$2:$M$1900,4,0)","v":"1920001047"},{"$f":"VLOOKUP(B308,'[1]Ko tgia'!$B$2:$M$1900,5,0)","v":"019205001949"},"08/11/2005",null,null,10,{"v":526500,"d":"526,500"},"K59KXC.K01","CK"]
[308,"K235580201003","Nguyễn Viết Tuấn Anh",{"$f":"VLOOKUP(B309,'[1]Ko tgia'!$B$2:$M$1900,4,0)","v":"1920080873"},{"$f":"VLOOKUP(B309,'[1]Ko tgia'!$B$2:$M$1900,5,0)","v":"019205002159"},"15/10/2005",null,null,10,{"v":526500,"d":"526,500"},"K59KXC.K01","CK"]
[309,"K235580201002","Lê Tuấn Anh",{"$f":"VLOOKUP(B310,'[1]Ko tgia'!$B$2:$M$1900,4,0)","v":"1921060590"},{"$f":"VLOOKUP(B310,'[1]Ko tgia'!$B$2:$M$1900,5,0)","v":"019205001373"},"16/02/2005",null,null,10,{"v":526500,"d":"526,500"},"K59KXC.K01","CK"]
[310,"K245520114048","Nguyễn Quang Linh",{"$f":"VLOOKUP(B311,'[1]Ko tgia'!$B$2:$M$1900,4,0)","v":"0124792292"},{"$f":"VLOOKUP(B311,'[1]Ko tgia'!$B$2:$M$1900,5,0)","v":"001206087580"},"19/09/2006",null,null,10,{"v":526500,"d":"526,500"},"K60CĐT.K01","CK"]
[311,"K245520114018","Trịnh Minh Đức",{"$f":"VLOOKUP(B312,'[1]Ko tgia'!$B$2:$M$1900,4,0)","v":"1920228844"},{"$f":"VLOOKUP(B312,'[1]Ko tgia'!$B$2:$M$1900,5,0)","v":"019206005815"},"31/12/2006",null,null,10,{"v":526500,"d":"526,500"},"K60CĐT.K01","CK"]
[312,"K245520114006","Dương Thị Ngọc Ánh",{"$f":"VLOOKUP(B313,'[1]Ko tgia'!$B$2:$M$1900,4,0)","v":"1920421258"},{"$f":"VLOOKUP(B313,'[1]Ko tgia'!$B$2:$M$1900,5,0)","v":"019306000631"},"10/05/2006",{"$f":"VLOOKUP(B313,'[2]Ko tgia'!$C$2:$K$9900,8,0)","v":"x"},null,10,{"v":526500,"d":"526,500"},"K60CĐT.K01","CK"]
[313,"K245520114010","Nguyễn Thế Công",{"$f":"VLOOKUP(B314,'[1]Ko tgia'!$B$2:$M$1900,4,0)","v":"1920614077"},{"$f":"VLOOKUP(B314,'[1]Ko tgia'!$B$2:$M$1900,5,0)","v":"019206000170"},"28/08/2006",null,null,10,{"v":526500,"d":"526,500"},"K60CĐT.K01","CK"]
[314,"K245510604046","Nguyễn Văn Mạnh",{"$f":"VLOOKUP(B315,'[1]Ko tgia'!$B$2:$M$1900,4,0)","v":"1921082199"},{"$f":"VLOOKUP(B315,'[1]Ko tgia'!$B$2:$M$1900,5,0)","v":"019205001025"},"16/02/2005",null,null,10,{"v":526500,"d":"526,500"},"K60CĐT.K01","CK"]
[315,"K245520114040","Trần Văn Huy",{"$f":"VLOOKUP(B316,'[1]Ko tgia'!$B$2:$M$1900,4,0)","v":"1921120274"},{"$f":"VLOOKUP(B316,'[1]Ko tgia'!$B$2:$M$1900,5,0)","v":"019206007707"},"26/07/2006",null,null,10,{"v":526500,"d":"526,500"},"K60CĐT.K01","CK"]
[316,"K245520114038","Trần Gia Huy",{"$f":"VLOOKUP(B317,'[1]Ko tgia'!$B$2:$M$1900,4,0)","v":"2220432801"},{"$f":"VLOOKUP(B317,'[1]Ko tgia'!$B$2:$M$1900,5,0)","v":"022206001475"},"23/01/2006",null,null,10,{"v":526500,"d":"526,500"},"K60CĐT.K01","CK"]
[317,"K245520114059","Nguyễn Văn Nghĩa",{"$f":"VLOOKUP(B318,'[1]Ko tgia'!$B$2:$M$1900,4,0)","v":"2420174486"},{"$f":"VLOOKUP(B318,'[1]Ko tgia'!$B$2:$M$1900,5,0)","v":"024206001443"},"04/03/2006",null,null,10,{"v":526500,"d":"526,500"},"K60CĐT.K01","CK"]
[318,"K245520114017","Nguyễn Mạnh Đức",{"$f":"VLOOKUP(B319,'[1]Ko tgia'!$B$2:$M$1900,4,0)","v":"2620711561"},{"$f":"VLOOKUP(B319,'[1]Ko tgia'!$B$2:$M$1900,5,0)","v":"026206009094"},"19/10/2006",null,null,10,{"v":526500,"d":"526,500"},"K60CĐT.K01","CK"]
[319,"K245520114041","Phan Văn Huy",{"$f":"VLOOKUP(B320,'[1]Ko tgia'!$B$2:$M$1900,4,0)","v":"2621031948"},{"$f":"VLOOKUP(B320,'[1]Ko tgia'!$B$2:$M$1900,5,0)","v":"026205008509"},"09/01/2005",null,null,10,{"v":526500,"d":"526,500"},"K60CĐT.K01","CK"]
[320,"K245520114091","Nguyễn Minh Vũ",{"$f":"VLOOKUP(B321,'[1]Ko tgia'!$B$2:$M$1900,4,0)","v":"2721969070"},{"$f":"VLOOKUP(B321,'[1]Ko tgia'!$B$2:$M$1900,5,0)","v":"027206007062"},"14/09/2006",null,null,10,{"v":526500,"d":"526,500"},"K60CĐT.K01","CK"]
[321,"K245520114143","Trịnh Tuấn Minh",{"$f":"VLOOKUP(B322,'[1]Ko tgia'!$B$2:$M$1900,4,0)","v":"0124563404"},{"$f":"VLOOKUP(B322,'[1]Ko tgia'!$B$2:$M$1900,5,0)","v":"001206085520"},"23/09/2006",null,null,10,{"v":526500,"d":"526,500"},"K60CĐT.K02","CK"]
[322,"K245520114112","Nguyễn Tùng Dương",{"$f":"VLOOKUP(B323,'[1]Ko tgia'!$B$2:$M$1900,4,0)","v":"1920046706"},{"$f":"VLOOKUP(B323,'[1]Ko tgia'!$B$2:$M$1900,5,0)","v":"019206007043"},"29/01/2006",null,null,10,{"v":526500,"d":"526,500"},"K60CĐT.K02","CK"]
[323,"K245520114115","Nguyễn Hoàng Hải",{"$f":"VLOOKUP(B324,'[1]Ko tgia'!$B$2:$M$1900,4,0)","v":"1920188425"},{"$f":"VLOOKUP(B324,'[1]Ko tgia'!$B$2:$M$1900,5,0)","v":"019206010149"},"05/10/2006",null,null,10,{"v":526500,"d":"526,500"},"K60CĐT.K02","CK"]
[324,"K245520114134","Nguyễn Văn Khiêm",{"$f":"VLOOKUP(B325,'[1]Ko tgia'!$B$2:$M$1900,4,0)","v":"1920304091"},{"$f":"VLOOKUP(B325,'[1]Ko tgia'!$B$2:$M$1900,5,0)","v":"019206002217"},"11/10/2006",null,null,10,{"v":526500,"d":"526,500"},"K60CĐT.K02","CK"]
[325,"K245520114106","Phạm Ngọc Duẩn",{"$f":"VLOOKUP(B326,'[1]Ko tgia'!$B$2:$M$1900,4,0)","v":"1920922111"},{"$f":"VLOOKUP(B326,'[1]Ko tgia'!$B$2:$M$1900,5,0)","v":"019206004906"},"20/04/2006",null,null,10,{"v":526500,"d":"526,500"},"K60CĐT.K02","CK"]
[326,"K245520114139","Nguyễn Quang Long",{"$f":"VLOOKUP(B327,'[1]Ko tgia'!$B$2:$M$1900,4,0)","v":"1921090336"},{"$f":"VLOOKUP(B327,'[1]Ko tgia'!$B$2:$M$1900,5,0)","v":"019206001061"},"21/01/2006",null,null,10,{"v":526500,"d":"526,500"},"K60CĐT.K02","CK"]
[327,"K245520114128","Hà Tuấn Huy",{"$f":"VLOOKUP(B328,'[1]Ko tgia'!$B$2:$M$1900,4,0)","v":"1921359445"},{"$f":"VLOOKUP(B328,'[1]Ko tgia'!$B$2:$M$1900,5,0)","v":"022206010035"},"19/11/2006",null,null,10,{"v":526500,"d":"526,500"},"K60CĐT.K02","CK"]
[328,"K245520114157","Vũ Trần Minh Tâm",{"$f":"VLOOKUP(B329,'[1]Ko tgia'!$B$2:$M$1900,4,0)","v":"1921459818"},{"$f":"VLOOKUP(B329,'[1]Ko tgia'!$B$2:$M$1900,5,0)","v":"075206009681"},"14/05/2006",null,null,10,{"v":526500,"d":"526,500"},"K60CĐT.K02","CK"]
[329,"K245520114127","Lăng Quốc Hưng",{"$f":"VLOOKUP(B330,'[1]Ko tgia'!$B$2:$M$1900,4,0)","v":"2020218116"},{"$f":"VLOOKUP(B330,'[1]Ko tgia'!$B$2:$M$1900,5,0)","v":"027206011506"},"31/07/2006",null,null,10,{"v":526500,"d":"526,500"},"K60CĐT.K02","CK"]
[330,"K245520114109","Nghiêm Đình Dũng",{"$f":"VLOOKUP(B331,'[1]Ko tgia'!$B$2:$M$1900,4,0)","v":"2421546110"},{"$f":"VLOOKUP(B331,'[1]Ko tgia'!$B$2:$M$1900,5,0)","v":"024206008532"},"01/02/2006",null,null,10,{"v":526500,"d":"526,500"},"K60CĐT.K02","CK"]
[331,"K245520114171","Nguyễn Anh Tú",{"$f":"VLOOKUP(B332,'[1]Ko tgia'!$B$2:$M$1900,4,0)","v":"2421555225"},{"$f":"VLOOKUP(B332,'[1]Ko tgia'!$B$2:$M$1900,5,0)","v":"024206016504"},"18/10/2006",null,null,10,{"v":526500,"d":"526,500"},"K60CĐT.K02","CK"]
[332,"K245520114135","Quách Đăng Khôi",{"$f":"VLOOKUP(B333,'[1]Ko tgia'!$B$2:$M$1900,4,0)","v":"2421979697"},{"$f":"VLOOKUP(B333,'[1]Ko tgia'!$B$2:$M$1900,5,0)","v":"024206002698"},"28/08/2006",null,null,10,{"v":526500,"d":"526,500"},"K60CĐT.K02","CK"]
[333,"K245520114144","Nguyễn Hữu Minh",{"$f":"VLOOKUP(B334,'[1]Ko tgia'!$B$2:$M$1900,4,0)","v":"2520768485"},{"$f":"VLOOKUP(B334,'[1]Ko tgia'!$B$2:$M$1900,5,0)","v":"025206010243"},"04/11/2006",null,null,10,{"v":526500,"d":"526,500"},"K60CĐT.K02","CK"]
[334,"K245520114131","Nguyễn Khắc Hùy",{"$f":"VLOOKUP(B335,'[1]Ko tgia'!$B$2:$M$1900,4,0)","v":"2720986274"},{"$f":"VLOOKUP(B335,'[1]Ko tgia'!$B$2:$M$1900,5,0)","v":"027206002272"},"06/07/2006",null,null,10,{"v":526500,"d":"526,500"},"K60CĐT.K02","CK"]
[335,"K245520114156","Phạm Văn Sử",{"$f":"VLOOKUP(B336,'[1]Ko tgia'!$B$2:$M$1900,4,0)","v":"3420573736"},{"$f":"VLOOKUP(B336,'[1]Ko tgia'!$B$2:$M$1900,5,0)","v":"034206018420"},"13/09/2006",null,null,10,{"v":526500,"d":"526,500"},"K60CĐT.K02","CK"]
[336,"K245520114160","Đinh Văn Thắng",{"$f":"VLOOKUP(B337,'[1]Ko tgia'!$B$2:$M$1900,4,0)","v":"3821684542"},{"$f":"VLOOKUP(B337,'[1]Ko tgia'!$B$2:$M$1900,5,0)","v":"038206013544"},"11/07/2006",null,null,10,{"v":526500,"d":"526,500"},"K60CĐT.K02","CK"]
[337,"K245520114100","Nguyễn Đình Công",{"$f":"VLOOKUP(B338,'[1]Ko tgia'!$B$2:$M$1900,4,0)","v":"4017102817"},{"$f":"VLOOKUP(B338,'[1]Ko tgia'!$B$2:$M$1900,5,0)","v":"040206022239"},"03/10/2006",null,null,10,{"v":526500,"d":"526,500"},"K60CĐT.K02","CK"]
[338,"K245520114230","Hoàng Hải Long",{"$f":"VLOOKUP(B339,'[1]Ko tgia'!$B$2:$M$1900,4,0)","v":"1920157219"},{"$f":"VLOOKUP(B339,'[1]Ko tgia'!$B$2:$M$1900,5,0)","v":"006206005704"},"28/03/2006",null,null,10,{"v":526500,"d":"526,500"},"K60CĐT.K03","CK"]
[339,"K245520114257","Trần Việt Trung",{"$f":"VLOOKUP(B340,'[1]Ko tgia'!$B$2:$M$1900,4,0)","v":"1920841547"},{"$f":"VLOOKUP(B340,'[1]Ko tgia'!$B$2:$M$1900,5,0)","v":"019206002183"},"05/08/2006",null,null,10,{"v":526500,"d":"526,500"},"K60CĐT.K03","CK"]
[340,"K245520114229","Nguyễn Văn Long",{"$f":"VLOOKUP(B341,'[1]Ko tgia'!$B$2:$M$1900,4,0)","v":"2020423694"},{"$f":"VLOOKUP(B341,'[1]Ko tgia'!$B$2:$M$1900,5,0)","v":"020206002289"},"04/07/2006",null,null,10,{"v":526500,"d":"526,500"},"K60CĐT.K03","CK"]
[341,"K245520114203","Nguyễn Ngọc Duy",{"$f":"VLOOKUP(B342,'[1]Ko tgia'!$B$2:$M$1900,4,0)","v":"2420222479"},{"$f":"VLOOKUP(B342,'[1]Ko tgia'!$B$2:$M$1900,5,0)","v":"024206014278"},"28/10/2006",null,null,10,{"v":526500,"d":"526,500"},"K60CĐT.K03","CK"]
[342,"K245520114261","Nguyễn Văn Tuân",{"$f":"VLOOKUP(B343,'[1]Ko tgia'!$B$2:$M$1900,4,0)","v":"2420239330"},{"$f":"VLOOKUP(B343,'[1]Ko tgia'!$B$2:$M$1900,5,0)","v":"024206014445"},"11/09/2006",null,null,10,{"v":526500,"d":"526,500"},"K60CĐT.K03","CK"]
[343,"K245520114207","Nguyễn Tuấn Hậu",{"$f":"VLOOKUP(B344,'[1]Ko tgia'!$B$2:$M$1900,4,0)","v":"2421371434"},{"$f":"VLOOKUP(B344,'[1]Ko tgia'!$B$2:$M$1900,5,0)","v":"024206005118"},"06/11/2006",null,null,10,{"v":526500,"d":"526,500"},"K60CĐT.K03","CK"]
[344,"K245520114327","Đỗ Vũ Như Nam",{"$f":"VLOOKUP(B345,'[1]Ko tgia'!$B$2:$M$1900,4,0)","v":"1920442394"},{"$f":"VLOOKUP(B345,'[1]Ko tgia'!$B$2:$M$1900,5,0)","v":"019206004300"},"21/10/2006",null,null,10,{"v":526500,"d":"526,500"},"K60CĐT.K04","CK"]
[345,"K245520114309","Nguyễn Quang Huy",{"$f":"VLOOKUP(B346,'[1]Ko tgia'!$B$2:$M$1900,4,0)","v":"1920963792"},{"$f":"VLOOKUP(B346,'[1]Ko tgia'!$B$2:$M$1900,5,0)","v":"019206001752"},"23/02/2006",null,null,10,{"v":526500,"d":"526,500"},"K60CĐT.K04","CK"]
[346,"K245520114338","Hoàng Minh Vĩnh Thái",{"$f":"VLOOKUP(B347,'[1]Ko tgia'!$B$2:$M$1900,4,0)","v":"1921006111"},null,"02/11/2006",null,null,10,{"v":526500,"d":"526,500"},"K60CĐT.K04","CK"]
[347,"K245520114281","Dương Đình Lê Đàn",{"$f":"VLOOKUP(B348,'[1]Ko tgia'!$B$2:$M$1900,4,0)","v":"1921180304"},null,"02/04/2006",null,null,10,{"v":526500,"d":"526,500"},"K60CĐT.K04","CK"]
[348,"K245520114287","Lê Huỳnh Đức",{"$f":"VLOOKUP(B349,'[1]Ko tgia'!$B$2:$M$1900,4,0)","v":"1921424474"},{"$f":"VLOOKUP(B349,'[1]Ko tgia'!$B$2:$M$1900,5,0)","v":"019204007173"},"09/09/2004",null,null,10,{"v":526500,"d":"526,500"},"K60CĐT.K04","CK"]
[349,"K245520114290","Nguyễn Văn Dương",{"$f":"VLOOKUP(B350,'[1]Ko tgia'!$B$2:$M$1900,4,0)","v":"2420109319"},null,"16/06/2006",null,null,10,{"v":526500,"d":"526,500"},"K60CĐT.K04","CK"]
[350,"K245520114305","Vũ Công Hưng",{"$f":"VLOOKUP(B351,'[1]Ko tgia'!$B$2:$M$1900,4,0)","v":"2420153763"},{"$f":"VLOOKUP(B351,'[1]Ko tgia'!$B$2:$M$1900,5,0)","v":"024206015171"},"26/07/2006",null,null,10,{"v":526500,"d":"526,500"},"K60CĐT.K04","CK"]
[351,"K245520114357","Hoàng Đình Văn",{"$f":"VLOOKUP(B352,'[1]Ko tgia'!$B$2:$M$1900,4,0)","v":"2421061331"},{"$f":"VLOOKUP(B352,'[1]Ko tgia'!$B$2:$M$1900,5,0)","v":"024206001805"},"19/08/2006",null,null,10,{"v":526500,"d":"526,500"},"K60CĐT.K04","CK"]
[352,"K245520114354","Trần Minh Tuấn",{"$f":"VLOOKUP(B353,'[1]Ko tgia'!$B$2:$M$1900,4,0)","v":"2421535077"},null,"03/09/2006",null,null,10,{"v":526500,"d":"526,500"},"K60CĐT.K04","CK"]
[353,"K245520114299","Nguyễn Trọng Hiếu",{"$f":"VLOOKUP(B354,'[1]Ko tgia'!$B$2:$M$1900,4,0)","v":"2721556654"},null,"24/06/2006",null,null,10,{"v":526500,"d":"526,500"},"K60CĐT.K04","CK"]
[354,"K245510201025","Nguyễn Văn Hạnh",{"$f":"VLOOKUP(B355,'[1]Ko tgia'!$B$2:$M$1900,4,0)","v":"0124523377"},{"$f":"VLOOKUP(B355,'[1]Ko tgia'!$B$2:$M$1900,5,0)","v":"001206015481"},"23/05/2006",null,null,10,{"v":526500,"d":"526,500"},"K60CN-SXT.K01","CK"]
[355,"K245510201054","Nguyễn Hồng Quân",{"$f":"VLOOKUP(B356,'[1]Ko tgia'!$B$2:$M$1900,4,0)","v":"0124771982"},{"$f":"VLOOKUP(B356,'[1]Ko tgia'!$B$2:$M$1900,5,0)","v":"001206090306"},"04/01/2006",null,null,10,{"v":526500,"d":"526,500"},"K60CN-SXT.K01","CK"]
[356,"K245510201002","Giang Thế Anh",{"$f":"VLOOKUP(B357,'[1]Ko tgia'!$B$2:$M$1900,4,0)","v":"0128246272"},{"$f":"VLOOKUP(B357,'[1]Ko tgia'!$B$2:$M$1900,5,0)","v":"001206076495"},"28/05/2006",null,null,10,{"v":526500,"d":"526,500"},"K60CN-SXT.K01","CK"]
[357,"K245510201007","Đỗ Việt Anh",{"$f":"VLOOKUP(B358,'[1]Ko tgia'!$B$2:$M$1900,4,0)","v":"1920008116"},{"$f":"VLOOKUP(B358,'[1]Ko tgia'!$B$2:$M$1900,5,0)","v":"019206001723"},"01/02/2006",null,null,10,{"v":526500,"d":"526,500"},"K60CN-SXT.K01","CK"]
[358,"K245510201003","Đinh Hải Anh",{"$f":"VLOOKUP(B359,'[1]Ko tgia'!$B$2:$M$1900,4,0)","v":"1920311967"},{"$f":"VLOOKUP(B359,'[1]Ko tgia'!$B$2:$M$1900,5,0)","v":"019206001478"},"03/08/2006",null,null,10,{"v":526500,"d":"526,500"},"K60CN-SXT.K01","CK"]
[359,"K245510201064","Nguyễn Đình Tiến",{"$f":"VLOOKUP(B360,'[1]Ko tgia'!$B$2:$M$1900,4,0)","v":"1920529675"},{"$f":"VLOOKUP(B360,'[1]Ko tgia'!$B$2:$M$1900,5,0)","v":"019206001972"},"10/01/2006",null,null,10,{"v":526500,"d":"526,500"},"K60CN-SXT.K01","CK"]
[360,"K245510201055","Ngô Minh Quang",{"$f":"VLOOKUP(B361,'[1]Ko tgia'!$B$2:$M$1900,4,0)","v":"1920569334"},{"$f":"VLOOKUP(B361,'[1]Ko tgia'!$B$2:$M$1900,5,0)","v":"019206008187"},"10/12/2006",null,null,10,{"v":526500,"d":"526,500"},"K60CN-SXT.K01","CK"]
[361,"K245510201039","Nông Quốc Khánh",{"$f":"VLOOKUP(B362,'[1]Ko tgia'!$B$2:$M$1900,4,0)","v":"1920678395"},{"$f":"VLOOKUP(B362,'[1]Ko tgia'!$B$2:$M$1900,5,0)","v":"019206009494"},"13/02/2006",null,null,10,{"v":526500,"d":"526,500"},"K60CN-SXT.K01","CK"]
[362,"K245510201074","Nguyễn Đoàn Tùng",{"$f":"VLOOKUP(B363,'[1]Ko tgia'!$B$2:$M$1900,4,0)","v":"1921042791"},{"$f":"VLOOKUP(B363,'[1]Ko tgia'!$B$2:$M$1900,5,0)","v":"019206006443"},"10/03/2006",null,null,10,{"v":526500,"d":"526,500"},"K60CN-SXT.K01","CK"]
[363,"K245510201041","Vũ Văn Kiên",{"$f":"VLOOKUP(B364,'[1]Ko tgia'!$B$2:$M$1900,4,0)","v":"1921134529"},{"$f":"VLOOKUP(B364,'[1]Ko tgia'!$B$2:$M$1900,5,0)","v":"019206006685"},"07/05/2006",null,null,10,{"v":526500,"d":"526,500"},"K60CN-SXT.K01","CK"]
[364,"K245510201073","Đỗ Thanh Tùng",{"$f":"VLOOKUP(B365,'[1]Ko tgia'!$B$2:$M$1900,4,0)","v":"2220507084"},{"$f":"VLOOKUP(B365,'[1]Ko tgia'!$B$2:$M$1900,5,0)","v":"022206000412"},"02/01/2006",null,null,10,{"v":526500,"d":"526,500"},"K60CN-SXT.K01","CK"]
[365,"K245510201062","Trần Văn Thức",{"$f":"VLOOKUP(B366,'[1]Ko tgia'!$B$2:$M$1900,4,0)","v":"2420154547"},{"$f":"VLOOKUP(B366,'[1]Ko tgia'!$B$2:$M$1900,5,0)","v":"024206007257"},"19/05/2006",null,null,10,{"v":526500,"d":"526,500"},"K60CN-SXT.K01","CK"]
[366,"K245510201046","Nguyễn Châu Mạnh",{"$f":"VLOOKUP(B367,'[1]Ko tgia'!$B$2:$M$1900,4,0)","v":"2421291686"},{"$f":"VLOOKUP(B367,'[1]Ko tgia'!$B$2:$M$1900,5,0)","v":"024206011545"},"02/02/2006",null,null,10,{"v":526500,"d":"526,500"},"K60CN-SXT.K01","CK"]
[367,"K245510201034","Đặng Quang Huy",{"$f":"VLOOKUP(B368,'[1]Ko tgia'!$B$2:$M$1900,4,0)","v":"2421446073"},{"$f":"VLOOKUP(B368,'[1]Ko tgia'!$B$2:$M$1900,5,0)","v":"024206004754"},"01/11/2006",null,null,10,{"v":526500,"d":"526,500"},"K60CN-SXT.K01","CK"]
[368,"K245510201028","Hà Trung Hiếu",{"$f":"VLOOKUP(B369,'[1]Ko tgia'!$B$2:$M$1900,4,0)","v":"2421457322"},{"$f":"VLOOKUP(B369,'[1]Ko tgia'!$B$2:$M$1900,5,0)","v":"024206006283"},"07/05/2006",null,null,10,{"v":526500,"d":"526,500"},"K60CN-SXT.K01","CK"]
[369,"K245510201056","Vũ Văn Quý",{"$f":"VLOOKUP(B370,'[1]Ko tgia'!$B$2:$M$1900,4,0)","v":"2422390299"},{"$f":"VLOOKUP(B370,'[1]Ko tgia'!$B$2:$M$1900,5,0)","v":"024206000642"},"29/06/2006",null,null,10,{"v":526500,"d":"526,500"},"K60CN-SXT.K01","CK"]
[370,"K245510201044","Ngụy Văn Long",{"$f":"VLOOKUP(B371,'[1]Ko tgia'!$B$2:$M$1900,4,0)","v":"2721037691"},{"$f":"VLOOKUP(B371,'[1]Ko tgia'!$B$2:$M$1900,5,0)","v":"024206005354"},"15/09/2006",null,null,10,{"v":526500,"d":"526,500"},"K60CN-SXT.K01","CK"]
[371,"K245510201031","Nguyễn Huy Hưng",{"$f":"VLOOKUP(B372,'[1]Ko tgia'!$B$2:$M$1900,4,0)","v":"2721092501"},{"$f":"VLOOKUP(B372,'[1]Ko tgia'!$B$2:$M$1900,5,0)","v":"027205003682"},"20/02/2005",null,null,10,{"v":526500,"d":"526,500"},"K60CN-SXT.K01","CK"]
[372,"K245510201008","Nguyễn Phương Duy Anh",{"$f":"VLOOKUP(B373,'[1]Ko tgia'!$B$2:$M$1900,4,0)","v":"2721743107"},{"$f":"VLOOKUP(B373,'[1]Ko tgia'!$B$2:$M$1900,5,0)","v":"027206002740"},"09/08/2006",null,null,10,{"v":526500,"d":"526,500"},"K60CN-SXT.K01","CK"]
[373,"K245510201027","Phạm Đình Hiệp",{"$f":"VLOOKUP(B374,'[1]Ko tgia'!$B$2:$M$1900,4,0)","v":"3420506152"},{"$f":"VLOOKUP(B374,'[1]Ko tgia'!$B$2:$M$1900,5,0)","v":"034206002250"},"10/05/2006",null,null,10,{"v":526500,"d":"526,500"},"K60CN-SXT.K01","CK"]
[374,"K245520309014","Dương Thành Công",{"$f":"VLOOKUP(B375,'[1]Ko tgia'!$B$2:$M$1900,4,0)","v":"1920295678"},{"$f":"VLOOKUP(B375,'[1]Ko tgia'!$B$2:$M$1900,5,0)","v":"019206002006"},"27/05/2006",null,null,10,{"v":526500,"d":"526,500"},"K60CVL.K01","CK"]
[375,"K245520309017","Nguyễn Thị Thu Hiền",{"$f":"VLOOKUP(B376,'[1]Ko tgia'!$B$2:$M$1900,4,0)","v":"1921057919"},{"$f":"VLOOKUP(B376,'[1]Ko tgia'!$B$2:$M$1900,5,0)","v":"019306009962"},"26/01/2006",{"$f":"VLOOKUP(B376,'[2]Ko tgia'!$C$2:$K$9900,8,0)","v":"x"},null,10,{"v":526500,"d":"526,500"},"K60CVL.K01","CK"]
[376,"K245520309012","Lê Ích Tú",{"$f":"VLOOKUP(B377,'[1]Ko tgia'!$B$2:$M$1900,4,0)","v":"1921326748"},{"$f":"VLOOKUP(B377,'[1]Ko tgia'!$B$2:$M$1900,5,0)","v":"019206002056"},"09/10/2006",null,null,10,{"v":526500,"d":"526,500"},"K60CVL.K01","CK"]
[377,"K245520309002","Phạm Gia Cường",{"$f":"VLOOKUP(B378,'[1]Ko tgia'!$B$2:$M$1900,4,0)","v":"3022131240"},{"$f":"VLOOKUP(B378,'[1]Ko tgia'!$B$2:$M$1900,5,0)","v":"030203005426"},"14/07/2003",null,null,10,{"v":526500,"d":"526,500"},"K60CVL.K01","CK"]
[378,"K245520103008","Lê Tiến Đạt",{"$f":"VLOOKUP(B379,'[1]Ko tgia'!$B$2:$M$1900,4,0)","v":"1920258248"},{"$f":"VLOOKUP(B379,'[1]Ko tgia'!$B$2:$M$1900,5,0)","v":"019206006668"},"16/02/2006",null,null,10,{"v":526500,"d":"526,500"},"K60KC.K01","CK"]
[379,"K245520103187","Nguyễn Thành Hưng",{"$f":"VLOOKUP(B380,'[1]Ko tgia'!$B$2:$M$1900,3,0)","v":"2421585243"},{"$f":"VLOOKUP(B380,'[1]Ko tgia'!$B$2:$M$1900,5,0)","v":"024206004723"},"02/04/2006",null,null,10,{"v":526500,"d":"526,500"},"K60KC.K02","CK"]
[380,"K245520103195","Trần Văn Nam",{"$f":"VLOOKUP(B381,'[1]Ko tgia'!$B$2:$M$1900,3,0)","v":"1921079024"},{"$f":"VLOOKUP(B381,'[1]Ko tgia'!$B$2:$M$1900,5,0)","v":"033206008884"},"16/01/2006",null,null,10,{"v":526500,"d":"526,500"},"K60KC.K02","CK"]
[381,"K245520103122","Dương Ngô Nghiêm",{"$f":"VLOOKUP(B382,'[1]Ko tgia'!$B$2:$M$1900,3,0)","v":"2421930390"},{"$f":"VLOOKUP(B382,'[1]Ko tgia'!$B$2:$M$1900,5,0)","v":"024206014416"},"05/05/2006",null,null,10,{"v":526500,"d":"526,500"},"K60KC.K02","CK"]
[382,"K245520103092","Hà Sỹ Huy Dương",{"$f":"VLOOKUP(B383,'[1]Ko tgia'!$B$2:$M$1900,3,0)","v":"0620036321"},{"$f":"VLOOKUP(B383,'[1]Ko tgia'!$B$2:$M$1900,5,0)","v":"006206001889"},"20/03/2006",null,null,10,{"v":526500,"d":"526,500"},"K60KC.K02","CK"]
[383,"K245520107005","Nguyễn Văn Thịnh",{"$f":"VLOOKUP(B384,'[1]Ko tgia'!$B$2:$M$1900,4,0)","v":"0124765759"},{"$f":"VLOOKUP(B384,'[1]Ko tgia'!$B$2:$M$1900,5,0)","v":"001206028337"},"20/09/2006",null,null,10,{"v":526500,"d":"526,500"},"K60KRB.K01","CK"]
[384,"K245520107024","Đỗ Thị Thanh Thùy",{"$f":"VLOOKUP(B385,'[1]Ko tgia'!$B$2:$M$1900,4,0)","v":"1921055862"},{"$f":"VLOOKUP(B385,'[1]Ko tgia'!$B$2:$M$1900,5,0)","v":"019306005154"},"24/04/2006",{"$f":"VLOOKUP(B385,'[2]Ko tgia'!$C$2:$K$9900,8,0)","v":"x"},null,10,{"v":526500,"d":"526,500"},"K60KRB.K01","CK"]
[385,"K245520107013","Nguyễn Quang Huy",{"$f":"VLOOKUP(B386,'[1]Ko tgia'!$B$2:$M$1900,4,0)","v":"2420011028"},{"$f":"VLOOKUP(B386,'[1]Ko tgia'!$B$2:$M$1900,5,0)","v":"024206001554"},"12/08/2006",null,null,10,{"v":526500,"d":"526,500"},"K60KRB.K01","CK"]
[386,"K245580101006","Phạm Bình An",{"$f":"VLOOKUP(B387,'[1]Ko tgia'!$B$2:$M$1900,4,0)","v":"2421997457"},{"$f":"VLOOKUP(B387,'[1]Ko tgia'!$B$2:$M$1900,5,0)","v":"024205006664"},"09/08/2005",null,null,10,{"v":526500,"d":"526,500"},"K60KTC.S01","CK"]
[387,"K245580201023","Diều Quốc Vũ",{"$f":"VLOOKUP(B388,'[1]Ko tgia'!$B$2:$M$1900,4,0)","v":"0420143469"},{"$f":"VLOOKUP(B388,'[1]Ko tgia'!$B$2:$M$1900,5,0)","v":"004206004088"},"02/11/2006",null,null,10,{"v":526500,"d":"526,500"},"K60KXC.K01","CK"]
[388,"K245580201002","Trần Minh Chiến",{"$f":"VLOOKUP(B389,'[1]Ko tgia'!$B$2:$M$1900,4,0)","v":"2020077970"},{"$f":"VLOOKUP(B389,'[1]Ko tgia'!$B$2:$M$1900,5,0)","v":"020206000703"},"30/03/2006",null,null,10,{"v":526500,"d":"526,500"},"K60KXC.K01","CK"]
[389,"K245580201016","Vũ Quốc Toản",{"$f":"VLOOKUP(B390,'[1]Ko tgia'!$B$2:$M$1900,4,0)","v":"3620646281"},{"$f":"VLOOKUP(B390,'[1]Ko tgia'!$B$2:$M$1900,5,0)","v":"036206002557"},"16/11/2006",null,null,10,{"v":526500,"d":"526,500"},"K60KXC.K01","CK"]
[390,"K215510202032","Nguyễn Thế Phương",{"$f":"VLOOKUP(B391,'[1]Ko tgia'!$B$2:$M$1900,4,0)","v":"0820013559"},{"$f":"VLOOKUP(B391,'[1]Ko tgia'!$B$2:$M$1900,5,0)","v":"008203006283"},"08/10/2003",null,null,10,{"v":526500,"d":"526,500"},"K57CN-CTM.01","CN"]
[391,"K215510202008","Phan Văn Duy",{"$f":"VLOOKUP(B392,'[1]Ko tgia'!$B$2:$M$1900,4,0)","v":"1920851372"},{"$f":"VLOOKUP(B392,'[1]Ko tgia'!$B$2:$M$1900,5,0)","v":"019203006957"},"19/07/2003",null,null,10,{"v":526500,"d":"526,500"},"K57CN-CTM.01","CN"]
[392,"K215510202035","Lý Thị Như Quỳnh",{"$f":"VLOOKUP(B393,'[1]Ko tgia'!$B$2:$M$1900,4,0)","v":"1920852106"},{"$f":"VLOOKUP(B393,'[1]Ko tgia'!$B$2:$M$1900,5,0)","v":"019303005511"},"30/07/2003",{"$f":"VLOOKUP(B393,'[2]Ko tgia'!$C$2:$K$9900,8,0)","v":"x"},null,10,{"v":526500,"d":"526,500"},"K57CN-CTM.01","CN"]
[393,"K215510202023","Lê Văn Thanh",{"$f":"VLOOKUP(B394,'[1]Ko tgia'!$B$2:$M$1900,4,0)","v":"1920881265"},{"$f":"VLOOKUP(B394,'[1]Ko tgia'!$B$2:$M$1900,5,0)","v":"019203010717"},"18/03/2003",null,null,10,{"v":526500,"d":"526,500"},"K57CN-CTM.01","CN"]
[394,"K215510202007","Nguyễn Ánh Dương",{"$f":"VLOOKUP(B395,'[1]Ko tgia'!$B$2:$M$1900,4,0)","v":"1920994646"},{"$f":"VLOOKUP(B395,'[1]Ko tgia'!$B$2:$M$1900,5,0)","v":"019203001490"},"01/07/2003",null,null,10,{"v":526500,"d":"526,500"},"K57CN-CTM.01","CN"]
[395,"K215510202002","Nguyễn Đức Chính",{"$f":"VLOOKUP(B396,'[1]Ko tgia'!$B$2:$M$1900,4,0)","v":"2420151707"},{"$f":"VLOOKUP(B396,'[1]Ko tgia'!$B$2:$M$1900,5,0)","v":"024203005223"},"16/10/2003",null,null,10,{"v":526500,"d":"526,500"},"K57CN-CTM.01","CN"]
[396,"K215510202072","Luyện Huy Vũ",{"$f":"VLOOKUP(B397,'[1]Ko tgia'!$B$2:$M$1900,4,0)","v":"2421201114"},{"$f":"VLOOKUP(B397,'[1]Ko tgia'!$B$2:$M$1900,5,0)","v":"024203010750"},"03/06/2003",null,null,10,{"v":526500,"d":"526,500"},"K57CN-CTM.01","CN"]
[397,"K215510202050","Nguyễn Văn Đạt",{"$f":"VLOOKUP(B398,'[1]Ko tgia'!$B$2:$M$1900,4,0)","v":"2721145260"},{"$f":"VLOOKUP(B398,'[1]Ko tgia'!$B$2:$M$1900,5,0)","v":"027203002624"},"22/02/2003",null,null,10,{"v":526500,"d":"526,500"},"K57CN-CTM.01","CN"]
[398,"K215510202040","Trần Quang Quý",{"$f":"VLOOKUP(B399,'[1]Ko tgia'!$B$2:$M$1900,4,0)","v":"6622275302"},{"$f":"VLOOKUP(B399,'[1]Ko tgia'!$B$2:$M$1900,5,0)","v":"035201010068"},"22/01/2001",null,null,10,{"v":526500,"d":"526,500"},"K57CN-CTM.01","CN"]
[399,"K215510301060","Trần Anh Minh Quân",{"$f":"VLOOKUP(B400,'[1]Ko tgia'!$B$2:$M$1900,4,0)","v":"1920919213"},{"$f":"VLOOKUP(B400,'[1]Ko tgia'!$B$2:$M$1900,5,0)","v":"019203000941"},"18/07/2003",null,null,10,{"v":526500,"d":"526,500"},"K57CN-ĐĐT.01","CN"]
[400,"K215510301081","Nguyễn Văn Việt",{"$f":"VLOOKUP(B401,'[1]Ko tgia'!$B$2:$M$1900,4,0)","v":"1920969592"},{"$f":"VLOOKUP(B401,'[1]Ko tgia'!$B$2:$M$1900,5,0)","v":"019203001538"},"28/02/2003",null,null,10,{"v":526500,"d":"526,500"},"K57CN-ĐĐT.01","CN"]
[401,"K215510301053","Hoàng Đức Lợi",{"$f":"VLOOKUP(B402,'[1]Ko tgia'!$B$2:$M$1900,4,0)","v":"2420425344"},{"$f":"VLOOKUP(B402,'[1]Ko tgia'!$B$2:$M$1900,5,0)","v":"024203006688"},"13/09/2003",null,null,10,{"v":526500,"d":"526,500"},"K57CN-ĐĐT.01","CN"]
[402,"K215510301124","Trần Xuân Khuyến",{"$f":"VLOOKUP(B403,'[1]Ko tgia'!$B$2:$M$1900,4,0)","v":"1920420526"},{"$f":"VLOOKUP(B403,'[1]Ko tgia'!$B$2:$M$1900,5,0)","v":"019203002011"},"12/09/2003",null,null,10,{"v":526500,"d":"526,500"},"K57CN-ĐĐT.02","CN"]
[403,"K215510301176","Bùi Đức Thắng",{"$f":"VLOOKUP(B404,'[1]Ko tgia'!$B$2:$M$1900,4,0)","v":"1920919266"},{"$f":"VLOOKUP(B404,'[1]Ko tgia'!$B$2:$M$1900,5,0)","v":"019203005691"},"05/02/2003",null,null,10,{"v":526500,"d":"526,500"},"K57CN-ĐĐT.02","CN"]
[404,"K215510301087","Nguyễn Văn Cảnh",{"$f":"VLOOKUP(B405,'[1]Ko tgia'!$B$2:$M$1900,4,0)","v":"1920973398"},{"$f":"VLOOKUP(B405,'[1]Ko tgia'!$B$2:$M$1900,5,0)","v":"019203001595"},"04/07/2003",null,null,10,{"v":526500,"d":"526,500"},"K57CN-ĐĐT.02","CN"]
[405,"K215510301135","Đàm Văn Quân",{"$f":"VLOOKUP(B406,'[1]Ko tgia'!$B$2:$M$1900,4,0)","v":"1921095147"},{"$f":"VLOOKUP(B406,'[1]Ko tgia'!$B$2:$M$1900,5,0)","v":"019203003500"},"06/09/2003",null,null,10,{"v":526500,"d":"526,500"},"K57CN-ĐĐT.02","CN"]
[406,"K215510301094","Phạm Tuấn Đạt",{"$f":"VLOOKUP(B407,'[1]Ko tgia'!$B$2:$M$1900,4,0)","v":"1921294503"},{"$f":"VLOOKUP(B407,'[1]Ko tgia'!$B$2:$M$1900,5,0)","v":"019203001917"},"26/03/2003",null,null,10,{"v":526500,"d":"526,500"},"K57CN-ĐĐT.02","CN"]
[407,"K215510301344","Nguyễn Thanh Tú",{"$f":"VLOOKUP(B408,'[1]Ko tgia'!$B$2:$M$1900,4,0)","v":"2421298903"},{"$f":"VLOOKUP(B408,'[1]Ko tgia'!$B$2:$M$1900,5,0)","v":"024203006037"},"05/04/2003",null,null,10,{"v":526500,"d":"526,500"},"K57CN-ĐĐT.02","CN"]
[408,"K215510301173","Đinh Văn Giáp",{"$f":"VLOOKUP(B409,'[1]Ko tgia'!$B$2:$M$1900,4,0)","v":"2720520728"},{"$f":"VLOOKUP(B409,'[1]Ko tgia'!$B$2:$M$1900,5,0)","v":"027203009281"},"01/02/2003",null,null,10,{"v":526500,"d":"526,500"},"K57CN-ĐĐT.02","CN"]
[409,"K215510301153","Đinh Anh Tuấn",{"$f":"VLOOKUP(B410,'[1]Ko tgia'!$B$2:$M$1900,4,0)","v":"3720358025"},{"$f":"VLOOKUP(B410,'[1]Ko tgia'!$B$2:$M$1900,5,0)","v":"037203000489"},"01/11/2003",null,null,10,{"v":526500,"d":"526,500"},"K57CN-ĐĐT.02","CN"]
[410,"K215510301247","Vũ Huy Tài",{"$f":"VLOOKUP(B411,'[1]Ko tgia'!$B$2:$M$1900,4,0)","v":"1920572061"},{"$f":"VLOOKUP(B411,'[1]Ko tgia'!$B$2:$M$1900,5,0)","v":"019203002842"},"16/04/2003",null,null,10,{"v":526500,"d":"526,500"},"K57CN-ĐĐT.03","CN"]
[411,"K215510301324","Triệu Văn Quyết",{"$f":"VLOOKUP(B412,'[1]Ko tgia'!$B$2:$M$1900,4,0)","v":"1920635411"},null,"12/01/2003",null,null,10,{"v":526500,"d":"526,500"},"K57CN-ĐĐT.03","CN"]
[412,"K215510301271","Tạ Quang Bằng",{"$f":"VLOOKUP(B413,'[1]Ko tgia'!$B$2:$M$1900,4,0)","v":"1921117979"},{"$f":"VLOOKUP(B413,'[1]Ko tgia'!$B$2:$M$1900,5,0)","v":"019203006237"},"16/05/2003",null,null,10,{"v":526500,"d":"526,500"},"K57CN-ĐĐT.03","CN"]
[413,"K215510301300","Bùi Quốc Huy",{"$f":"VLOOKUP(B414,'[1]Ko tgia'!$B$2:$M$1900,4,0)","v":"2420045314"},{"$f":"VLOOKUP(B414,'[1]Ko tgia'!$B$2:$M$1900,5,0)","v":"024203006138"},"01/05/2003",null,null,10,{"v":526500,"d":"526,500"},"K57CN-ĐĐT.03","CN"]
[414,"K215510301253","Đỗ Đức Trọng",{"$f":"VLOOKUP(B415,'[1]Ko tgia'!$B$2:$M$1900,4,0)","v":"2420287157"},null,"26/10/2003",null,null,10,{"v":526500,"d":"526,500"},"K57CN-ĐĐT.03","CN"]
[415,"K215510301305","Giáp Văn Kiên",{"$f":"VLOOKUP(B416,'[1]Ko tgia'!$B$2:$M$1900,4,0)","v":"2421268323"},{"$f":"VLOOKUP(B416,'[1]Ko tgia'!$B$2:$M$1900,5,0)","v":"024203006043"},"06/06/2003",null,null,10,{"v":526500,"d":"526,500"},"K57CN-ĐĐT.03","CN"]
[416,"K215510301208","Chu Anh Hảo",{"$f":"VLOOKUP(B417,'[1]Ko tgia'!$B$2:$M$1900,4,0)","v":"2422468641"},null,"16/12/2003",null,null,10,{"v":526500,"d":"526,500"},"K57CN-ĐĐT.03","CN"]
[417,"K215510301328","Nguyễn Quang Thịnh",{"$f":"VLOOKUP(B418,'[1]Ko tgia'!$B$2:$M$1900,4,0)","v":"2620860268"},{"$f":"VLOOKUP(B418,'[1]Ko tgia'!$B$2:$M$1900,5,0)","v":"026203001628"},"20/09/2003",null,null,10,{"v":526500,"d":"526,500"},"K57CN-ĐĐT.03","CN"]
[418,"K215510301346","Phạm Văn Toàn",{"$f":"VLOOKUP(B419,'[1]Ko tgia'!$B$2:$M$1900,4,0)","v":"2721214598"},{"$f":"VLOOKUP(B419,'[1]Ko tgia'!$B$2:$M$1900,5,0)","v":"027203002655"},"26/11/2003",null,null,10,{"v":526500,"d":"526,500"},"K57CN-ĐĐT.03","CN"]
[419,"K225510202013","Nguyễn Phương Hiếu",{"$f":"VLOOKUP(B420,'[1]Ko tgia'!$B$2:$M$1900,4,0)","v":"1920016013"},{"$f":"VLOOKUP(B420,'[1]Ko tgia'!$B$2:$M$1900,5,0)","v":"019204010875"},"30/05/2004",null,null,10,{"v":526500,"d":"526,500"},"K58CN-CTM.K01","CN"]
[420,"K225510202026","Nguyễn Xuân Lâm",{"$f":"VLOOKUP(B421,'[1]Ko tgia'!$B$2:$M$1900,4,0)","v":"1920089359"},null,"03/06/2004",null,null,10,{"v":526500,"d":"526,500"},"K58CN-CTM.K01","CN"]
[421,"K225510202032","Nguyễn Thanh Thảo",{"$f":"VLOOKUP(B422,'[1]Ko tgia'!$B$2:$M$1900,4,0)","v":"1920246302"},{"$f":"VLOOKUP(B422,'[1]Ko tgia'!$B$2:$M$1900,5,0)","v":"019304006447"},"15/09/2004",{"$f":"VLOOKUP(B422,'[2]Ko tgia'!$C$2:$K$9900,8,0)","v":"x"},null,10,{"v":526500,"d":"526,500"},"K58CN-CTM.K01","CN"]
[422,"K225510202012","Phạm Trung Hiếu",{"$f":"VLOOKUP(B423,'[1]Ko tgia'!$B$2:$M$1900,4,0)","v":"1920307465"},{"$f":"VLOOKUP(B423,'[1]Ko tgia'!$B$2:$M$1900,5,0)","v":"019204002527"},"21/01/2004",null,null,10,{"v":526500,"d":"526,500"},"K58CN-CTM.K01","CN"]
[423,"K225510202001","Lý Việt Anh",{"$f":"VLOOKUP(B424,'[1]Ko tgia'!$B$2:$M$1900,4,0)","v":"1920445389"},{"$f":"VLOOKUP(B424,'[1]Ko tgia'!$B$2:$M$1900,5,0)","v":"019204004595"},"23/09/2004",null,null,10,{"v":526500,"d":"526,500"},"K58CN-CTM.K01","CN"]
[424,"K225510202014","Đỗ Quang Hiếu",{"$f":"VLOOKUP(B425,'[1]Ko tgia'!$B$2:$M$1900,4,0)","v":"1920996087"},{"$f":"VLOOKUP(B425,'[1]Ko tgia'!$B$2:$M$1900,5,0)","v":"019204005193"},"27/09/2004",null,null,10,{"v":526500,"d":"526,500"},"K58CN-CTM.K01","CN"]
[425,"K225510202019","Nguyễn Văn Hùng",{"$f":"VLOOKUP(B426,'[1]Ko tgia'!$B$2:$M$1900,4,0)","v":"1921044301"},null,"02/10/2004",null,null,10,{"v":526500,"d":"526,500"},"K58CN-CTM.K01","CN"]
[426,"K225510202023","Đặng Đức Huy",{"$f":"VLOOKUP(B427,'[1]Ko tgia'!$B$2:$M$1900,4,0)","v":"1921074162"},{"$f":"VLOOKUP(B427,'[1]Ko tgia'!$B$2:$M$1900,5,0)","v":"019204010685"},"29/02/2004",null,null,10,{"v":526500,"d":"526,500"},"K58CN-CTM.K01","CN"]
[427,"K225510202007","Thân Văn Đăng",{"$f":"VLOOKUP(B428,'[1]Ko tgia'!$B$2:$M$1900,4,0)","v":"2421307217"},null,"14/11/2004",null,null,10,{"v":526500,"d":"526,500"},"K58CN-CTM.K01","CN"]
[428,"K225510202011","Nguyễn Thanh Hải",{"$f":"VLOOKUP(B429,'[1]Ko tgia'!$B$2:$M$1900,4,0)","v":"2421699161"},{"$f":"VLOOKUP(B429,'[1]Ko tgia'!$B$2:$M$1900,5,0)","v":"024204000666"},"11/12/2004",null,null,10,{"v":526500,"d":"526,500"},"K58CN-CTM.K01","CN"]
[429,"K225510202017","Nguyễn Văn Huân",{"$f":"VLOOKUP(B430,'[1]Ko tgia'!$B$2:$M$1900,4,0)","v":"2620768147"},{"$f":"VLOOKUP(B430,'[1]Ko tgia'!$B$2:$M$1900,5,0)","v":"026204005753"},"28/09/2004",null,null,10,{"v":526500,"d":"526,500"},"K58CN-CTM.K01","CN"]
[430,"K225510301221","Nguyễn Tuấn Anh",{"$f":"VLOOKUP(B431,'[1]Ko tgia'!$B$2:$M$1900,4,0)","v":"0121450452"},null,"18/09/2003",null,null,10,{"v":526500,"d":"526,500"},"K58CN-ĐĐT.K01","CN"]
[431,"K225510301044","Đặng Đức Mạnh",{"$f":"VLOOKUP(B432,'[1]Ko tgia'!$B$2:$M$1900,4,0)","v":"1920124325"},null,"14/03/2004",null,null,10,{"v":526500,"d":"526,500"},"K58CN-ĐĐT.K01","CN"]
[432,"K225510301007","Ứng Trần Gia Bảo",{"$f":"VLOOKUP(B433,'[1]Ko tgia'!$B$2:$M$1900,4,0)","v":"1920153239"},{"$f":"VLOOKUP(B433,'[1]Ko tgia'!$B$2:$M$1900,5,0)","v":"019204004650"},"02/12/2004",null,null,10,{"v":526500,"d":"526,500"},"K58CN-ĐĐT.K01","CN"]
[433,"K225510301045","Phùng Đức Minh",{"$f":"VLOOKUP(B434,'[1]Ko tgia'!$B$2:$M$1900,4,0)","v":"1920422845"},{"$f":"VLOOKUP(B434,'[1]Ko tgia'!$B$2:$M$1900,5,0)","v":"019204001652"},"08/03/2004",null,null,10,{"v":526500,"d":"526,500"},"K58CN-ĐĐT.K01","CN"]
[434,"K225510301005","Nguyễn Tuấn Anh",{"$f":"VLOOKUP(B435,'[1]Ko tgia'!$B$2:$M$1900,4,0)","v":"1920931069"},{"$f":"VLOOKUP(B435,'[1]Ko tgia'!$B$2:$M$1900,5,0)","v":"019204001289"},"13/10/2004",null,null,10,{"v":526500,"d":"526,500"},"K58CN-ĐĐT.K01","CN"]
[435,"K225510301034","Nguyễn Quang Hưng",{"$f":"VLOOKUP(B436,'[1]Ko tgia'!$B$2:$M$1900,4,0)","v":"1920998563"},{"$f":"VLOOKUP(B436,'[1]Ko tgia'!$B$2:$M$1900,5,0)","v":"019204001320"},"10/06/2004",null,null,10,{"v":526500,"d":"526,500"},"K58CN-ĐĐT.K01","CN"]
[436,"K225510301070","Trương Cảnh Tuấn",{"$f":"VLOOKUP(B437,'[1]Ko tgia'!$B$2:$M$1900,4,0)","v":"2421132247"},{"$f":"VLOOKUP(B437,'[1]Ko tgia'!$B$2:$M$1900,5,0)","v":"024204011220"},"10/07/2004",null,null,10,{"v":526500,"d":"526,500"},"K58CN-ĐĐT.K01","CN"]
[437,"K225510301042","Nguyễn Thị Linh",{"$f":"VLOOKUP(B438,'[1]Ko tgia'!$B$2:$M$1900,4,0)","v":"2421633707"},{"$f":"VLOOKUP(B438,'[1]Ko tgia'!$B$2:$M$1900,5,0)","v":"024304013489"},"30/11/2004",{"$f":"VLOOKUP(B438,'[2]Ko tgia'!$C$2:$K$9900,8,0)","v":"x"},null,10,{"v":526500,"d":"526,500"},"K58CN-ĐĐT.K01","CN"]
[438,"K225510301067","Nguyễn Văn Trọng",{"$f":"VLOOKUP(B439,'[1]Ko tgia'!$B$2:$M$1900,4,0)","v":"2721610002"},{"$f":"VLOOKUP(B439,'[1]Ko tgia'!$B$2:$M$1900,5,0)","v":"027204008309"},"07/06/2004",null,null,10,{"v":526500,"d":"526,500"},"K58CN-ĐĐT.K01","CN"]
[439,"K225510301141","Hoàng Thanh Tuấn",{"$f":"VLOOKUP(B440,'[1]Ko tgia'!$B$2:$M$1900,4,0)","v":"1920930275"},null,"22/10/2004",null,null,10,{"v":526500,"d":"526,500"},"K58CN-ĐĐT.K02","CN"]
[440,"K225510301078","Hà Mậu Bắc",{"$f":"VLOOKUP(B441,'[1]Ko tgia'!$B$2:$M$1900,4,0)","v":"1921186177"},{"$f":"VLOOKUP(B441,'[1]Ko tgia'!$B$2:$M$1900,5,0)","v":"019204006698"},"05/11/2004",null,null,10,{"v":526500,"d":"526,500"},"K58CN-ĐĐT.K02","CN"]
[441,"K225510301225","Lý Văn Bảo",{"$f":"VLOOKUP(B442,'[1]Ko tgia'!$B$2:$M$1900,4,0)","v":"2020576491"},{"$f":"VLOOKUP(B442,'[1]Ko tgia'!$B$2:$M$1900,5,0)","v":"020202000624"},"03/05/2002",null,null,10,{"v":526500,"d":"526,500"},"K58CN-ĐĐT.K02","CN"]
[442,"K225510301127","Nguyễn Tiến Phương",{"$f":"VLOOKUP(B443,'[1]Ko tgia'!$B$2:$M$1900,4,0)","v":"2421495252"},{"$f":"VLOOKUP(B443,'[1]Ko tgia'!$B$2:$M$1900,5,0)","v":"024204001311"},"10/09/2004",null,null,10,{"v":526500,"d":"526,500"},"K58CN-ĐĐT.K02","CN"]
[443,"K225510301109","Nguyễn Sỹ Quốc Khánh",{"$f":"VLOOKUP(B444,'[1]Ko tgia'!$B$2:$M$1900,4,0)","v":"2720362833"},null,"28/09/2004",null,null,10,{"v":526500,"d":"526,500"},"K58CN-ĐĐT.K02","CN"]
[444,"K225510301136","Phạm Văn Thiết",{"$f":"VLOOKUP(B445,'[1]Ko tgia'!$B$2:$M$1900,4,0)","v":"3821171083"},null,"23/06/2004",null,null,10,{"v":526500,"d":"526,500"},"K58CN-ĐĐT.K02","CN"]
[445,"K225510301161","Doãn Đình Đức",{"$f":"VLOOKUP(B446,'[1]Ko tgia'!$B$2:$M$1900,4,0)","v":"0220913831"},null,"10/09/2004",null,null,10,{"v":526500,"d":"526,500"},"K58CN-ĐĐT.K03","CN"]
[446,"K225510301175","Đàm Huy Hoàng",{"$f":"VLOOKUP(B447,'[1]Ko tgia'!$B$2:$M$1900,4,0)","v":"0820057744"},{"$f":"VLOOKUP(B447,'[1]Ko tgia'!$B$2:$M$1900,5,0)","v":"008204005009"},"12/02/2004",null,null,10,{"v":526500,"d":"526,500"},"K58CN-ĐĐT.K03","CN"]
[447,"K225510301147","Bùi Tuấn Anh",{"$f":"VLOOKUP(B448,'[1]Ko tgia'!$B$2:$M$1900,4,0)","v":"1020043108"},{"$f":"VLOOKUP(B448,'[1]Ko tgia'!$B$2:$M$1900,5,0)","v":"010204006126"},"17/08/2004",null,null,10,{"v":526500,"d":"526,500"},"K58CN-ĐĐT.K03","CN"]
[448,"K225510301190","Mai Ngọc Minh",{"$f":"VLOOKUP(B449,'[1]Ko tgia'!$B$2:$M$1900,4,0)","v":"1920046710"},{"$f":"VLOOKUP(B449,'[1]Ko tgia'!$B$2:$M$1900,5,0)","v":"019204000375"},"30/03/2004",null,null,10,{"v":526500,"d":"526,500"},"K58CN-ĐĐT.K03","CN"]
[449,"K225510301234","Trần Tuấn Anh",{"$f":"VLOOKUP(B450,'[1]Ko tgia'!$B$2:$M$1900,4,0)","v":"1920961150"},{"$f":"VLOOKUP(B450,'[1]Ko tgia'!$B$2:$M$1900,5,0)","v":"019204002730"},"22/10/2004",null,null,10,{"v":526500,"d":"526,500"},"K58CN-ĐĐT.K03","CN"]
[450,"K225510301155","Trần Mạnh Cường",{"$f":"VLOOKUP(B451,'[1]Ko tgia'!$B$2:$M$1900,4,0)","v":"1921017695"},{"$f":"VLOOKUP(B451,'[1]Ko tgia'!$B$2:$M$1900,5,0)","v":"019204002751"},"12/07/2004",null,null,10,{"v":526500,"d":"526,500"},"K58CN-ĐĐT.K03","CN"]
[451,"K225510301213","Trần Thanh Tuấn",{"$f":"VLOOKUP(B452,'[1]Ko tgia'!$B$2:$M$1900,4,0)","v":"1921578615"},{"$f":"VLOOKUP(B452,'[1]Ko tgia'!$B$2:$M$1900,5,0)","v":"019204002738"},"22/10/2004",null,null,10,{"v":526500,"d":"526,500"},"K58CN-ĐĐT.K03","CN"]
[452,"K225510301211","Trần Đức Trường",{"$f":"VLOOKUP(B453,'[1]Ko tgia'!$B$2:$M$1900,4,0)","v":"2420116104"},{"$f":"VLOOKUP(B453,'[1]Ko tgia'!$B$2:$M$1900,5,0)","v":"024204002600"},"12/07/2004",null,null,10,{"v":526500,"d":"526,500"},"K58CN-ĐĐT.K03","CN"]
[453,"K225510301228","Nguyễn Ngọc Tú",{"$f":"VLOOKUP(B454,'[1]Ko tgia'!$B$2:$M$1900,4,0)","v":"2420234803"},{"$f":"VLOOKUP(B454,'[1]Ko tgia'!$B$2:$M$1900,5,0)","v":"024204000232"},"24/03/2004",null,null,10,{"v":526500,"d":"526,500"},"K58CN-ĐĐT.K03","CN"]
[454,"K225510301197","Lê Hồng Phong",{"$f":"VLOOKUP(B455,'[1]Ko tgia'!$B$2:$M$1900,4,0)","v":"2420250721"},{"$f":"VLOOKUP(B455,'[1]Ko tgia'!$B$2:$M$1900,5,0)","v":"024204008186"},"14/09/2004",null,null,10,{"v":526500,"d":"526,500"},"K58CN-ĐĐT.K03","CN"]
[455,"K225510301156","Lê Tiến Đạt",{"$f":"VLOOKUP(B456,'[1]Ko tgia'!$B$2:$M$1900,4,0)","v":"2420258156"},{"$f":"VLOOKUP(B456,'[1]Ko tgia'!$B$2:$M$1900,5,0)","v":"024204002704"},"29/10/2004",null,null,10,{"v":526500,"d":"526,500"},"K58CN-ĐĐT.K03","CN"]
[456,"K225510301157","Thân Trọng Đạt",{"$f":"VLOOKUP(B457,'[1]Ko tgia'!$B$2:$M$1900,4,0)","v":"2420279561"},{"$f":"VLOOKUP(B457,'[1]Ko tgia'!$B$2:$M$1900,5,0)","v":"024204001701"},"21/11/2004",null,null,10,{"v":526500,"d":"526,500"},"K58CN-ĐĐT.K03","CN"]
[457,"K225510301165","Nông Văn Duy",{"$f":"VLOOKUP(B458,'[1]Ko tgia'!$B$2:$M$1900,4,0)","v":"2421092562"},{"$f":"VLOOKUP(B458,'[1]Ko tgia'!$B$2:$M$1900,5,0)","v":"024204005935"},"03/09/2004",null,null,10,{"v":526500,"d":"526,500"},"K58CN-ĐĐT.K03","CN"]
[458,"K225510301196","Nguyễn Đức Nguyên",{"$f":"VLOOKUP(B459,'[1]Ko tgia'!$B$2:$M$1900,4,0)","v":"2421478751"},{"$f":"VLOOKUP(B459,'[1]Ko tgia'!$B$2:$M$1900,5,0)","v":"024204001985"},"05/11/2004",null,null,10,{"v":526500,"d":"526,500"},"K58CN-ĐĐT.K03","CN"]
[459,"K225520320002","Bùi Duy Tiên",{"$f":"VLOOKUP(B460,'[1]Ko tgia'!$B$2:$M$1900,4,0)","v":"1920976461"},{"$f":"VLOOKUP(B460,'[1]Ko tgia'!$B$2:$M$1900,5,0)","v":"019204001436"},"13/11/2004",null,null,10,{"v":526500,"d":"526,500"},"K58KTQ.K01","CN"]
[460,"K235510202006","Nguyễn Văn Dũng",{"$f":"VLOOKUP(B461,'[1]Ko tgia'!$B$2:$M$1900,4,0)","v":"0123171769"},{"$f":"VLOOKUP(B461,'[1]Ko tgia'!$B$2:$M$1900,5,0)","v":"001205052659"},"07/11/2005",null,null,10,{"v":526500,"d":"526,500"},"K59CN-CTM.K01","CN"]
[461,"K235510202032","Nguyễn Hải Long",{"$f":"VLOOKUP(B462,'[1]Ko tgia'!$B$2:$M$1900,4,0)","v":"0123413676"},{"$f":"VLOOKUP(B462,'[1]Ko tgia'!$B$2:$M$1900,5,0)","v":"001205032411"},"07/05/2005",null,null,10,{"v":526500,"d":"526,500"},"K59CN-CTM.K01","CN"]
[462,"K235510202037","Nguyễn Thanh Phong",{"$f":"VLOOKUP(B463,'[1]Ko tgia'!$B$2:$M$1900,4,0)","v":"0124579803"},{"$f":"VLOOKUP(B463,'[1]Ko tgia'!$B$2:$M$1900,5,0)","v":"001205036996"},"08/07/2005",null,null,10,{"v":526500,"d":"526,500"},"K59CN-CTM.K01","CN"]
[463,"K235510202047","Nguyễn Huy Toản",{"$f":"VLOOKUP(B464,'[1]Ko tgia'!$B$2:$M$1900,4,0)","v":"0123294634"},null,"22/12/2005",null,null,10,{"v":526500,"d":"526,500"},"K59CN-CTM.K01","CN"]
[464,"K235510202054","Nguyễn Sơn Hải",{"$f":"VLOOKUP(B465,'[1]Ko tgia'!$B$2:$M$1900,4,0)","v":"1920167400"},{"$f":"VLOOKUP(B465,'[1]Ko tgia'!$B$2:$M$1900,5,0)","v":"019205000478"},"03/09/2005",null,null,10,{"v":526500,"d":"526,500"},"K59CN-CTM.K01","CN"]
[465,"K235510202018","Vũ Ngọc Hiếu",{"$f":"VLOOKUP(B466,'[1]Ko tgia'!$B$2:$M$1900,4,0)","v":"1920264348"},{"$f":"VLOOKUP(B466,'[1]Ko tgia'!$B$2:$M$1900,5,0)","v":"0192050028949"},"22/10/2005",null,null,10,{"v":526500,"d":"526,500"},"K59CN-CTM.K01","CN"]
[466,"K235510202048","Nghiêm Văn Tú",{"$f":"VLOOKUP(B467,'[1]Ko tgia'!$B$2:$M$1900,4,0)","v":"1920488982"},{"$f":"VLOOKUP(B467,'[1]Ko tgia'!$B$2:$M$1900,5,0)","v":"019205011932"},"18/09/2005",null,null,10,{"v":526500,"d":"526,500"},"K59CN-CTM.K01","CN"]
[467,"K235510202020","Nguyễn Mạnh Hùng",{"$f":"VLOOKUP(B468,'[1]Ko tgia'!$B$2:$M$1900,4,0)","v":"1920495278"},{"$f":"VLOOKUP(B468,'[1]Ko tgia'!$B$2:$M$1900,5,0)","v":"019205000573"},"07/05/2005",null,null,10,{"v":526500,"d":"526,500"},"K59CN-CTM.K01","CN"]
[468,"K235510202062","Đỗ Lê Trung Hiếu",{"$f":"VLOOKUP(B469,'[1]Ko tgia'!$B$2:$M$1900,4,0)","v":"1920496759"},{"$f":"VLOOKUP(B469,'[1]Ko tgia'!$B$2:$M$1900,5,0)","v":"019205009200"},"17/01/2005",null,null,10,{"v":526500,"d":"526,500"},"K59CN-CTM.K01","CN"]
[469,"K235510202052","Nguyễn Minh Vũ",{"$f":"VLOOKUP(B470,'[1]Ko tgia'!$B$2:$M$1900,4,0)","v":"1920519212"},null,"10/08/2005",null,null,10,{"v":526500,"d":"526,500"},"K59CN-CTM.K01","CN"]
[470,"K235510202036","Trần Văn Phát",{"$f":"VLOOKUP(B471,'[1]Ko tgia'!$B$2:$M$1900,4,0)","v":"1920553550"},{"$f":"VLOOKUP(B471,'[1]Ko tgia'!$B$2:$M$1900,5,0)","v":"019205009320"},"29/12/2005",null,null,10,{"v":526500,"d":"526,500"},"K59CN-CTM.K01","CN"]
[471,"K235510202033","Trịnh Đại Lộc",{"$f":"VLOOKUP(B472,'[1]Ko tgia'!$B$2:$M$1900,4,0)","v":"1920634586"},{"$f":"VLOOKUP(B472,'[1]Ko tgia'!$B$2:$M$1900,5,0)","v":"064205000714"},"14/10/2005",null,null,10,{"v":526500,"d":"526,500"},"K59CN-CTM.K01","CN"]
[472,"K235510202040","Tạ Văn Sinh",{"$f":"VLOOKUP(B473,'[1]Ko tgia'!$B$2:$M$1900,4,0)","v":"1921033292"},{"$f":"VLOOKUP(B473,'[1]Ko tgia'!$B$2:$M$1900,5,0)","v":"019205008097"},"05/09/2005",null,null,10,{"v":526500,"d":"526,500"},"K59CN-CTM.K01","CN"]
[473,"K235510202061","Lưu Văn Hoàng",{"$f":"VLOOKUP(B474,'[1]Ko tgia'!$B$2:$M$1900,4,0)","v":"1921175922"},{"$f":"VLOOKUP(B474,'[1]Ko tgia'!$B$2:$M$1900,5,0)","v":"019205009279"},"15/04/2005",null,null,10,{"v":526500,"d":"526,500"},"K59CN-CTM.K01","CN"]
[474,"K235510202004","Nguyễn Hoàng Bảo",{"$f":"VLOOKUP(B475,'[1]Ko tgia'!$B$2:$M$1900,4,0)","v":"2220978057"},{"$f":"VLOOKUP(B475,'[1]Ko tgia'!$B$2:$M$1900,5,0)","v":"022205002080"},"31/12/2005",null,null,10,{"v":526500,"d":"526,500"},"K59CN-CTM.K01","CN"]
[475,"K235510202049","Hoàng Anh Tuân",{"$f":"VLOOKUP(B476,'[1]Ko tgia'!$B$2:$M$1900,4,0)","v":"2420263412"},{"$f":"VLOOKUP(B476,'[1]Ko tgia'!$B$2:$M$1900,5,0)","v":"024205010122"},"04/10/2005",null,null,10,{"v":526500,"d":"526,500"},"K59CN-CTM.K01","CN"]
[476,"K235510202007","Nguyễn Nam Dương",{"$f":"VLOOKUP(B477,'[1]Ko tgia'!$B$2:$M$1900,4,0)","v":"2420753231"},{"$f":"VLOOKUP(B477,'[1]Ko tgia'!$B$2:$M$1900,5,0)","v":"024205009167"},"01/09/2005",null,null,10,{"v":526500,"d":"526,500"},"K59CN-CTM.K01","CN"]
[477,"K235510202011","Nguyễn Duy Đại",{"$f":"VLOOKUP(B478,'[1]Ko tgia'!$B$2:$M$1900,4,0)","v":"2620618608"},{"$f":"VLOOKUP(B478,'[1]Ko tgia'!$B$2:$M$1900,5,0)","v":"026205009198"},"25/01/2005",null,null,10,{"v":526500,"d":"526,500"},"K59CN-CTM.K01","CN"]
[478,"K235510301173","Nguyễn Minh Lợi",{"$f":"VLOOKUP(B479,'[1]Ko tgia'!$B$2:$M$1900,4,0)","v":"1920243787"},{"$f":"VLOOKUP(B479,'[1]Ko tgia'!$B$2:$M$1900,5,0)","v":"019242004787"},"01/10/2005",null,null,10,{"v":526500,"d":"526,500"},"K59CN-ĐĐT.K01","CN"]
[479,"K235510301125","Lê Việt Huân",{"$f":"VLOOKUP(B480,'[1]Ko tgia'!$B$2:$M$1900,4,0)","v":"1921038154"},{"$f":"VLOOKUP(B480,'[1]Ko tgia'!$B$2:$M$1900,5,0)","v":"019205001909"},"03/12/2005",null,null,10,{"v":526500,"d":"526,500"},"K59CN-ĐĐT.K01","CN"]
[480,"K235510301074","Dương Đình Điệp",{"$f":"VLOOKUP(B481,'[1]Ko tgia'!$B$2:$M$1900,4,0)","v":"1921184005"},{"$f":"VLOOKUP(B481,'[1]Ko tgia'!$B$2:$M$1900,5,0)","v":"019205007131"},"26/08/2005",null,null,10,{"v":526500,"d":"526,500"},"K59CN-ĐĐT.K01","CN"]
[481,"K235510301287","Lý Thế Vinh",{"$f":"VLOOKUP(B482,'[1]Ko tgia'!$B$2:$M$1900,4,0)","v":"2020414334"},{"$f":"VLOOKUP(B482,'[1]Ko tgia'!$B$2:$M$1900,5,0)","v":"020205000890"},"21/01/2005",null,null,10,{"v":526500,"d":"526,500"},"K59CN-ĐĐT.K01","CN"]
[482,"K235510301208","Thân Văn Quyết",{"$f":"VLOOKUP(B483,'[1]Ko tgia'!$B$2:$M$1900,4,0)","v":"2420314879"},{"$f":"VLOOKUP(B483,'[1]Ko tgia'!$B$2:$M$1900,5,0)","v":"024205006584"},"02/05/2005",null,null,10,{"v":526500,"d":"526,500"},"K59CN-ĐĐT.K01","CN"]
[483,"K235510301121","Nguyễn Văn Hoàng",{"$f":"VLOOKUP(B484,'[1]Ko tgia'!$B$2:$M$1900,4,0)","v":"2420367392"},{"$f":"VLOOKUP(B484,'[1]Ko tgia'!$B$2:$M$1900,5,0)","v":"024205014417"},"20/01/2005",null,null,10,{"v":526500,"d":"526,500"},"K59CN-ĐĐT.K01","CN"]
[484,"K235510301032","Nguyễn Khắc Chiến",{"$f":"VLOOKUP(B485,'[1]Ko tgia'!$B$2:$M$1900,4,0)","v":"2420463060"},{"$f":"VLOOKUP(B485,'[1]Ko tgia'!$B$2:$M$1900,5,0)","v":"024205009439"},"20/06/2005",null,null,10,{"v":526500,"d":"526,500"},"K59CN-ĐĐT.K01","CN"]
[485,"K235510301046","Vũ Trí Cường",{"$f":"VLOOKUP(B486,'[1]Ko tgia'!$B$2:$M$1900,4,0)","v":"2421121388"},{"$f":"VLOOKUP(B486,'[1]Ko tgia'!$B$2:$M$1900,5,0)","v":"024205007293"},"09/11/2005",null,null,10,{"v":526500,"d":"526,500"},"K59CN-ĐĐT.K01","CN"]
[486,"K235510301137","Nguyễn Quang Huy",{"$f":"VLOOKUP(B487,'[1]Ko tgia'!$B$2:$M$1900,4,0)","v":"2421421100"},{"$f":"VLOOKUP(B487,'[1]Ko tgia'!$B$2:$M$1900,5,0)","v":"024205004673"},"29/09/2005",null,null,10,{"v":526500,"d":"526,500"},"K59CN-ĐĐT.K01","CN"]
[487,"K235510301075","Nguyễn Tiến Điệp",{"$f":"VLOOKUP(B488,'[1]Ko tgia'!$B$2:$M$1900,4,0)","v":"2620152990"},{"$f":"VLOOKUP(B488,'[1]Ko tgia'!$B$2:$M$1900,5,0)","v":"026205000658"},"26/12/2005",null,null,10,{"v":526500,"d":"526,500"},"K59CN-ĐĐT.K01","CN"]
[488,"K235510301081","Đỗ Văn Đức",{"$f":"VLOOKUP(B489,'[1]Ko tgia'!$B$2:$M$1900,4,0)","v":"2721608853"},{"$f":"VLOOKUP(B489,'[1]Ko tgia'!$B$2:$M$1900,5,0)","v":"027205011606"},"09/01/2005",null,null,10,{"v":526500,"d":"526,500"},"K59CN-ĐĐT.K01","CN"]
[489,"K235510301150","Trần Tuấn Khanh",{"$f":"VLOOKUP(B490,'[1]Ko tgia'!$B$2:$M$1900,4,0)","v":"3621708028"},{"$f":"VLOOKUP(B490,'[1]Ko tgia'!$B$2:$M$1900,5,0)","v":"036205019203"},"31/01/2005",null,null,10,{"v":526500,"d":"526,500"},"K59CN-ĐĐT.K01","CN"]
[490,"K235510301132","Phạm Mạnh Hùng",{"$f":"VLOOKUP(B491,'[1]Ko tgia'!$B$2:$M$1900,4,0)","v":"4016171556"},{"$f":"VLOOKUP(B491,'[1]Ko tgia'!$B$2:$M$1900,5,0)","v":"040205002162"},"12/06/2005",null,null,10,{"v":526500,"d":"526,500"},"K59CN-ĐĐT.K01","CN"]
[491,"K235510301170","Nguyễn Nam Long",{"$f":"VLOOKUP(B492,'[1]Ko tgia'!$B$2:$M$1900,4,0)","v":"4017204449"},{"$f":"VLOOKUP(B492,'[1]Ko tgia'!$B$2:$M$1900,5,0)","v":"040205018461"},"19/11/2005",null,null,10,{"v":526500,"d":"526,500"},"K59CN-ĐĐT.K01","CN"]
[492,"K235510301072","Dương Hải Đăng",{"$f":"VLOOKUP(B493,'[1]Ko tgia'!$B$2:$M$1900,4,0)","v":"1920291131"},{"$f":"VLOOKUP(B493,'[1]Ko tgia'!$B$2:$M$1900,5,0)","v":"019203000754"},"26/12/2003",null,null,10,{"v":526500,"d":"526,500"},"K59CN-ĐĐT.K02","CN"]
[493,"K235510301218","Hoàng Đức Tâm",{"$f":"VLOOKUP(B494,'[1]Ko tgia'!$B$2:$M$1900,4,0)","v":"1920636907"},{"$f":"VLOOKUP(B494,'[1]Ko tgia'!$B$2:$M$1900,5,0)","v":"019205001823"},"11/01/2005",null,null,10,{"v":526500,"d":"526,500"},"K59CN-ĐĐT.K02","CN"]
[494,"K235510301057","Nguyễn Khánh Duy",{"$f":"VLOOKUP(B495,'[1]Ko tgia'!$B$2:$M$1900,4,0)","v":"1921153393"},{"$f":"VLOOKUP(B495,'[1]Ko tgia'!$B$2:$M$1900,5,0)","v":"019205007468"},"19/08/2005",null,null,10,{"v":526500,"d":"526,500"},"K59CN-ĐĐT.K02","CN"]
[495,"K235510301152","Nguyễn Thị Ngọc Khuê",{"$f":"VLOOKUP(B496,'[1]Ko tgia'!$B$2:$M$1900,4,0)","v":"1921164638"},{"$f":"VLOOKUP(B496,'[1]Ko tgia'!$B$2:$M$1900,5,0)","v":"019305007974"},"06/09/2005",{"$f":"VLOOKUP(B496,'[2]Ko tgia'!$C$2:$K$9900,8,0)","v":"x"},null,10,{"v":526500,"d":"526,500"},"K59CN-ĐĐT.K02","CN"]
[496,"K235510301086","Trần Minh Đức",{"$f":"VLOOKUP(B497,'[1]Ko tgia'!$B$2:$M$1900,4,0)","v":"2420284494"},{"$f":"VLOOKUP(B497,'[1]Ko tgia'!$B$2:$M$1900,5,0)","v":"024205012223"},"06/10/2005",null,null,10,{"v":526500,"d":"526,500"},"K59CN-ĐĐT.K02","CN"]
[497,"K235510301180","Nguyễn Văn Mạnh",{"$f":"VLOOKUP(B498,'[1]Ko tgia'!$B$2:$M$1900,4,0)","v":"2421213991"},{"$f":"VLOOKUP(B498,'[1]Ko tgia'!$B$2:$M$1900,5,0)","v":"024205008565"},"03/11/2005",null,null,10,{"v":526500,"d":"526,500"},"K59CN-ĐĐT.K02","CN"]
[498,"K235510301264","Đặng Văn Tú",{"$f":"VLOOKUP(B499,'[1]Ko tgia'!$B$2:$M$1900,4,0)","v":"2421355915"},{"$f":"VLOOKUP(B499,'[1]Ko tgia'!$B$2:$M$1900,5,0)","v":"024205006770"},"23/08/2005",null,null,10,{"v":526500,"d":"526,500"},"K59CN-ĐĐT.K02","CN"]
[499,"K235510301004","Ngô Đình Nam",{"$f":"VLOOKUP(B500,'[1]Ko tgia'!$B$2:$M$1900,4,0)","v":"2421506992"},{"$f":"VLOOKUP(B500,'[1]Ko tgia'!$B$2:$M$1900,5,0)","v":"024205006227"},"25/12/2005",null,null,10,{"v":526500,"d":"526,500"},"K59CN-ĐĐT.K02","CN"]
[500,"K235510301197","Nguyễn Tá Phương",{"$f":"VLOOKUP(B501,'[1]Ko tgia'!$B$2:$M$1900,4,0)","v":"2421525831"},{"$f":"VLOOKUP(B501,'[1]Ko tgia'!$B$2:$M$1900,5,0)","v":"024205007326"},"15/07/2005",null,null,10,{"v":526500,"d":"526,500"},"K59CN-ĐĐT.K02","CN"]
[501,"K235510301200","Phùng Duy Quang",{"$f":"VLOOKUP(B502,'[1]Ko tgia'!$B$2:$M$1900,4,0)","v":"2620445093"},{"$f":"VLOOKUP(B502,'[1]Ko tgia'!$B$2:$M$1900,5,0)","v":"026204008989"},"24/07/2004",null,null,10,{"v":526500,"d":"526,500"},"K59CN-ĐĐT.K02","CN"]
[502,"K235510301008","Phạm Văn Nam",{"$f":"VLOOKUP(B503,'[1]Ko tgia'!$B$2:$M$1900,4,0)","v":"0124739200"},{"$f":"VLOOKUP(B503,'[1]Ko tgia'!$B$2:$M$1900,5,0)","v":"001205028710"},"14/08/2005",null,null,10,{"v":526500,"d":"526,500"},"K59CN-ĐĐT.K03","CN"]
[503,"K235510301241","Hoàng Văn Thuyên",{"$f":"VLOOKUP(B504,'[1]Ko tgia'!$B$2:$M$1900,4,0)","v":"0220765159"},{"$f":"VLOOKUP(B504,'[1]Ko tgia'!$B$2:$M$1900,5,0)","v":"002205008383"},"24/04/2005",null,null,10,{"v":526500,"d":"526,500"},"K59CN-ĐĐT.K03","CN"]
[504,"K235510301010","Tống Xuân Nam",{"$f":"VLOOKUP(B505,'[1]Ko tgia'!$B$2:$M$1900,4,0)","v":"1920224260"},{"$f":"VLOOKUP(B505,'[1]Ko tgia'!$B$2:$M$1900,5,0)","v":"019205003205"},"09/01/2005",null,null,10,{"v":526500,"d":"526,500"},"K59CN-ĐĐT.K03","CN"]
[505,"K235510301274","Đào Thanh Tùng",{"$f":"VLOOKUP(B506,'[1]Ko tgia'!$B$2:$M$1900,4,0)","v":"1920249632"},{"$f":"VLOOKUP(B506,'[1]Ko tgia'!$B$2:$M$1900,5,0)","v":"019205001928"},"25/04/2005",null,null,10,{"v":526500,"d":"526,500"},"K59CN-ĐĐT.K03","CN"]
[506,"K235510301026","Vi Xuân Bách",{"$f":"VLOOKUP(B507,'[1]Ko tgia'!$B$2:$M$1900,4,0)","v":"1920633863"},{"$f":"VLOOKUP(B507,'[1]Ko tgia'!$B$2:$M$1900,5,0)","v":"019205001865"},"27/01/2005",null,null,10,{"v":526500,"d":"526,500"},"K59CN-ĐĐT.K03","CN"]
[507,"K235510301022","Vũ Tuấn Anh",{"$f":"VLOOKUP(B508,'[1]Ko tgia'!$B$2:$M$1900,4,0)","v":"1920751185"},{"$f":"VLOOKUP(B508,'[1]Ko tgia'!$B$2:$M$1900,5,0)","v":"019205006765"},"12/09/2005",null,null,10,{"v":526500,"d":"526,500"},"K59CN-ĐĐT.K03","CN"]
[508,"K235510301242","Trịnh Minh Thư",{"$f":"VLOOKUP(B509,'[1]Ko tgia'!$B$2:$M$1900,4,0)","v":"2020566870"},{"$f":"VLOOKUP(B509,'[1]Ko tgia'!$B$2:$M$1900,5,0)","v":"020305006628"},"21/07/2005",{"$f":"VLOOKUP(B509,'[2]Ko tgia'!$C$2:$K$9900,8,0)","v":"x"},null,10,{"v":526500,"d":"526,500"},"K59CN-ĐĐT.K03","CN"]
[509,"K235510301112","Trần Minh Hiếu",{"$f":"VLOOKUP(B510,'[1]Ko tgia'!$B$2:$M$1900,4,0)","v":"2420183437"},{"$f":"VLOOKUP(B510,'[1]Ko tgia'!$B$2:$M$1900,5,0)","v":"024205004920"},"12/06/2005",null,null,10,{"v":526500,"d":"526,500"},"K59CN-ĐĐT.K03","CN"]
[510,"K235510301227","Nguyễn Ngọc Thanh",{"$f":"VLOOKUP(B511,'[1]Ko tgia'!$B$2:$M$1900,4,0)","v":"2420388153"},{"$f":"VLOOKUP(B511,'[1]Ko tgia'!$B$2:$M$1900,5,0)","v":"024205002083"},"23/10/2005",null,null,10,{"v":526500,"d":"526,500"},"K59CN-ĐĐT.K03","CN"]
[511,"K235510301023","Nguyễn Thị Ngọc Ánh",{"$f":"VLOOKUP(B512,'[1]Ko tgia'!$B$2:$M$1900,4,0)","v":"2420395826"},{"$f":"VLOOKUP(B512,'[1]Ko tgia'!$B$2:$M$1900,5,0)","v":"024305005424"},"11/11/2005",{"$f":"VLOOKUP(B512,'[2]Ko tgia'!$C$2:$K$9900,8,0)","v":"x"},null,10,{"v":526500,"d":"526,500"},"K59CN-ĐĐT.K03","CN"]
[512,"K235510301055","Lê Khương Duy",{"$f":"VLOOKUP(B513,'[1]Ko tgia'!$B$2:$M$1900,4,0)","v":"2421472862"},{"$f":"VLOOKUP(B513,'[1]Ko tgia'!$B$2:$M$1900,5,0)","v":"024205009366"},"21/10/2005",null,null,10,{"v":526500,"d":"526,500"},"K59CN-ĐĐT.K03","CN"]
[513,"K235510301011","Ngô Quý An",{"$f":"VLOOKUP(B514,'[1]Ko tgia'!$B$2:$M$1900,4,0)","v":"2421498261"},{"$f":"VLOOKUP(B514,'[1]Ko tgia'!$B$2:$M$1900,5,0)","v":"024205010004"},"28/08/2005",null,null,10,{"v":526500,"d":"526,500"},"K59CN-ĐĐT.K03","CN"]
[514,"K235510301164","Phan Thị Thùy Linh",{"$f":"VLOOKUP(B515,'[1]Ko tgia'!$B$2:$M$1900,4,0)","v":"2422396672"},{"$f":"VLOOKUP(B515,'[1]Ko tgia'!$B$2:$M$1900,5,0)","v":"024305010014"},"17/01/2005",{"$f":"VLOOKUP(B515,'[2]Ko tgia'!$C$2:$K$9900,8,0)","v":"x"},null,10,{"v":526500,"d":"526,500"},"K59CN-ĐĐT.K03","CN"]
[515,"K235510301017","Nguyễn Hoàng Anh",{"$f":"VLOOKUP(B516,'[1]Ko tgia'!$B$2:$M$1900,4,0)","v":"2720440447"},{"$f":"VLOOKUP(B516,'[1]Ko tgia'!$B$2:$M$1900,5,0)","v":"027205003861"},"30/05/2005",null,null,10,{"v":526500,"d":"526,500"},"K59CN-ĐĐT.K03","CN"]
[516,"K235510301007","Nguyễn Văn Nam",{"$f":"VLOOKUP(B517,'[1]Ko tgia'!$B$2:$M$1900,4,0)","v":"2721326068"},{"$f":"VLOOKUP(B517,'[1]Ko tgia'!$B$2:$M$1900,5,0)","v":"027205003307"},"07/10/2005",null,null,10,{"v":526500,"d":"526,500"},"K59CN-ĐĐT.K03","CN"]
[517,"K235510301136","Nguyễn Quang Huy",{"$f":"VLOOKUP(B518,'[1]Ko tgia'!$B$2:$M$1900,4,0)","v":"0123302211"},null,"16/01/2005",null,null,10,{"v":526500,"d":"526,500"},"K59CN-ĐĐT.K04","CN"]
[518,"K235510301246","Phìn Văn Mạnh Tính",{"$f":"VLOOKUP(B519,'[1]Ko tgia'!$B$2:$M$1900,4,0)","v":"1220096059"},{"$f":"VLOOKUP(B519,'[1]Ko tgia'!$B$2:$M$1900,5,0)","v":"012205007947"},"07/11/2005",null,null,10,{"v":526500,"d":"526,500"},"K59CN-ĐĐT.K04","CN"]
[519,"K235510301106","Tống Minh Hiệp",{"$f":"VLOOKUP(B520,'[1]Ko tgia'!$B$2:$M$1900,4,0)","v":"1220096163"},{"$f":"VLOOKUP(B520,'[1]Ko tgia'!$B$2:$M$1900,5,0)","v":"012205001726"},"06/08/2005",null,null,10,{"v":526500,"d":"526,500"},"K59CN-ĐĐT.K04","CN"]
[520,"K235510301033","Dương Văn Chung",{"$f":"VLOOKUP(B521,'[1]Ko tgia'!$B$2:$M$1900,4,0)","v":"1920532345"},{"$f":"VLOOKUP(B521,'[1]Ko tgia'!$B$2:$M$1900,5,0)","v":"019205010246"},"06/09/2005",null,null,10,{"v":526500,"d":"526,500"},"K59CN-ĐĐT.K04","CN"]
[521,"K235510301222","Dương Minh Thái",{"$f":"VLOOKUP(B522,'[1]Ko tgia'!$B$2:$M$1900,4,0)","v":"1921102104"},{"$f":"VLOOKUP(B522,'[1]Ko tgia'!$B$2:$M$1900,5,0)","v":"019205000390"},"11/02/2005",null,null,10,{"v":526500,"d":"526,500"},"K59CN-ĐĐT.K04","CN"]
[522,"K235510301158","Dương Thị Lan",{"$f":"VLOOKUP(B523,'[1]Ko tgia'!$B$2:$M$1900,4,0)","v":"1921195714"},{"$f":"VLOOKUP(B523,'[1]Ko tgia'!$B$2:$M$1900,5,0)","v":"019305009895"},"08/01/2005",{"$f":"VLOOKUP(B523,'[2]Ko tgia'!$C$2:$K$9900,8,0)","v":"x"},null,10,{"v":526500,"d":"526,500"},"K59CN-ĐĐT.K04","CN"]
[523,"K235510301128","Nghiêm Xuân Hùng",{"$f":"VLOOKUP(B524,'[1]Ko tgia'!$B$2:$M$1900,4,0)","v":"1921318581"},{"$f":"VLOOKUP(B524,'[1]Ko tgia'!$B$2:$M$1900,5,0)","v":"019205001029"},"05/04/2005",null,null,10,{"v":526500,"d":"526,500"},"K59CN-ĐĐT.K04","CN"]
[524,"K235510301234","Nguyễn Quang Thắng",{"$f":"VLOOKUP(B525,'[1]Ko tgia'!$B$2:$M$1900,4,0)","v":"2420331580"},{"$f":"VLOOKUP(B525,'[1]Ko tgia'!$B$2:$M$1900,5,0)","v":"024205009531"},"23/05/2005",null,null,10,{"v":526500,"d":"526,500"},"K59CN-ĐĐT.K04","CN"]
[525,"K235510301174","Hoàng Văn Luận",{"$f":"VLOOKUP(B526,'[1]Ko tgia'!$B$2:$M$1900,4,0)","v":"2420546577"},{"$f":"VLOOKUP(B526,'[1]Ko tgia'!$B$2:$M$1900,5,0)","v":"024205006629"},"08/07/2005",null,null,10,{"v":526500,"d":"526,500"},"K59CN-ĐĐT.K04","CN"]
[526,"K235510301139","Nguyễn Văn Huy",{"$f":"VLOOKUP(B527,'[1]Ko tgia'!$B$2:$M$1900,4,0)","v":"2421400508"},{"$f":"VLOOKUP(B527,'[1]Ko tgia'!$B$2:$M$1900,5,0)","v":"024205008121"},"27/07/2005",null,null,10,{"v":526500,"d":"526,500"},"K59CN-ĐĐT.K04","CN"]
[527,"K235510301021","Nguyễn Việt Anh",{"$f":"VLOOKUP(B528,'[1]Ko tgia'!$B$2:$M$1900,4,0)","v":"2421496676"},{"$f":"VLOOKUP(B528,'[1]Ko tgia'!$B$2:$M$1900,5,0)","v":"024205001438"},"26/10/2005",null,null,10,{"v":526500,"d":"526,500"},"K59CN-ĐĐT.K04","CN"]
[528,"K235510301078","Ngô Trung Đoàn",{"$f":"VLOOKUP(B529,'[1]Ko tgia'!$B$2:$M$1900,4,0)","v":"2421673212"},{"$f":"VLOOKUP(B529,'[1]Ko tgia'!$B$2:$M$1900,5,0)","v":"024205001489"},"09/08/2005",null,null,10,{"v":526500,"d":"526,500"},"K59CN-ĐĐT.K04","CN"]
[529,"K235510301153","Nguyễn Trung Kiểm",{"$f":"VLOOKUP(B530,'[1]Ko tgia'!$B$2:$M$1900,4,0)","v":"2421814979"},{"$f":"VLOOKUP(B530,'[1]Ko tgia'!$B$2:$M$1900,5,0)","v":"024205011597"},"07/04/2005",null,null,10,{"v":526500,"d":"526,500"},"K59CN-ĐĐT.K04","CN"]
[530,"K235520320004","Vũ Hoàng Minh",{"$f":"VLOOKUP(B531,'[1]Ko tgia'!$B$2:$M$1900,4,0)","v":"1920194631"},{"$f":"VLOOKUP(B531,'[1]Ko tgia'!$B$2:$M$1900,5,0)","v":"019205010428"},"26/08/2005",null,null,10,{"v":526500,"d":"526,500"},"K59QLM.K01","CN"]
[531,"K245510202039","Ngô Đình Thi",{"$f":"VLOOKUP(B532,'[1]Ko tgia'!$B$2:$M$1900,4,0)","v":"1920059225"},{"$f":"VLOOKUP(B532,'[1]Ko tgia'!$B$2:$M$1900,5,0)","v":"019206008298"},"27/11/2006",null,null,10,{"v":526500,"d":"526,500"},"K60CN-CTM.K01","CN"]
[532,"K245510202014","Nguyễn Quang Duy",{"$f":"VLOOKUP(B533,'[1]Ko tgia'!$B$2:$M$1900,4,0)","v":"1920197526"},{"$f":"VLOOKUP(B533,'[1]Ko tgia'!$B$2:$M$1900,5,0)","v":"019206007524"},"10/01/2006",null,null,10,{"v":526500,"d":"526,500"},"K60CN-CTM.K01","CN"]
[533,"K245510202011","Đỗ Mạnh Dương",{"$f":"VLOOKUP(B534,'[1]Ko tgia'!$B$2:$M$1900,4,0)","v":"1920243302"},{"$f":"VLOOKUP(B534,'[1]Ko tgia'!$B$2:$M$1900,5,0)","v":"019206006979"},"27/06/2006",null,null,10,{"v":526500,"d":"526,500"},"K60CN-CTM.K01","CN"]
[534,"K245510202036","Bùi Đức Tâm",{"$f":"VLOOKUP(B535,'[1]Ko tgia'!$B$2:$M$1900,4,0)","v":"1920284591"},{"$f":"VLOOKUP(B535,'[1]Ko tgia'!$B$2:$M$1900,5,0)","v":"019206000586"},"26/02/2006",null,null,10,{"v":526500,"d":"526,500"},"K60CN-CTM.K01","CN"]
[535,"K245510202029","Nguyễn Đình Minh",{"$f":"VLOOKUP(B536,'[1]Ko tgia'!$B$2:$M$1900,4,0)","v":"1920578144"},{"$f":"VLOOKUP(B536,'[1]Ko tgia'!$B$2:$M$1900,5,0)","v":"019206006623"},"09/10/2006",null,null,10,{"v":526500,"d":"526,500"},"K60CN-CTM.K01","CN"]
[536,"K245510202047","Hoàng Anh Phong",{"$f":"VLOOKUP(B537,'[1]Ko tgia'!$B$2:$M$1900,4,0)","v":"1920588431"},{"$f":"VLOOKUP(B537,'[1]Ko tgia'!$B$2:$M$1900,5,0)","v":"019206001551"},"10/09/2006",null,null,10,{"v":526500,"d":"526,500"},"K60CN-CTM.K01","CN"]
[537,"K245510202024","Dương Nam Khánh",{"$f":"VLOOKUP(B538,'[1]Ko tgia'!$B$2:$M$1900,4,0)","v":"1920959991"},{"$f":"VLOOKUP(B538,'[1]Ko tgia'!$B$2:$M$1900,5,0)","v":"019206007973"},"01/06/2006",null,null,10,{"v":526500,"d":"526,500"},"K60CN-CTM.K01","CN"]
[538,"K245510202038","Đặng Đức Thành",{"$f":"VLOOKUP(B539,'[1]Ko tgia'!$B$2:$M$1900,4,0)","v":"1920972536"},{"$f":"VLOOKUP(B539,'[1]Ko tgia'!$B$2:$M$1900,5,0)","v":"019206012102"},"25/04/2006",null,null,10,{"v":526500,"d":"526,500"},"K60CN-CTM.K01","CN"]
[539,"K245510202004","Nguyễn Xuân Bắc",{"$f":"VLOOKUP(B540,'[1]Ko tgia'!$B$2:$M$1900,4,0)","v":"1921004833"},{"$f":"VLOOKUP(B540,'[1]Ko tgia'!$B$2:$M$1900,5,0)","v":"019205007900"},"08/12/2005",null,null,10,{"v":526500,"d":"526,500"},"K60CN-CTM.K01","CN"]
[540,"K245510202007","Nguyễn Tiến Doanh",{"$f":"VLOOKUP(B541,'[1]Ko tgia'!$B$2:$M$1900,4,0)","v":"1921167910"},{"$f":"VLOOKUP(B541,'[1]Ko tgia'!$B$2:$M$1900,5,0)","v":"019206007917"},"21/10/2006",null,null,10,{"v":526500,"d":"526,500"},"K60CN-CTM.K01","CN"]
[541,"K245510202020","Phan Huy Hoàng",{"$f":"VLOOKUP(B542,'[1]Ko tgia'!$B$2:$M$1900,4,0)","v":"1921181430"},{"$f":"VLOOKUP(B542,'[1]Ko tgia'!$B$2:$M$1900,5,0)","v":"019206007005"},"25/10/2006",null,null,10,{"v":526500,"d":"526,500"},"K60CN-CTM.K01","CN"]
[542,"K245510202025","Nguyễn Đại Đức Khánh",{"$f":"VLOOKUP(B543,'[1]Ko tgia'!$B$2:$M$1900,4,0)","v":"1921309352"},{"$f":"VLOOKUP(B543,'[1]Ko tgia'!$B$2:$M$1900,5,0)","v":"019206007925"},"01/09/2006",null,null,10,{"v":526500,"d":"526,500"},"K60CN-CTM.K01","CN"]
[543,"K245510202044","Nguyễn Anh Văn",{"$f":"VLOOKUP(B544,'[1]Ko tgia'!$B$2:$M$1900,4,0)","v":"1921423848"},{"$f":"VLOOKUP(B544,'[1]Ko tgia'!$B$2:$M$1900,5,0)","v":"019206002508"},"02/10/2006",null,null,10,{"v":526500,"d":"526,500"},"K60CN-CTM.K01","CN"]
[544,"K245510202052","Đặng Văn Hiệp",{"$f":"VLOOKUP(B545,'[1]Ko tgia'!$B$2:$M$1900,4,0)","v":"2420392283"},{"$f":"VLOOKUP(B545,'[1]Ko tgia'!$B$2:$M$1900,5,0)","v":"024206012648"},"05/08/2006",null,null,10,{"v":526500,"d":"526,500"},"K60CN-CTM.K01","CN"]
[545,"K245510202051","Vũ Văn Nam",{"$f":"VLOOKUP(B546,'[1]Ko tgia'!$B$2:$M$1900,4,0)","v":"2720464970"},{"$f":"VLOOKUP(B546,'[1]Ko tgia'!$B$2:$M$1900,5,0)","v":"027206009488"},"01/09/2006",null,null,10,{"v":526500,"d":"526,500"},"K60CN-CTM.K01","CN"]
[546,"K245510301015","Lê Mạnh Đức",{"$f":"VLOOKUP(B547,'[1]Ko tgia'!$B$2:$M$1900,4,0)","v":"0121454506"},{"$f":"VLOOKUP(B547,'[1]Ko tgia'!$B$2:$M$1900,5,0)","v":"001206026611"},"01/10/2006",null,null,10,{"v":526500,"d":"526,500"},"K60CN-ĐĐT.K01","CN"]
[547,"K245510301034","Phạm Trọng Hùng",{"$f":"VLOOKUP(B548,'[1]Ko tgia'!$B$2:$M$1900,4,0)","v":"1920165511"},{"$f":"VLOOKUP(B548,'[1]Ko tgia'!$B$2:$M$1900,5,0)","v":" 019206002451"},"13/11/2006",null,null,10,{"v":526500,"d":"526,500"},"K60CN-ĐĐT.K01","CN"]
[548,"K245510301047","Trần Đức Lương",{"$f":"VLOOKUP(B549,'[1]Ko tgia'!$B$2:$M$1900,4,0)","v":"1920207495"},{"$f":"VLOOKUP(B549,'[1]Ko tgia'!$B$2:$M$1900,5,0)","v":"019206002452"},"04/11/2006",null,null,10,{"v":526500,"d":"526,500"},"K60CN-ĐĐT.K01","CN"]
[549,"K245510301273","Lê Tùng Bách",{"$f":"VLOOKUP(B550,'[1]Ko tgia'!$B$2:$M$1900,4,0)","v":"1920238210"},{"$f":"VLOOKUP(B550,'[1]Ko tgia'!$B$2:$M$1900,5,0)","v":"019206007509"},"15/08/2006",null,null,10,{"v":526500,"d":"526,500"},"K60CN-ĐĐT.K01","CN"]
[550,"K245510301017","Nguyễn Việt Dũng",{"$f":"VLOOKUP(B551,'[1]Ko tgia'!$B$2:$M$1900,4,0)","v":"1920241713"},{"$f":"VLOOKUP(B551,'[1]Ko tgia'!$B$2:$M$1900,5,0)","v":"019206001495"},"08/09/2006",null,null,10,{"v":526500,"d":"526,500"},"K60CN-ĐĐT.K01","CN"]
[551,"K245510301002","Phùng Tuấn Anh",{"$f":"VLOOKUP(B552,'[1]Ko tgia'!$B$2:$M$1900,4,0)","v":"1920717821"},{"$f":"VLOOKUP(B552,'[1]Ko tgia'!$B$2:$M$1900,5,0)","v":" 019206002248"},"20/06/2006",null,null,10,{"v":526500,"d":"526,500"},"K60CN-ĐĐT.K01","CN"]
[552,"K245510301081","Trần Anh Tú",{"$f":"VLOOKUP(B553,'[1]Ko tgia'!$B$2:$M$1900,4,0)","v":"1920946283"},{"$f":"VLOOKUP(B553,'[1]Ko tgia'!$B$2:$M$1900,5,0)","v":"019206012126"},"01/08/2006",null,null,10,{"v":526500,"d":"526,500"},"K60CN-ĐĐT.K01","CN"]
[553,"K245510301054","Vũ Quang Nam",{"$f":"VLOOKUP(B554,'[1]Ko tgia'!$B$2:$M$1900,4,0)","v":"1921021585"},null,"13/03/2006",null,null,10,{"v":526500,"d":"526,500"},"K60CN-ĐĐT.K01","CN"]
[554,"K245510301052","Nguyễn Văn Minh",{"$f":"VLOOKUP(B555,'[1]Ko tgia'!$B$2:$M$1900,4,0)","v":"1921057928"},{"$f":"VLOOKUP(B555,'[1]Ko tgia'!$B$2:$M$1900,5,0)","v":"019206004028"},"11/12/2006",null,null,10,{"v":526500,"d":"526,500"},"K60CN-ĐĐT.K01","CN"]
[555,"K245510301087","Hà Quốc Việt",{"$f":"VLOOKUP(B556,'[1]Ko tgia'!$B$2:$M$1900,4,0)","v":"1921063318"},{"$f":"VLOOKUP(B556,'[1]Ko tgia'!$B$2:$M$1900,5,0)","v":"019206006731"},"29/11/2006",null,null,10,{"v":526500,"d":"526,500"},"K60CN-ĐĐT.K01","CN"]
[556,"K245510301028","Dương Ngọc Hiếu",{"$f":"VLOOKUP(B557,'[1]Ko tgia'!$B$2:$M$1900,4,0)","v":"1921094366"},{"$f":"VLOOKUP(B557,'[1]Ko tgia'!$B$2:$M$1900,5,0)","v":"019206007862"},"21/09/2006",null,null,10,{"v":526500,"d":"526,500"},"K60CN-ĐĐT.K01","CN"]
[557,"K245510301025","Đặng Thị Hạnh",{"$f":"VLOOKUP(B558,'[1]Ko tgia'!$B$2:$M$1900,4,0)","v":"1921135790"},{"$f":"VLOOKUP(B558,'[1]Ko tgia'!$B$2:$M$1900,5,0)","v":"019304007469"},"02/12/2004",{"$f":"VLOOKUP(B558,'[2]Ko tgia'!$C$2:$K$9900,8,0)","v":"x"},null,10,{"v":526500,"d":"526,500"},"K60CN-ĐĐT.K01","CN"]
[558,"K245510301074","Tạ Văn Thu",{"$f":"VLOOKUP(B559,'[1]Ko tgia'!$B$2:$M$1900,4,0)","v":"1921182487"},{"$f":"VLOOKUP(B559,'[1]Ko tgia'!$B$2:$M$1900,5,0)","v":"019206009288"},"12/06/2006",null,null,10,{"v":526500,"d":"526,500"},"K60CN-ĐĐT.K01","CN"]
[559,"K245510301042","Đoàn Văn Khiêm",{"$f":"VLOOKUP(B560,'[1]Ko tgia'!$B$2:$M$1900,4,0)","v":"1921198388"},{"$f":"VLOOKUP(B560,'[1]Ko tgia'!$B$2:$M$1900,5,0)","v":"019206005201"},"22/10/2006",null,null,10,{"v":526500,"d":"526,500"},"K60CN-ĐĐT.K01","CN"]
[560,"K245510301082","Dương Minh Tuấn",{"$f":"VLOOKUP(B561,'[1]Ko tgia'!$B$2:$M$1900,4,0)","v":"1921207980"},{"$f":"VLOOKUP(B561,'[1]Ko tgia'!$B$2:$M$1900,5,0)","v":"019206007788"},"02/10/2006",null,null,10,{"v":526500,"d":"526,500"},"K60CN-ĐĐT.K01","CN"]
[561,"K245510301077","Nguyễn Văn Tình",{"$f":"VLOOKUP(B562,'[1]Ko tgia'!$B$2:$M$1900,4,0)","v":"1921218854"},{"$f":"VLOOKUP(B562,'[1]Ko tgia'!$B$2:$M$1900,5,0)","v":"019206010035"},"18/08/2006",null,null,10,{"v":526500,"d":"526,500"},"K60CN-ĐĐT.K01","CN"]
[562,"K245510301027","Nguyễn Thạc Hiếu",{"$f":"VLOOKUP(B563,'[1]Ko tgia'!$B$2:$M$1900,4,0)","v":"1921302050"},{"$f":"VLOOKUP(B563,'[1]Ko tgia'!$B$2:$M$1900,5,0)","v":"019206003935"},"24/09/2006",null,null,10,{"v":526500,"d":"526,500"},"K60CN-ĐĐT.K01","CN"]
[563,"K245510301063","Nguyễn Tiến Quang",{"$f":"VLOOKUP(B564,'[1]Ko tgia'!$B$2:$M$1900,4,0)","v":"1921311674"},{"$f":"VLOOKUP(B564,'[1]Ko tgia'!$B$2:$M$1900,5,0)","v":"019206000320"},"27/07/2006",null,null,10,{"v":526500,"d":"526,500"},"K60CN-ĐĐT.K01","CN"]
[564,"K245905228023","Phạm Văn Hiệp",{"$f":"VLOOKUP(B565,'[1]Ko tgia'!$B$2:$M$1900,4,0)","v":"1921574428"},{"$f":"VLOOKUP(B565,'[1]Ko tgia'!$B$2:$M$1900,5,0)","v":"019206008921"},"10/07/2005",null,null,10,{"v":526500,"d":"526,500"},"K60CN-ĐĐT.K01","CN"]
[565,"K245510301064","Phạm Văn Quang",{"$f":"VLOOKUP(B566,'[1]Ko tgia'!$B$2:$M$1900,4,0)","v":"2420064869"},{"$f":"VLOOKUP(B566,'[1]Ko tgia'!$B$2:$M$1900,5,0)","v":"024206006611"},"21/03/2006",null,null,10,{"v":526500,"d":"526,500"},"K60CN-ĐĐT.K01","CN"]
[566,"K245510301032","Thân Văn Hoàng",{"$f":"VLOOKUP(B567,'[1]Ko tgia'!$B$2:$M$1900,4,0)","v":"2420521600"},{"$f":"VLOOKUP(B567,'[1]Ko tgia'!$B$2:$M$1900,5,0)","v":"024205015277"},"29/08/2005",null,null,10,{"v":526500,"d":"526,500"},"K60CN-ĐĐT.K01","CN"]
[567,"K245510301008","Lâm Đắc Bền",{"$f":"VLOOKUP(B568,'[1]Ko tgia'!$B$2:$M$1900,4,0)","v":"2420822548"},{"$f":"VLOOKUP(B568,'[1]Ko tgia'!$B$2:$M$1900,5,0)","v":"024206011442"},"13/11/2006",null,null,10,{"v":526500,"d":"526,500"},"K60CN-ĐĐT.K01","CN"]
[568,"K245510301061","Lưu Quốc Phong",{"$f":"VLOOKUP(B569,'[1]Ko tgia'!$B$2:$M$1900,4,0)","v":"2421715394"},{"$f":"VLOOKUP(B569,'[1]Ko tgia'!$B$2:$M$1900,5,0)","v":"024206015628"},"12/01/2006",null,null,10,{"v":526500,"d":"526,500"},"K60CN-ĐĐT.K01","CN"]
[569,"K245510301043","Nguyễn Đình Kiên",{"$f":"VLOOKUP(B570,'[1]Ko tgia'!$B$2:$M$1900,4,0)","v":"2720235645"},null,"14/09/2006",null,null,10,{"v":526500,"d":"526,500"},"K60CN-ĐĐT.K01","CN"]
[570,"K245510301159","Lỳ Đức Thắng",{"$f":"VLOOKUP(B571,'[1]Ko tgia'!$B$2:$M$1900,4,0)","v":"1220114694"},{"$f":"VLOOKUP(B571,'[1]Ko tgia'!$B$2:$M$1900,5,0)","v":"012206004007"},"13/04/2006",null,null,10,{"v":526500,"d":"526,500"},"K60CN-ĐĐT.K02","CN"]
[571,"K245510301096","Ngô Gia Bảo",{"$f":"VLOOKUP(B572,'[1]Ko tgia'!$B$2:$M$1900,4,0)","v":"1421216740"},{"$f":"VLOOKUP(B572,'[1]Ko tgia'!$B$2:$M$1900,5,0)","v":"014206014548"},"17/10/2006",null,null,10,{"v":526500,"d":"526,500"},"K60CN-ĐĐT.K02","CN"]
[572,"K245510301106","Lê Đức Dũng",{"$f":"VLOOKUP(B573,'[1]Ko tgia'!$B$2:$M$1900,4,0)","v":"1920272358"},{"$f":"VLOOKUP(B573,'[1]Ko tgia'!$B$2:$M$1900,5,0)","v":"019206001538"},"22/12/2006",null,null,10,{"v":526500,"d":"526,500"},"K60CN-ĐĐT.K02","CN"]
[573,"K245510301173","Lục Duy Tùng",{"$f":"VLOOKUP(B574,'[1]Ko tgia'!$B$2:$M$1900,4,0)","v":"1920469806"},{"$f":"VLOOKUP(B574,'[1]Ko tgia'!$B$2:$M$1900,5,0)","v":"019206004618"},"11/03/2006",null,null,10,{"v":526500,"d":"526,500"},"K60CN-ĐĐT.K02","CN"]
[574,"K245510301091","Thi Văn Anh",{"$f":"VLOOKUP(B575,'[1]Ko tgia'!$B$2:$M$1900,4,0)","v":"1920476781"},{"$f":"VLOOKUP(B575,'[1]Ko tgia'!$B$2:$M$1900,5,0)","v":"019206005742"},"12/07/2006",null,null,10,{"v":526500,"d":"526,500"},"K60CN-ĐĐT.K02","CN"]
[575,"K245510301172","Đặng Anh Tuấn",{"$f":"VLOOKUP(B576,'[1]Ko tgia'!$B$2:$M$1900,4,0)","v":"1920818029"},{"$f":"VLOOKUP(B576,'[1]Ko tgia'!$B$2:$M$1900,5,0)","v":"019206002228"},"11/12/2006",null,null,10,{"v":526500,"d":"526,500"},"K60CN-ĐĐT.K02","CN"]
[576,"K245510301138","Trương Văn Mạnh",{"$f":"VLOOKUP(B577,'[1]Ko tgia'!$B$2:$M$1900,4,0)","v":"1920933871"},{"$f":"VLOOKUP(B577,'[1]Ko tgia'!$B$2:$M$1900,5,0)","v":"019206007634"},"02/01/2006",null,null,10,{"v":526500,"d":"526,500"},"K60CN-ĐĐT.K02","CN"]
[577,"K245510301097","Nguyễn Quang Bình",{"$f":"VLOOKUP(B578,'[1]Ko tgia'!$B$2:$M$1900,4,0)","v":"1921028062"},{"$f":"VLOOKUP(B578,'[1]Ko tgia'!$B$2:$M$1900,5,0)","v":"019206006742"},"06/06/2006",null,null,10,{"v":526500,"d":"526,500"},"K60CN-ĐĐT.K02","CN"]
[578,"K245510301176","Nguyễn Văn Việt",{"$f":"VLOOKUP(B579,'[1]Ko tgia'!$B$2:$M$1900,4,0)","v":"1921114310"},{"$f":"VLOOKUP(B579,'[1]Ko tgia'!$B$2:$M$1900,5,0)","v":"019206010087"},"22/12/2006",null,null,10,{"v":526500,"d":"526,500"},"K60CN-ĐĐT.K02","CN"]
[579,"K245510301121","Hà Văn Học",{"$f":"VLOOKUP(B580,'[1]Ko tgia'!$B$2:$M$1900,4,0)","v":"1921229300"},{"$f":"VLOOKUP(B580,'[1]Ko tgia'!$B$2:$M$1900,5,0)","v":"019206008102"},"23/10/2006",null,null,10,{"v":526500,"d":"526,500"},"K60CN-ĐĐT.K02","CN"]
[580,"K245510301122","Hoàng Việt Hùng",{"$f":"VLOOKUP(B581,'[1]Ko tgia'!$B$2:$M$1900,4,0)","v":"1921361646"},{"$f":"VLOOKUP(B581,'[1]Ko tgia'!$B$2:$M$1900,5,0)","v":"019206005671"},"16/10/2006",null,null,10,{"v":526500,"d":"526,500"},"K60CN-ĐĐT.K02","CN"]
[581,"K245510301170","Lương Thanh Tú",{"$f":"VLOOKUP(B582,'[1]Ko tgia'!$B$2:$M$1900,4,0)","v":"2020207633"},{"$f":"VLOOKUP(B582,'[1]Ko tgia'!$B$2:$M$1900,5,0)","v":"020205000784"},"23/05/2005",null,null,10,{"v":526500,"d":"526,500"},"K60CN-ĐĐT.K02","CN"]
[582,"K245510301108","Nguyễn Mạnh Dũng",{"$f":"VLOOKUP(B583,'[1]Ko tgia'!$B$2:$M$1900,4,0)","v":"2420211063"},{"$f":"VLOOKUP(B583,'[1]Ko tgia'!$B$2:$M$1900,5,0)","v":"024206007037"},"13/12/2006",null,null,10,{"v":526500,"d":"526,500"},"K60CN-ĐĐT.K02","CN"]
[583,"K245510301151","Nguyễn Văn Quân",{"$f":"VLOOKUP(B584,'[1]Ko tgia'!$B$2:$M$1900,4,0)","v":"2420242660"},{"$f":"VLOOKUP(B584,'[1]Ko tgia'!$B$2:$M$1900,5,0)","v":"024206002834"},"28/08/2006",null,null,10,{"v":526500,"d":"526,500"},"K60CN-ĐĐT.K02","CN"]
[584,"K245510301100","Nguyễn Quốc Cường",{"$f":"VLOOKUP(B585,'[1]Ko tgia'!$B$2:$M$1900,4,0)","v":"2420247071"},{"$f":"VLOOKUP(B585,'[1]Ko tgia'!$B$2:$M$1900,5,0)","v":"024206011931"},"03/03/2006",null,null,10,{"v":526500,"d":"526,500"},"K60CN-ĐĐT.K02","CN"]
[585,"K245510301115","Lương Đức Hiển",{"$f":"VLOOKUP(B586,'[1]Ko tgia'!$B$2:$M$1900,4,0)","v":"2420312226"},{"$f":"VLOOKUP(B586,'[1]Ko tgia'!$B$2:$M$1900,5,0)","v":"024206012634"},"10/01/2006",null,null,10,{"v":526500,"d":"526,500"},"K60CN-ĐĐT.K02","CN"]
[586,"K245510301098","Vũ Hồng Cảnh",{"$f":"VLOOKUP(B587,'[1]Ko tgia'!$B$2:$M$1900,4,0)","v":"2420389727"},{"$f":"VLOOKUP(B587,'[1]Ko tgia'!$B$2:$M$1900,5,0)","v":"024206011791"},"21/09/2006",null,null,10,{"v":526500,"d":"526,500"},"K60CN-ĐĐT.K02","CN"]
[587,"K245510301128","Thân Đức Huy",{"$f":"VLOOKUP(B588,'[1]Ko tgia'!$B$2:$M$1900,4,0)","v":"2420498106"},{"$f":"VLOOKUP(B588,'[1]Ko tgia'!$B$2:$M$1900,5,0)","v":"024206005102"},"17/07/2006",null,null,10,{"v":526500,"d":"526,500"},"K60CN-ĐĐT.K02","CN"]
[588,"K245510301169","Vũ Quang Trường",{"$f":"VLOOKUP(B589,'[1]Ko tgia'!$B$2:$M$1900,4,0)","v":"2420852648"},{"$f":"VLOOKUP(B589,'[1]Ko tgia'!$B$2:$M$1900,5,0)","v":"024206008138"},"24/12/2006",null,null,10,{"v":526500,"d":"526,500"},"K60CN-ĐĐT.K02","CN"]
[589,"K245510301094","Thân Thế Anh",{"$f":"VLOOKUP(B590,'[1]Ko tgia'!$B$2:$M$1900,4,0)","v":"2421292443"},{"$f":"VLOOKUP(B590,'[1]Ko tgia'!$B$2:$M$1900,5,0)","v":"024206008933"},"31/08/2006",null,null,10,{"v":526500,"d":"526,500"},"K60CN-ĐĐT.K02","CN"]
[590,"K245510301153","Nguyễn Văn Quang",{"$f":"VLOOKUP(B591,'[1]Ko tgia'!$B$2:$M$1900,4,0)","v":"2421737556"},{"$f":"VLOOKUP(B591,'[1]Ko tgia'!$B$2:$M$1900,5,0)","v":"024206014706"},"21/09/2006",null,null,10,{"v":526500,"d":"526,500"},"K60CN-ĐĐT.K02","CN"]
[591,"K245510301231","Ngô Ngọc Nam",{"$f":"VLOOKUP(B592,'[1]Ko tgia'!$B$2:$M$1900,4,0)","v":"0121521717"},{"$f":"VLOOKUP(B592,'[1]Ko tgia'!$B$2:$M$1900,5,0)","v":"001206007839"},"29/03/2006",null,null,10,{"v":526500,"d":"526,500"},"K60CN-ĐĐT.K03","CN"]
[592,"K245510301233","Đàm Đình Ngà",{"$f":"VLOOKUP(B593,'[1]Ko tgia'!$B$2:$M$1900,4,0)","v":"0124692178"},{"$f":"VLOOKUP(B593,'[1]Ko tgia'!$B$2:$M$1900,5,0)","v":"001206078317"},"23/10/2006",null,null,10,{"v":526500,"d":"526,500"},"K60CN-ĐĐT.K03","CN"]
[593,"K245510301236","Vương Bảo Nguyên",{"$f":"VLOOKUP(B594,'[1]Ko tgia'!$B$2:$M$1900,4,0)","v":"0420177259"},null,"21/01/2006",null,null,10,{"v":526500,"d":"526,500"},"K60CN-ĐĐT.K03","CN"]
[594,"K245510301181","Trần Tuấn Anh",{"$f":"VLOOKUP(B595,'[1]Ko tgia'!$B$2:$M$1900,4,0)","v":"1920914426"},{"$f":"VLOOKUP(B595,'[1]Ko tgia'!$B$2:$M$1900,5,0)","v":"019206002089"},"02/09/2006",null,null,10,{"v":526500,"d":"526,500"},"K60CN-ĐĐT.K03","CN"]
[595,"K245510301196","Trần Đức Dũng",{"$f":"VLOOKUP(B596,'[1]Ko tgia'!$B$2:$M$1900,4,0)","v":"1921002902"},{"$f":"VLOOKUP(B596,'[1]Ko tgia'!$B$2:$M$1900,5,0)","v":"019206010356"},"07/01/2006",null,null,10,{"v":526500,"d":"526,500"},"K60CN-ĐĐT.K03","CN"]
[596,"K245510301202","Trần Quang Hải",{"$f":"VLOOKUP(B597,'[1]Ko tgia'!$B$2:$M$1900,4,0)","v":"1921054136"},{"$f":"VLOOKUP(B597,'[1]Ko tgia'!$B$2:$M$1900,5,0)","v":"019206008697"},"25/09/2006",null,null,10,{"v":526500,"d":"526,500"},"K60CN-ĐĐT.K03","CN"]
[597,"K245510301216","Hà Quang Huy",{"$f":"VLOOKUP(B598,'[1]Ko tgia'!$B$2:$M$1900,4,0)","v":"1921063750"},{"$f":"VLOOKUP(B598,'[1]Ko tgia'!$B$2:$M$1900,5,0)","v":"019206009906"},"05/01/2006",null,null,10,{"v":526500,"d":"526,500"},"K60CN-ĐĐT.K03","CN"]
[598,"K245510301184","Nguyễn Đình Bách",{"$f":"VLOOKUP(B599,'[1]Ko tgia'!$B$2:$M$1900,4,0)","v":"1921098666"},{"$f":"VLOOKUP(B599,'[1]Ko tgia'!$B$2:$M$1900,5,0)","v":"019206005351"},"01/09/2006",null,null,10,{"v":526500,"d":"526,500"},"K60CN-ĐĐT.K03","CN"]
[599,"K245510301208","Vi Văn Hòa",{"$f":"VLOOKUP(B600,'[1]Ko tgia'!$B$2:$M$1900,4,0)","v":"1921133146"},{"$f":"VLOOKUP(B600,'[1]Ko tgia'!$B$2:$M$1900,5,0)","v":"019206004431"},"07/07/2006",null,null,10,{"v":526500,"d":"526,500"},"K60CN-ĐĐT.K03","CN"]
[600,"K245510301204","Hoàng Tuấn Hiệp",{"$f":"VLOOKUP(B601,'[1]Ko tgia'!$B$2:$M$1900,4,0)","v":"1921149436"},{"$f":"VLOOKUP(B601,'[1]Ko tgia'!$B$2:$M$1900,5,0)","v":"019206008091"},"11/04/2006",null,null,10,{"v":526500,"d":"526,500"},"K60CN-ĐĐT.K03","CN"]
[601,"K245510301185","Nguyễn Văn Bảo",{"$f":"VLOOKUP(B602,'[1]Ko tgia'!$B$2:$M$1900,4,0)","v":"1921210659"},{"$f":"VLOOKUP(B602,'[1]Ko tgia'!$B$2:$M$1900,5,0)","v":"019206007972"},"27/02/2006",null,null,10,{"v":526500,"d":"526,500"},"K60CN-ĐĐT.K03","CN"]
[602,"K245510301243","Nguyễn Văn Quyền",{"$f":"VLOOKUP(B603,'[1]Ko tgia'!$B$2:$M$1900,4,0)","v":"2420229149"},{"$f":"VLOOKUP(B603,'[1]Ko tgia'!$B$2:$M$1900,5,0)","v":"024202014438"},"10/07/2002",null,null,10,{"v":526500,"d":"526,500"},"K60CN-ĐĐT.K03","CN"]
[603,"K245510301240","Dương Minh Quân",{"$f":"VLOOKUP(B604,'[1]Ko tgia'!$B$2:$M$1900,4,0)","v":"2420529248"},{"$f":"VLOOKUP(B604,'[1]Ko tgia'!$B$2:$M$1900,5,0)","v":"024206011126"},"25/01/2006",null,null,10,{"v":526500,"d":"526,500"},"K60CN-ĐĐT.K03","CN"]
[604,"K245510301247","Nguyễn Duy Thái",{"$f":"VLOOKUP(B605,'[1]Ko tgia'!$B$2:$M$1900,4,0)","v":"2420710269"},null,"08/06/2006",null,null,10,{"v":526500,"d":"526,500"},"K60CN-ĐĐT.K03","CN"]
[605,"K245510301213","Thân Quang Hưng",{"$f":"VLOOKUP(B606,'[1]Ko tgia'!$B$2:$M$1900,4,0)","v":"2421277607"},{"$f":"VLOOKUP(B606,'[1]Ko tgia'!$B$2:$M$1900,5,0)","v":"024206011053"},"02/09/2006",null,null,10,{"v":526500,"d":"526,500"},"K60CN-ĐĐT.K03","CN"]
[606,"K245510301217","Chu Bá Huy",{"$f":"VLOOKUP(B607,'[1]Ko tgia'!$B$2:$M$1900,4,0)","v":"2421347904"},{"$f":"VLOOKUP(B607,'[1]Ko tgia'!$B$2:$M$1900,5,0)","v":"024206011338"},"10/08/2006",null,null,10,{"v":526500,"d":"526,500"},"K60CN-ĐĐT.K03","CN"]
[607,"K245510301212","Nguyễn Phi Hùng",{"$f":"VLOOKUP(B608,'[1]Ko tgia'!$B$2:$M$1900,4,0)","v":"2421371735"},null,"05/01/2006",null,null,10,{"v":526500,"d":"526,500"},"K60CN-ĐĐT.K03","CN"]
[608,"K245510301261","Thân Văn Tuấn",{"$f":"VLOOKUP(B609,'[1]Ko tgia'!$B$2:$M$1900,4,0)","v":"2421396435"},null,"16/10/2006",null,null,10,{"v":526500,"d":"526,500"},"K60CN-ĐĐT.K03","CN"]
[609,"K245510301230","Đỗ Hùng Minh",{"$f":"VLOOKUP(B610,'[1]Ko tgia'!$B$2:$M$1900,4,0)","v":"2421540421"},null,"23/01/2006",null,null,10,{"v":526500,"d":"526,500"},"K60CN-ĐĐT.K03","CN"]
[610,"K245510301264","Nguyễn Tiến Viện",{"$f":"VLOOKUP(B611,'[1]Ko tgia'!$B$2:$M$1900,4,0)","v":"2421571032"},{"$f":"VLOOKUP(B611,'[1]Ko tgia'!$B$2:$M$1900,5,0)","v":"024206002787"},"08/06/2006",null,null,10,{"v":526500,"d":"526,500"},"K60CN-ĐĐT.K03","CN"]
[611,"K245510301199","Nguyễn Đức Duy",{"$f":"VLOOKUP(B612,'[1]Ko tgia'!$B$2:$M$1900,4,0)","v":"2421609033"},{"$f":"VLOOKUP(B612,'[1]Ko tgia'!$B$2:$M$1900,5,0)","v":"024206015474"},"29/04/2006",null,null,10,{"v":526500,"d":"526,500"},"K60CN-ĐĐT.K03","CN"]
[612,"K245510301194","Nguyễn Thị Thùy Dung",{"$f":"VLOOKUP(B613,'[1]Ko tgia'!$B$2:$M$1900,4,0)","v":"2421818193"},{"$f":"VLOOKUP(B613,'[1]Ko tgia'!$B$2:$M$1900,5,0)","v":0},"11/03/2006",{"$f":"VLOOKUP(B613,'[2]Ko tgia'!$C$2:$K$9900,8,0)","v":"x"},null,10,{"v":526500,"d":"526,500"},"K60CN-ĐĐT.K03","CN"]
[613,"K245510301218","TRƯƠNG VĂN KHẢI",{"$f":"VLOOKUP(B614,'[1]Ko tgia'!$B$2:$M$1900,4,0)","v":"2720274129"},null,"31/07/2006",null,null,10,{"v":526500,"d":"526,500"},"K60CN-ĐĐT.K03","CN"]
[614,"K245510301188","Lê Quang Cương",{"$f":"VLOOKUP(B615,'[1]Ko tgia'!$B$2:$M$1900,4,0)","v":"2721318880"},{"$f":"VLOOKUP(B615,'[1]Ko tgia'!$B$2:$M$1900,5,0)","v":"027206001952"},"26/01/2006",null,null,10,{"v":526500,"d":"526,500"},"K60CN-ĐĐT.K03","CN"]
[615,"K245510301249","Nguyễn Trường Thành",{"$f":"VLOOKUP(B616,'[1]Ko tgia'!$B$2:$M$1900,4,0)","v":"2721593839"},{"$f":"VLOOKUP(B616,'[1]Ko tgia'!$B$2:$M$1900,5,0)","v":"027206012550"},"16/07/2006",null,null,10,{"v":526500,"d":"526,500"},"K60CN-ĐĐT.K03","CN"]
[616,"K245510301268","Phạm Đức Ân",{"$f":"VLOOKUP(B617,'[1]Ko tgia'!$B$2:$M$1900,4,0)","v":"1920144702"},{"$f":"VLOOKUP(B617,'[1]Ko tgia'!$B$2:$M$1900,5,0)","v":"019206000097"},"23/09/2006",null,null,10,{"v":526500,"d":"526,500"},"K60CN-ĐĐT.K04","CN"]
[617,"K245510301279","Nguyễn Tiến Đạt",{"$f":"VLOOKUP(B618,'[1]Ko tgia'!$B$2:$M$1900,4,0)","v":"1920186686"},{"$f":"VLOOKUP(B618,'[1]Ko tgia'!$B$2:$M$1900,5,0)","v":"019206009317"},"09/11/2006",null,null,10,{"v":526500,"d":"526,500"},"K60CN-ĐĐT.K04","CN"]
[618,"K245510301354","Dương Quang Vinh",{"$f":"VLOOKUP(B619,'[1]Ko tgia'!$B$2:$M$1900,4,0)","v":"1920246575"},{"$f":"VLOOKUP(B619,'[1]Ko tgia'!$B$2:$M$1900,5,0)","v":"019206004487"},"21/12/2006",null,null,10,{"v":526500,"d":"526,500"},"K60CN-ĐĐT.K04","CN"]
[619,"K245510301297","Hứa Thanh Hoàn",{"$f":"VLOOKUP(B620,'[1]Ko tgia'!$B$2:$M$1900,4,0)","v":"1920487168"},null,"05/01/2006",null,null,10,{"v":526500,"d":"526,500"},"K60CN-ĐĐT.K04","CN"]
[620,"K245510301334","Hoàng Thái Sơn",{"$f":"VLOOKUP(B621,'[1]Ko tgia'!$B$2:$M$1900,4,0)","v":"1920619856"},null,"14/08/2006",null,null,10,{"v":526500,"d":"526,500"},"K60CN-ĐĐT.K04","CN"]
[621,"K245510301320","Trần Hải Nam",{"$f":"VLOOKUP(B622,'[1]Ko tgia'!$B$2:$M$1900,4,0)","v":"1920912853"},{"$f":"VLOOKUP(B622,'[1]Ko tgia'!$B$2:$M$1900,5,0)","v":"019206002118"},"30/03/2006",null,null,10,{"v":526500,"d":"526,500"},"K60CN-ĐĐT.K04","CN"]
[622,"K245510301289","Nguyễn Thị Kim Duyên",{"$f":"VLOOKUP(B623,'[1]Ko tgia'!$B$2:$M$1900,4,0)","v":"1921051724"},{"$f":"VLOOKUP(B623,'[1]Ko tgia'!$B$2:$M$1900,5,0)","v":"019306001051"},"11/01/2006",{"$f":"VLOOKUP(B623,'[2]Ko tgia'!$C$2:$K$9900,8,0)","v":"x"},null,10,{"v":526500,"d":"526,500"},"K60CN-ĐĐT.K04","CN"]
[623,"K245510301274","Đỗ Hữu Bảo",{"$f":"VLOOKUP(B624,'[1]Ko tgia'!$B$2:$M$1900,4,0)","v":"1921110440"},{"$f":"VLOOKUP(B624,'[1]Ko tgia'!$B$2:$M$1900,5,0)","v":"019206008568"},"09/01/2006",null,null,10,{"v":526500,"d":"526,500"},"K60CN-ĐĐT.K04","CN"]
[624,"K245510301284","Nguyễn Khắc Dũng",{"$f":"VLOOKUP(B625,'[1]Ko tgia'!$B$2:$M$1900,4,0)","v":"1921160973"},{"$f":"VLOOKUP(B625,'[1]Ko tgia'!$B$2:$M$1900,5,0)","v":"019206003725"},"28/03/2006",null,null,10,{"v":526500,"d":"526,500"},"K60CN-ĐĐT.K04","CN"]
[625,"K245510301290","Dương Đại Hải",{"$f":"VLOOKUP(B626,'[1]Ko tgia'!$B$2:$M$1900,4,0)","v":"1921167313"},null,"03/11/2006",null,null,10,{"v":526500,"d":"526,500"},"K60CN-ĐĐT.K04","CN"]
[626,"K245510301351","Trần Đức Thế Tùng",{"$f":"VLOOKUP(B627,'[1]Ko tgia'!$B$2:$M$1900,4,0)","v":"1921251457"},{"$f":"VLOOKUP(B627,'[1]Ko tgia'!$B$2:$M$1900,5,0)","v":"019206010911"},"01/04/2006",null,null,10,{"v":526500,"d":"526,500"},"K60CN-ĐĐT.K04","CN"]
[627,"K245510301275","Dương Công Bình",{"$f":"VLOOKUP(B628,'[1]Ko tgia'!$B$2:$M$1900,4,0)","v":"1921362706"},null,"25/11/2006",null,null,10,{"v":526500,"d":"526,500"},"K60CN-ĐĐT.K04","CN"]
[628,"K245510301355","Đặng Đình Vũ",{"$f":"VLOOKUP(B629,'[1]Ko tgia'!$B$2:$M$1900,4,0)","v":"1921442595"},{"$f":"VLOOKUP(B629,'[1]Ko tgia'!$B$2:$M$1900,5,0)","v":"019206002513"},"06/04/2006",null,null,10,{"v":526500,"d":"526,500"},"K60CN-ĐĐT.K04","CN"]
[629,"K245510301331","Nguyễn Minh Quảng",{"$f":"VLOOKUP(B630,'[1]Ko tgia'!$B$2:$M$1900,4,0)","v":"2420069436"},{"$f":"VLOOKUP(B630,'[1]Ko tgia'!$B$2:$M$1900,5,0)","v":"024206001480"},"19/09/2006",null,null,10,{"v":526500,"d":"526,500"},"K60CN-ĐĐT.K04","CN"]
[630,"K245510301296","Vi Văn Hiệu",{"$f":"VLOOKUP(B631,'[1]Ko tgia'!$B$2:$M$1900,4,0)","v":"2420227269"},{"$f":"VLOOKUP(B631,'[1]Ko tgia'!$B$2:$M$1900,5,0)","v":"024206008578"},"15/06/2006",null,null,10,{"v":526500,"d":"526,500"},"K60CN-ĐĐT.K04","CN"]
[631,"K245510301302","Trần Việt Hưng",{"$f":"VLOOKUP(B632,'[1]Ko tgia'!$B$2:$M$1900,4,0)","v":"2420246048"},null,"23/11/2006",null,null,10,{"v":526500,"d":"526,500"},"K60CN-ĐĐT.K04","CN"]
[632,"K245510301291","Hoàng Đình Hải",{"$f":"VLOOKUP(B633,'[1]Ko tgia'!$B$2:$M$1900,4,0)","v":"2420396719"},{"$f":"VLOOKUP(B633,'[1]Ko tgia'!$B$2:$M$1900,5,0)","v":"024206005115"},"10/12/2006",null,null,10,{"v":526500,"d":"526,500"},"K60CN-ĐĐT.K04","CN"]
[633,"K245510301308","Ngô Ngọc Khánh",{"$f":"VLOOKUP(B634,'[1]Ko tgia'!$B$2:$M$1900,4,0)","v":"2420563800"},{"$f":"VLOOKUP(B634,'[1]Ko tgia'!$B$2:$M$1900,5,0)","v":"024206015843"},"23/03/2006",null,null,10,{"v":526500,"d":"526,500"},"K60CN-ĐĐT.K04","CN"]
[634,"K245510301271","Ngô Nhật Anh",{"$f":"VLOOKUP(B635,'[1]Ko tgia'!$B$2:$M$1900,4,0)","v":"2421102978"},null,"02/10/2006",null,null,10,{"v":526500,"d":"526,500"},"K60CN-ĐĐT.K04","CN"]
[635,"K245510301337","Phùng Văn Thắng",{"$f":"VLOOKUP(B636,'[1]Ko tgia'!$B$2:$M$1900,4,0)","v":"2421174082"},{"$f":"VLOOKUP(B636,'[1]Ko tgia'!$B$2:$M$1900,5,0)","v":"024206001360"},"04/12/2006",null,null,10,{"v":526500,"d":"526,500"},"K60CN-ĐĐT.K04","CN"]
[636,"K245510301332","Nguyễn Thế Quyền",{"$f":"VLOOKUP(B637,'[1]Ko tgia'!$B$2:$M$1900,4,0)","v":"2421405651"},{"$f":"VLOOKUP(B637,'[1]Ko tgia'!$B$2:$M$1900,5,0)","v":"024206003293"},"08/04/2006",null,null,10,{"v":526500,"d":"526,500"},"K60CN-ĐĐT.K04","CN"]
[637,"K245510301292","Nguyễn Văn Hậu",{"$f":"VLOOKUP(B638,'[1]Ko tgia'!$B$2:$M$1900,4,0)","v":"2421410046"},{"$f":"VLOOKUP(B638,'[1]Ko tgia'!$B$2:$M$1900,5,0)","v":"024206003745"},"04/02/2006",null,null,10,{"v":526500,"d":"526,500"},"K60CN-ĐĐT.K04","CN"]
[638,"K245510301295","Đàm Mạnh Hiếu",{"$f":"VLOOKUP(B639,'[1]Ko tgia'!$B$2:$M$1900,4,0)","v":"2421673738"},{"$f":"VLOOKUP(B639,'[1]Ko tgia'!$B$2:$M$1900,5,0)","v":"024206001695"},"31/07/2006",null,null,10,{"v":526500,"d":"526,500"},"K60CN-ĐĐT.K04","CN"]
[639,"K245510301339","Nguyễn Thị Thu Thảo",{"$f":"VLOOKUP(B640,'[1]Ko tgia'!$B$2:$M$1900,4,0)","v":"2421692644"},{"$f":"VLOOKUP(B640,'[1]Ko tgia'!$B$2:$M$1900,5,0)","v":"024306012931"},"14/05/2006",{"$f":"VLOOKUP(B640,'[2]Ko tgia'!$C$2:$K$9900,8,0)","v":"x"},null,10,{"v":526500,"d":"526,500"},"K60CN-ĐĐT.K04","CN"]
[640,"K245510301319","Nguyễn Văn Minh",{"$f":"VLOOKUP(B641,'[1]Ko tgia'!$B$2:$M$1900,4,0)","v":"2422203999"},{"$f":"VLOOKUP(B641,'[1]Ko tgia'!$B$2:$M$1900,5,0)","v":"024206001445"},"26/02/2006",null,null,10,{"v":526500,"d":"526,500"},"K60CN-ĐĐT.K04","CN"]
[641,"K245510301272","Nguyễn Việt Anh",{"$f":"VLOOKUP(B642,'[1]Ko tgia'!$B$2:$M$1900,4,0)","v":"2620497352"},{"$f":"VLOOKUP(B642,'[1]Ko tgia'!$B$2:$M$1900,5,0)","v":"026206012242"},"29/01/2006",null,null,10,{"v":526500,"d":"526,500"},"K60CN-ĐĐT.K04","CN"]
[642,"K245510301299","Ngô Quốc Huân",{"$f":"VLOOKUP(B643,'[1]Ko tgia'!$B$2:$M$1900,4,0)","v":"2720352138"},{"$f":"VLOOKUP(B643,'[1]Ko tgia'!$B$2:$M$1900,5,0)","v":"027206011369"},"27/12/2006",null,null,10,{"v":526500,"d":"526,500"},"K60CN-ĐĐT.K04","CN"]
[643,"K245510301329","Nguyễn Tiến Quân",{"$f":"VLOOKUP(B644,'[1]Ko tgia'!$B$2:$M$1900,4,0)","v":"2720444984"},{"$f":"VLOOKUP(B644,'[1]Ko tgia'!$B$2:$M$1900,5,0)","v":"027206002532"},"12/12/2006",null,null,10,{"v":526500,"d":"526,500"},"K60CN-ĐĐT.K04","CN"]
[644,"K245510301300","Phạm Quang Hùng",{"$f":"VLOOKUP(B645,'[1]Ko tgia'!$B$2:$M$1900,4,0)","v":"3420355561"},{"$f":"VLOOKUP(B645,'[1]Ko tgia'!$B$2:$M$1900,5,0)","v":"034206013883"},"03/09/2006",null,null,10,{"v":526500,"d":"526,500"},"K60CN-ĐĐT.K04","CN"]
[645,"K245510301385","Chè Bảo Hồ",{"$f":"VLOOKUP(B646,'[1]Ko tgia'!$B$2:$M$1900,4,0)","v":"0420167662"},{"$f":"VLOOKUP(B646,'[1]Ko tgia'!$B$2:$M$1900,5,0)","v":"004206006490"},"19/05/2006",null,null,10,{"v":526500,"d":"526,500"},"K60CN-ĐĐT.K05","CN"]
[646,"K245510301404","Trần Đức Mạnh",{"$f":"VLOOKUP(B647,'[1]Ko tgia'!$B$2:$M$1900,4,0)","v":"1520606973"},{"$f":"VLOOKUP(B647,'[1]Ko tgia'!$B$2:$M$1900,5,0)","v":"015206009256"},"21/08/2006",null,null,10,{"v":526500,"d":"526,500"},"K60CN-ĐĐT.K05","CN"]
[647,"K245510301372","Nguyễn Tiến Dũng",{"$f":"VLOOKUP(B648,'[1]Ko tgia'!$B$2:$M$1900,4,0)","v":"1520615084"},{"$f":"VLOOKUP(B648,'[1]Ko tgia'!$B$2:$M$1900,5,0)","v":"015206005049"},"15/02/2006",null,null,10,{"v":526500,"d":"526,500"},"K60CN-ĐĐT.K05","CN"]
[648,"K245510301399","Lê Tùng Lâm",{"$f":"VLOOKUP(B649,'[1]Ko tgia'!$B$2:$M$1900,4,0)","v":"1920019158"},{"$f":"VLOOKUP(B649,'[1]Ko tgia'!$B$2:$M$1900,5,0)","v":"019206002066"},"21/09/2006",null,null,10,{"v":526500,"d":"526,500"},"K60CN-ĐĐT.K05","CN"]
[649,"K245510301429","Phạm Văn Thông",{"$f":"VLOOKUP(B650,'[1]Ko tgia'!$B$2:$M$1900,4,0)","v":"1920046639"},{"$f":"VLOOKUP(B650,'[1]Ko tgia'!$B$2:$M$1900,5,0)","v":"019206008522"},"24/11/2006",null,null,10,{"v":526500,"d":"526,500"},"K60CN-ĐĐT.K05","CN"]
[650,"K245510301377","Ngô Văn Duy",{"$f":"VLOOKUP(B651,'[1]Ko tgia'!$B$2:$M$1900,4,0)","v":"1920050689"},{"$f":"VLOOKUP(B651,'[1]Ko tgia'!$B$2:$M$1900,5,0)","v":"019206007195"},"04/11/2006",null,null,10,{"v":526500,"d":"526,500"},"K60CN-ĐĐT.K05","CN"]
[651,"K245510301418","Đào Việt Quang",{"$f":"VLOOKUP(B652,'[1]Ko tgia'!$B$2:$M$1900,4,0)","v":"1920206405"},{"$f":"VLOOKUP(B652,'[1]Ko tgia'!$B$2:$M$1900,5,0)","v":"019206000316"},"27/06/2006",null,null,10,{"v":526500,"d":"526,500"},"K60CN-ĐĐT.K05","CN"]
[652,"K245580201029","Dương Đức Hải",{"$f":"VLOOKUP(B653,'[1]Ko tgia'!$B$2:$M$1900,4,0)","v":"1920722126"},{"$f":"VLOOKUP(B653,'[1]Ko tgia'!$B$2:$M$1900,5,0)","v":"019206007137"},"25/06/2006",null,null,10,{"v":526500,"d":"526,500"},"K60CN-ĐĐT.K05","CN"]
[653,"K245510301421","Tống Văn Quyền",{"$f":"VLOOKUP(B654,'[1]Ko tgia'!$B$2:$M$1900,4,0)","v":"1920873974"},{"$f":"VLOOKUP(B654,'[1]Ko tgia'!$B$2:$M$1900,5,0)","v":"033206010093"},"31/10/2006",null,null,10,{"v":526500,"d":"526,500"},"K60CN-ĐĐT.K05","CN"]
[654,"K245510301438","Trần Văn Tuấn",{"$f":"VLOOKUP(B655,'[1]Ko tgia'!$B$2:$M$1900,4,0)","v":"1920995574"},{"$f":"VLOOKUP(B655,'[1]Ko tgia'!$B$2:$M$1900,5,0)","v":"019205011816"},"15/07/2005",null,null,10,{"v":526500,"d":"526,500"},"K60CN-ĐĐT.K05","CN"]
[655,"K245510301373","Phạm Quang Dũng",{"$f":"VLOOKUP(B656,'[1]Ko tgia'!$B$2:$M$1900,4,0)","v":"1921061993"},{"$f":"VLOOKUP(B656,'[1]Ko tgia'!$B$2:$M$1900,5,0)","v":"019206003991"},"10/05/2006",null,null,10,{"v":526500,"d":"526,500"},"K60CN-ĐĐT.K05","CN"]
[656,"K245510301443","Nguyễn Thế Vinh",{"$f":"VLOOKUP(B657,'[1]Ko tgia'!$B$2:$M$1900,4,0)","v":"1921114875"},{"$f":"VLOOKUP(B657,'[1]Ko tgia'!$B$2:$M$1900,5,0)","v":"019206007759"},"23/07/2006",null,null,10,{"v":526500,"d":"526,500"},"K60CN-ĐĐT.K05","CN"]
[657,"K245510301436","Nguyễn Minh Tú",{"$f":"VLOOKUP(B658,'[1]Ko tgia'!$B$2:$M$1900,4,0)","v":"1921158912"},{"$f":"VLOOKUP(B658,'[1]Ko tgia'!$B$2:$M$1900,5,0)","v":"019206005158"},"16/11/2006",null,null,10,{"v":526500,"d":"526,500"},"K60CN-ĐĐT.K05","CN"]
[658,"K245510301407","Nguyễn Cao Minh",{"$f":"VLOOKUP(B659,'[1]Ko tgia'!$B$2:$M$1900,4,0)","v":"1921309096"},{"$f":"VLOOKUP(B659,'[1]Ko tgia'!$B$2:$M$1900,5,0)","v":"019206002114"},"11/08/2006",null,null,10,{"v":526500,"d":"526,500"},"K60CN-ĐĐT.K05","CN"]
[659,"K245510301389","Nguyễn Mạnh Hùng",{"$f":"VLOOKUP(B660,'[1]Ko tgia'!$B$2:$M$1900,4,0)","v":"1921431878"},{"$f":"VLOOKUP(B660,'[1]Ko tgia'!$B$2:$M$1900,5,0)","v":"019206001643"},"03/07/2006",null,null,10,{"v":526500,"d":"526,500"},"K60CN-ĐĐT.K05","CN"]
[660,"K245510301368","Bùi Tuấn Đạt",{"$f":"VLOOKUP(B661,'[1]Ko tgia'!$B$2:$M$1900,4,0)","v":"1921440734"},{"$f":"VLOOKUP(B661,'[1]Ko tgia'!$B$2:$M$1900,5,0)","v":"019206010145"},"10/04/2006",null,null,10,{"v":526500,"d":"526,500"},"K60CN-ĐĐT.K05","CN"]
[661,"K245510301366","Châu Mạnh Cường",{"$f":"VLOOKUP(B662,'[1]Ko tgia'!$B$2:$M$1900,4,0)","v":"1921572288"},{"$f":"VLOOKUP(B662,'[1]Ko tgia'!$B$2:$M$1900,5,0)","v":"019206002376"},"21/10/2006",null,null,10,{"v":526500,"d":"526,500"},"K60CN-ĐĐT.K05","CN"]
[662,"K245510301378","Hà Văn Giang",{"$f":"VLOOKUP(B663,'[1]Ko tgia'!$B$2:$M$1900,4,0)","v":"2020096420"},{"$f":"VLOOKUP(B663,'[1]Ko tgia'!$B$2:$M$1900,5,0)","v":"020206004886"},"09/01/2006",null,null,10,{"v":526500,"d":"526,500"},"K60CN-ĐĐT.K05","CN"]
[663,"K245510301440","Dương Thanh Tùng",{"$f":"VLOOKUP(B664,'[1]Ko tgia'!$B$2:$M$1900,4,0)","v":"2420075590"},{"$f":"VLOOKUP(B664,'[1]Ko tgia'!$B$2:$M$1900,5,0)","v":"024206000544"},"14/11/2006",null,null,10,{"v":526500,"d":"526,500"},"K60CN-ĐĐT.K05","CN"]
[664,"K245510301408","Lê Quang Minh",{"$f":"VLOOKUP(B665,'[1]Ko tgia'!$B$2:$M$1900,4,0)","v":"2420094642"},{"$f":"VLOOKUP(B665,'[1]Ko tgia'!$B$2:$M$1900,5,0)","v":"024206002210"},"15/10/2006",null,null,10,{"v":526500,"d":"526,500"},"K60CN-ĐĐT.K05","CN"]
[665,"K245510301394","Vũ Quang Huy",{"$f":"VLOOKUP(B666,'[1]Ko tgia'!$B$2:$M$1900,4,0)","v":"2420164110"},{"$f":"VLOOKUP(B666,'[1]Ko tgia'!$B$2:$M$1900,5,0)","v":"024206000294"},"17/08/2006",null,null,10,{"v":526500,"d":"526,500"},"K60CN-ĐĐT.K05","CN"]
[666,"K245510301360","Nguyễn Nhật Anh",{"$f":"VLOOKUP(B667,'[1]Ko tgia'!$B$2:$M$1900,4,0)","v":"2420243993"},{"$f":"VLOOKUP(B667,'[1]Ko tgia'!$B$2:$M$1900,5,0)","v":"024206002197"},"20/07/2006",null,null,10,{"v":526500,"d":"526,500"},"K60CN-ĐĐT.K05","CN"]
[667,"K245510301401","Bùi Danh Lộc",{"$f":"VLOOKUP(B668,'[1]Ko tgia'!$B$2:$M$1900,4,0)","v":"2420259714"},{"$f":"VLOOKUP(B668,'[1]Ko tgia'!$B$2:$M$1900,5,0)","v":"024206010422"},"30/03/2006",null,null,10,{"v":526500,"d":"526,500"},"K60CN-ĐĐT.K05","CN"]
[668,"K245510301405","Đào Xuân Mạnh",{"$f":"VLOOKUP(B669,'[1]Ko tgia'!$B$2:$M$1900,4,0)","v":"2420274451"},{"$f":"VLOOKUP(B669,'[1]Ko tgia'!$B$2:$M$1900,5,0)","v":"024206005004"},"24/02/2006",null,null,10,{"v":526500,"d":"526,500"},"K60CN-ĐĐT.K05","CN"]
[669,"K245510301413","Đoàn Văn Ngọc",{"$f":"VLOOKUP(B670,'[1]Ko tgia'!$B$2:$M$1900,4,0)","v":"2420280096"},{"$f":"VLOOKUP(B670,'[1]Ko tgia'!$B$2:$M$1900,5,0)","v":"024206002667"},"23/09/2006",null,null,10,{"v":526500,"d":"526,500"},"K60CN-ĐĐT.K05","CN"]
[670,"K245510301391","Giáp Văn Hưng",{"$f":"VLOOKUP(B671,'[1]Ko tgia'!$B$2:$M$1900,4,0)","v":"2420317212"},{"$f":"VLOOKUP(B671,'[1]Ko tgia'!$B$2:$M$1900,5,0)","v":"024206015162"},"26/09/2006",null,null,10,{"v":526500,"d":"526,500"},"K60CN-ĐĐT.K05","CN"]
[671,"K245510301416","Phạm Tuấn Phong",{"$f":"VLOOKUP(B672,'[1]Ko tgia'!$B$2:$M$1900,4,0)","v":"2420404279"},{"$f":"VLOOKUP(B672,'[1]Ko tgia'!$B$2:$M$1900,5,0)","v":"024206006877"},"10/07/2006",null,null,10,{"v":526500,"d":"526,500"},"K60CN-ĐĐT.K05","CN"]
[672,"K245510301423","Nguyễn Hoàng Sơn",{"$f":"VLOOKUP(B673,'[1]Ko tgia'!$B$2:$M$1900,4,0)","v":"2420589484"},{"$f":"VLOOKUP(B673,'[1]Ko tgia'!$B$2:$M$1900,5,0)","v":"024206004778"},"27/12/2006",null,null,10,{"v":526500,"d":"526,500"},"K60CN-ĐĐT.K05","CN"]
[673,"K245510301362","Hà Tôn Bách",{"$f":"VLOOKUP(B674,'[1]Ko tgia'!$B$2:$M$1900,4,0)","v":"2420988968"},{"$f":"VLOOKUP(B674,'[1]Ko tgia'!$B$2:$M$1900,5,0)","v":"024206013333"},"19/06/2006",null,null,10,{"v":526500,"d":"526,500"},"K60CN-ĐĐT.K05","CN"]
[674,"K245510301371","Nguyễn Minh Đức",{"$f":"VLOOKUP(B675,'[1]Ko tgia'!$B$2:$M$1900,4,0)","v":"2421250210"},{"$f":"VLOOKUP(B675,'[1]Ko tgia'!$B$2:$M$1900,5,0)","v":"024206013508"},"13/11/2006",null,null,10,{"v":526500,"d":"526,500"},"K60CN-ĐĐT.K05","CN"]
[675,"K245510301396","Nguyễn Tuấn Khang",{"$f":"VLOOKUP(B676,'[1]Ko tgia'!$B$2:$M$1900,4,0)","v":"2421376148"},{"$f":"VLOOKUP(B676,'[1]Ko tgia'!$B$2:$M$1900,5,0)","v":"024206006755"},"12/09/2006",null,null,10,{"v":526500,"d":"526,500"},"K60CN-ĐĐT.K05","CN"]
[676,"K245510301381","Nguyễn Văn Hiền",{"$f":"VLOOKUP(B677,'[1]Ko tgia'!$B$2:$M$1900,4,0)","v":"2421380235"},{"$f":"VLOOKUP(B677,'[1]Ko tgia'!$B$2:$M$1900,5,0)","v":"024206005442"},"23/02/2006",null,null,10,{"v":526500,"d":"526,500"},"K60CN-ĐĐT.K05","CN"]
[677,"K245510301374","Tạ Nguyễn Tiến Dũng",{"$f":"VLOOKUP(B678,'[1]Ko tgia'!$B$2:$M$1900,4,0)","v":"2421433239"},{"$f":"VLOOKUP(B678,'[1]Ko tgia'!$B$2:$M$1900,5,0)","v":"024206001642"},"11/09/2006",null,null,10,{"v":526500,"d":"526,500"},"K60CN-ĐĐT.K05","CN"]
[678,"K245510301363","Hoàng Thái Bảo",{"$f":"VLOOKUP(B679,'[1]Ko tgia'!$B$2:$M$1900,4,0)","v":"2421437569"},{"$f":"VLOOKUP(B679,'[1]Ko tgia'!$B$2:$M$1900,5,0)","v":"024206011546"},"07/06/2006",null,null,10,{"v":526500,"d":"526,500"},"K60CN-ĐĐT.K05","CN"]
[679,"K245510301427","Lưu Tiến Thành",{"$f":"VLOOKUP(B680,'[1]Ko tgia'!$B$2:$M$1900,4,0)","v":"2421474243"},{"$f":"VLOOKUP(B680,'[1]Ko tgia'!$B$2:$M$1900,5,0)","v":"024206014650"},"07/02/2006",null,null,10,{"v":526500,"d":"526,500"},"K60CN-ĐĐT.K05","CN"]
[680,"K245510301388","Nguyễn Văn Huấn",{"$f":"VLOOKUP(B681,'[1]Ko tgia'!$B$2:$M$1900,4,0)","v":"2421588123"},{"$f":"VLOOKUP(B681,'[1]Ko tgia'!$B$2:$M$1900,5,0)","v":"024206002556"},"14/12/2006",null,null,10,{"v":526500,"d":"526,500"},"K60CN-ĐĐT.K05","CN"]
[681,"K245510301390","Nguyễn Mạnh Hùng",{"$f":"VLOOKUP(B682,'[1]Ko tgia'!$B$2:$M$1900,4,0)","v":"2422043505"},{"$f":"VLOOKUP(B682,'[1]Ko tgia'!$B$2:$M$1900,5,0)","v":"024206014548"},"01/08/2006",null,null,10,{"v":526500,"d":"526,500"},"K60CN-ĐĐT.K05","CN"]
[682,"K245510301370","Nguyễn Hồng Đức",{"$f":"VLOOKUP(B683,'[1]Ko tgia'!$B$2:$M$1900,4,0)","v":"2520111859"},{"$f":"VLOOKUP(B683,'[1]Ko tgia'!$B$2:$M$1900,5,0)","v":"025206011312"},"11/06/2006",null,null,10,{"v":526500,"d":"526,500"},"K60CN-ĐĐT.K05","CN"]
[683,"K245510301402","Nguyễn Quang Long",{"$f":"VLOOKUP(B684,'[1]Ko tgia'!$B$2:$M$1900,4,0)","v":"2721029018"},{"$f":"VLOOKUP(B684,'[1]Ko tgia'!$B$2:$M$1900,5,0)","v":"024206005004"},"15/11/2006",null,null,10,{"v":526500,"d":"526,500"},"K60CN-ĐĐT.K05","CN"]
[684,"K245510301367","Nguyễn Thành Danh",{"$f":"VLOOKUP(B685,'[1]Ko tgia'!$B$2:$M$1900,4,0)","v":"9731911443"},{"$f":"VLOOKUP(B685,'[1]Ko tgia'!$B$2:$M$1900,5,0)","v":"036206024581"},"12/12/2006",null,null,10,{"v":526500,"d":"526,500"},"K60CN-ĐĐT.K05","CN"]
[685,"K245520320014","Nguyễn Hà Phương Thảo",{"$f":"VLOOKUP(B686,'[1]Ko tgia'!$B$2:$M$1900,4,0)","v":"1420007709"},{"$f":"VLOOKUP(B686,'[1]Ko tgia'!$B$2:$M$1900,5,0)","v":"014306011754"},"06/09/2006",{"$f":"VLOOKUP(B686,'[2]Ko tgia'!$C$2:$K$9900,8,0)","v":"x"},null,10,{"v":526500,"d":"526,500"},"K60KTM.K01","CN"]
[686,"K245520320003","Nguyễn Tiến Dũng",{"$f":"VLOOKUP(B687,'[1]Ko tgia'!$B$2:$M$1900,4,0)","v":"1920289529"},{"$f":"VLOOKUP(B687,'[1]Ko tgia'!$B$2:$M$1900,5,0)","v":"019206000459"},"27/09/2006",null,null,10,{"v":526500,"d":"526,500"},"K60KTM.K01","CN"]
[687,"K245520320015","Hà Trung Tuấn",{"$f":"VLOOKUP(B688,'[1]Ko tgia'!$B$2:$M$1900,4,0)","v":"1920429659"},{"$f":"VLOOKUP(B688,'[1]Ko tgia'!$B$2:$M$1900,5,0)","v":"019206009939"},"21/12/2006",null,null,10,{"v":526500,"d":"526,500"},"K60KTM.K01","CN"]
[688,"K245520320005","Ngô Văn Hòa",{"$f":"VLOOKUP(B689,'[1]Ko tgia'!$B$2:$M$1900,4,0)","v":"1920915788"},{"$f":"VLOOKUP(B689,'[1]Ko tgia'!$B$2:$M$1900,5,0)","v":"019206008011"},"15/09/2006",null,null,10,{"v":526500,"d":"526,500"},"K60KTM.K01","CN"]
[689,"K245520320009","Dương Viết Quyết",{"$f":"VLOOKUP(B690,'[1]Ko tgia'!$B$2:$M$1900,4,0)","v":"1921217958"},{"$f":"VLOOKUP(B690,'[1]Ko tgia'!$B$2:$M$1900,5,0)","v":"019206001344"},"15/04/2006",null,null,10,{"v":526500,"d":"526,500"},"K60KTM.K01","CN"]
[690,"K215520216161","Hoàng Minh Thắng",{"$f":"VLOOKUP(B691,'[1]Ko tgia'!$B$2:$M$1900,4,0)","v":"1920108128"},{"$f":"VLOOKUP(B691,'[1]Ko tgia'!$B$2:$M$1900,5,0)","v":"01920301169"},"04/01/2003",null,null,10,{"v":526500,"d":"526,500"},"K57 ĐĐK.01","ĐT"]
[691,"K215520216171","Cao Thành Trung",{"$f":"VLOOKUP(B692,'[1]Ko tgia'!$B$2:$M$1900,4,0)","v":"1920285681"},{"$f":"VLOOKUP(B692,'[1]Ko tgia'!$B$2:$M$1900,5,0)","v":"019201009859"},"24/12/2001",null,null,10,{"v":526500,"d":"526,500"},"K57 ĐĐK.01","ĐT"]
[692,"K215520216360","Hoàng Anh Đức",{"$f":"VLOOKUP(B693,'[1]Ko tgia'!$B$2:$M$1900,4,0)","v":"1920332702"},{"$f":"VLOOKUP(B693,'[1]Ko tgia'!$B$2:$M$1900,5,0)","v":"019203001951"},"02/11/2003",null,null,10,{"v":526500,"d":"526,500"},"K57 ĐĐK.01","ĐT"]
[693,"K215520216149","Đặng Bùi Xuân Nghĩa",{"$f":"VLOOKUP(B694,'[1]Ko tgia'!$B$2:$M$1900,4,0)","v":"1920402520"},{"$f":"VLOOKUP(B694,'[1]Ko tgia'!$B$2:$M$1900,5,0)","v":"019202000405"},"24/05/2002",null,null,10,{"v":526500,"d":"526,500"},"K57 ĐĐK.01","ĐT"]
[694,"K215520216104","Trần Nguyên Bình",{"$f":"VLOOKUP(B695,'[1]Ko tgia'!$B$2:$M$1900,4,0)","v":"1921333731"},{"$f":"VLOOKUP(B695,'[1]Ko tgia'!$B$2:$M$1900,5,0)","v":"019203002800"},"13/08/2003",null,null,10,{"v":526500,"d":"526,500"},"K57 ĐĐK.01","ĐT"]
[695,"K215520216521","Thân Việt Hoàng",{"$f":"VLOOKUP(B696,'[1]Ko tgia'!$B$2:$M$1900,4,0)","v":"2420201792"},{"$f":"VLOOKUP(B696,'[1]Ko tgia'!$B$2:$M$1900,5,0)","v":"024203002472"},"12/08/2003",null,null,10,{"v":526500,"d":"526,500"},"K57 ĐĐK.01","ĐT"]
[696,"K215520216766","Đặng Công Giảng",{"$f":"VLOOKUP(B697,'[1]Ko tgia'!$B$2:$M$1900,4,0)","v":"2420274718"},{"$f":"VLOOKUP(B697,'[1]Ko tgia'!$B$2:$M$1900,5,0)","v":"024203004330"},"28/09/2003",null,null,10,{"v":526500,"d":"526,500"},"K57 ĐĐK.01","ĐT"]
[697,"K215520216804","Nguyễn Đình Thức",{"$f":"VLOOKUP(B698,'[1]Ko tgia'!$B$2:$M$1900,4,0)","v":"2420276255"},{"$f":"VLOOKUP(B698,'[1]Ko tgia'!$B$2:$M$1900,5,0)","v":"024203013901"},"28/11/2003",null,null,10,{"v":526500,"d":"526,500"},"K57 ĐĐK.01","ĐT"]
[698,"K215520216538","Nguyễn Hoàng Nam",{"$f":"VLOOKUP(B699,'[1]Ko tgia'!$B$2:$M$1900,4,0)","v":"2720014908"},{"$f":"VLOOKUP(B699,'[1]Ko tgia'!$B$2:$M$1900,5,0)","v":"027203011911"},"20/10/2003",null,null,10,{"v":526500,"d":"526,500"},"K57 ĐĐK.01","ĐT"]
[699,"K215520216513","Nguyễn Danh Dương",{"$f":"VLOOKUP(B700,'[1]Ko tgia'!$B$2:$M$1900,4,0)","v":"2720685465"},{"$f":"VLOOKUP(B700,'[1]Ko tgia'!$B$2:$M$1900,5,0)","v":"027203002868"},"23/10/2003",null,null,10,{"v":526500,"d":"526,500"},"K57 ĐĐK.01","ĐT"]
[700,"K215520216259","Chu Mạnh Tùng",{"$f":"VLOOKUP(B701,'[1]Ko tgia'!$B$2:$M$1900,4,0)","v":"3520367110"},{"$f":"VLOOKUP(B701,'[1]Ko tgia'!$B$2:$M$1900,5,0)","v":"035203004024"},"15/04/2003",null,null,10,{"v":526500,"d":"526,500"},"K57 ĐĐK.01","ĐT"]
[701,"K215520216487","Hoàng Ngọc Cường",{"$f":"VLOOKUP(B702,'[1]Ko tgia'!$B$2:$M$1900,4,0)","v":"3822328770"},{"$f":"VLOOKUP(B702,'[1]Ko tgia'!$B$2:$M$1900,5,0)","v":"038203016625"},"29/10/2003",null,null,10,{"v":526500,"d":"526,500"},"K57 ĐĐK.01","ĐT"]
[702,"K215520216526","Từ Hữu Huy",{"$f":"VLOOKUP(B703,'[1]Ko tgia'!$B$2:$M$1900,4,0)","v":"4217130935"},{"$f":"VLOOKUP(B703,'[1]Ko tgia'!$B$2:$M$1900,5,0)","v":"042202001459"},"15/03/2002",null,null,10,{"v":526500,"d":"526,500"},"K57 ĐĐK.01","ĐT"]
[703,"K215520207077","Nguyễn Quang Huy",{"$f":"VLOOKUP(B704,'[1]Ko tgia'!$B$2:$M$1900,4,0)","v":"1920133955"},{"$f":"VLOOKUP(B704,'[1]Ko tgia'!$B$2:$M$1900,5,0)","v":"019203003740"},"13/08/2003",null,null,10,{"v":526500,"d":"526,500"},"K57ĐVT.01","ĐT"]
[704,"K215520207067","Diệp Đức Mạnh",{"$f":"VLOOKUP(B705,'[1]Ko tgia'!$B$2:$M$1900,4,0)","v":"1920467904"},{"$f":"VLOOKUP(B705,'[1]Ko tgia'!$B$2:$M$1900,5,0)","v":"019203009834"},"19/04/2003",null,null,10,{"v":526500,"d":"526,500"},"K57ĐVT.01","ĐT"]
[705,"K215520207093","Trương Minh Hiếu",{"$f":"VLOOKUP(B706,'[1]Ko tgia'!$B$2:$M$1900,4,0)","v":"1920930085"},{"$f":"VLOOKUP(B706,'[1]Ko tgia'!$B$2:$M$1900,5,0)","v":"019203001535"},"22/05/2003",null,null,10,{"v":526500,"d":"526,500"},"K57ĐVT.01","ĐT"]
[706,"K215520207047","Lương Văn Trường",{"$f":"VLOOKUP(B707,'[1]Ko tgia'!$B$2:$M$1900,4,0)","v":"1921004999"},{"$f":"VLOOKUP(B707,'[1]Ko tgia'!$B$2:$M$1900,5,0)","v":"019203002165"},"14/08/2003",null,null,10,{"v":526500,"d":"526,500"},"K57ĐVT.01","ĐT"]
[707,"K215520207107","Nguyễn Văn Nam",{"$f":"VLOOKUP(B708,'[1]Ko tgia'!$B$2:$M$1900,4,0)","v":"2421503647"},{"$f":"VLOOKUP(B708,'[1]Ko tgia'!$B$2:$M$1900,5,0)","v":"024203010326"},"13/07/2003",null,null,10,{"v":526500,"d":"526,500"},"K57ĐVT.01","ĐT"]
[708,"K215520207148","Hoàng Mạnh Dũng",{"$f":"VLOOKUP(B709,'[1]Ko tgia'!$B$2:$M$1900,4,0)","v":"1920612143"},{"$f":"VLOOKUP(B709,'[1]Ko tgia'!$B$2:$M$1900,5,0)","v":"019203002794"},"28/10/2003",null,null,10,{"v":526500,"d":"526,500"},"K57KĐT.01","ĐT"]
[709,"K215520207083","Trần Hải Bắc",{"$f":"VLOOKUP(B710,'[1]Ko tgia'!$B$2:$M$1900,4,0)","v":"2421643331"},{"$f":"VLOOKUP(B710,'[1]Ko tgia'!$B$2:$M$1900,5,0)","v":"024202000430"},"08/04/2002",null,null,10,{"v":526500,"d":"526,500"},"K57KĐT.01","ĐT"]
[710,"K215480106046","Hoàng Đức Thuần",{"$f":"VLOOKUP(B711,'[1]Ko tgia'!$B$2:$M$1900,4,0)","v":"0620221143"},{"$f":"VLOOKUP(B711,'[1]Ko tgia'!$B$2:$M$1900,5,0)","v":"006202002295"},"18/10/2002",null,null,10,{"v":526500,"d":"526,500"},"K57KMT.01","ĐT"]
[711,"K215480106053","Nguyễn Quý Tùng",{"$f":"VLOOKUP(B712,'[1]Ko tgia'!$B$2:$M$1900,4,0)","v":"1920084047"},{"$f":"VLOOKUP(B712,'[1]Ko tgia'!$B$2:$M$1900,5,0)","v":"019203007955"},"18/10/2003",null,null,10,{"v":526500,"d":"526,500"},"K57KMT.01","ĐT"]
[712,"K215480106068","Đào Việt Hoàng",{"$f":"VLOOKUP(B713,'[1]Ko tgia'!$B$2:$M$1900,4,0)","v":"1920091051"},{"$f":"VLOOKUP(B713,'[1]Ko tgia'!$B$2:$M$1900,5,0)","v":"019203009570"},"12/04/2003",null,null,10,{"v":526500,"d":"526,500"},"K57KMT.01","ĐT"]
[713,"K215480106064","Phạm Thị Hồng Nhung",{"$f":"VLOOKUP(B714,'[1]Ko tgia'!$B$2:$M$1900,4,0)","v":"1920231639"},{"$f":"VLOOKUP(B714,'[1]Ko tgia'!$B$2:$M$1900,5,0)","v":"019303005663"},"26/10/2003",{"$f":"VLOOKUP(B714,'[2]Ko tgia'!$C$2:$K$9900,8,0)","v":"x"},null,10,{"v":526500,"d":"526,500"},"K57KMT.01","ĐT"]
[714,"K215480106013","Đỗ Đình Đức",{"$f":"VLOOKUP(B715,'[1]Ko tgia'!$B$2:$M$1900,4,0)","v":"1920344418"},{"$f":"VLOOKUP(B715,'[1]Ko tgia'!$B$2:$M$1900,5,0)","v":"019201001241"},"13/08/2001",null,null,10,{"v":526500,"d":"526,500"},"K57KMT.01","ĐT"]
[715,"K215480106076","Chu Hoàng Huy",{"$f":"VLOOKUP(B716,'[1]Ko tgia'!$B$2:$M$1900,4,0)","v":"1920818839"},{"$f":"VLOOKUP(B716,'[1]Ko tgia'!$B$2:$M$1900,5,0)","v":"019203002180"},"25/01/2003",null,null,10,{"v":526500,"d":"526,500"},"K57KMT.01","ĐT"]
[716,"K215480106057","Lê Đức Toàn",{"$f":"VLOOKUP(B717,'[1]Ko tgia'!$B$2:$M$1900,4,0)","v":"1920940484"},{"$f":"VLOOKUP(B717,'[1]Ko tgia'!$B$2:$M$1900,5,0)","v":"019203002160"},"25/06/2003",null,null,10,{"v":526500,"d":"526,500"},"K57KMT.01","ĐT"]
[717,"K215480106123","Phạm Ngọc Thuận Thanh",{"$f":"VLOOKUP(B718,'[1]Ko tgia'!$B$2:$M$1900,4,0)","v":"1921084714"},{"$f":"VLOOKUP(B718,'[1]Ko tgia'!$B$2:$M$1900,5,0)","v":"019203000477"},"08/06/2003",null,null,10,{"v":526500,"d":"526,500"},"K57KMT.01","ĐT"]
[718,"K215480106067","Nguyễn Bá Trung",{"$f":"VLOOKUP(B719,'[1]Ko tgia'!$B$2:$M$1900,4,0)","v":"1921427978"},{"$f":"VLOOKUP(B719,'[1]Ko tgia'!$B$2:$M$1900,5,0)","v":"019203011047"},"11/09/2003",null,null,10,{"v":526500,"d":"526,500"},"K57KMT.01","ĐT"]
[719,"K215480106115","Nguyễn Thành Nguyên",{"$f":"VLOOKUP(B720,'[1]Ko tgia'!$B$2:$M$1900,4,0)","v":"2020536437"},{"$f":"VLOOKUP(B720,'[1]Ko tgia'!$B$2:$M$1900,5,0)","v":"020202000544"},"24/11/2002",null,null,10,{"v":526500,"d":"526,500"},"K57KMT.01","ĐT"]
[720,"K215480106072","Dương Hữu Tạo",{"$f":"VLOOKUP(B721,'[1]Ko tgia'!$B$2:$M$1900,4,0)","v":"2420908335"},null,"01/10/2003",null,null,10,{"v":526500,"d":"526,500"},"K57KMT.01","ĐT"]
[721,"K225510303061","Lương Công Trường",{"$f":"VLOOKUP(B722,'[1]Ko tgia'!$B$2:$M$1900,4,0)","v":"1520745868"},{"$f":"VLOOKUP(B722,'[1]Ko tgia'!$B$2:$M$1900,5,0)","v":"015204002710"},"14/07/2004",null,null,10,{"v":526500,"d":"526,500"},"K58CN-ĐKT.K01","ĐT"]
[722,"K225510303062","Nguyễn Văn Trưởng",{"$f":"VLOOKUP(B723,'[1]Ko tgia'!$B$2:$M$1900,4,0)","v":"1920453439"},{"$f":"VLOOKUP(B723,'[1]Ko tgia'!$B$2:$M$1900,5,0)","v":"019204002794"},"02/04/2004",null,null,10,{"v":526500,"d":"526,500"},"K58CN-ĐKT.K01","ĐT"]
[723,"K225510303004","Trương Ngọc Bách",{"$f":"VLOOKUP(B724,'[1]Ko tgia'!$B$2:$M$1900,4,0)","v":"1920996707"},{"$f":"VLOOKUP(B724,'[1]Ko tgia'!$B$2:$M$1900,5,0)","v":"019204006058"},"26/07/2004",null,null,10,{"v":526500,"d":"526,500"},"K58CN-ĐKT.K01","ĐT"]
[724,"K225510303017","Nguyễn Tiến Dũng",{"$f":"VLOOKUP(B725,'[1]Ko tgia'!$B$2:$M$1900,4,0)","v":"1921423298"},null,"01/04/2004",null,null,10,{"v":526500,"d":"526,500"},"K58CN-ĐKT.K01","ĐT"]
[725,"K225510303041","Trần Đức Nam",{"$f":"VLOOKUP(B726,'[1]Ko tgia'!$B$2:$M$1900,4,0)","v":"1921440675"},{"$f":"VLOOKUP(B726,'[1]Ko tgia'!$B$2:$M$1900,5,0)","v":"019204001768"},"18/10/2004",null,null,10,{"v":526500,"d":"526,500"},"K58CN-ĐKT.K01","ĐT"]
[726,"K225510303022","Nguyễn Hữu Hải",{"$f":"VLOOKUP(B727,'[1]Ko tgia'!$B$2:$M$1900,4,0)","v":"2221743882"},{"$f":"VLOOKUP(B727,'[1]Ko tgia'!$B$2:$M$1900,5,0)","v":"034204014889"},"05/12/2004",null,null,10,{"v":526500,"d":"526,500"},"K58CN-ĐKT.K01","ĐT"]
[727,"K225510303006","Nguyễn Anh Chính",{"$f":"VLOOKUP(B728,'[1]Ko tgia'!$B$2:$M$1900,4,0)","v":"2420153043"},{"$f":"VLOOKUP(B728,'[1]Ko tgia'!$B$2:$M$1900,5,0)","v":"024204005431"},"18/08/2004",null,null,10,{"v":526500,"d":"526,500"},"K58CN-ĐKT.K01","ĐT"]
[728,"K225510303049","Nguyễn Quang Quỳnh",{"$f":"VLOOKUP(B729,'[1]Ko tgia'!$B$2:$M$1900,4,0)","v":"2420292188"},{"$f":"VLOOKUP(B729,'[1]Ko tgia'!$B$2:$M$1900,5,0)","v":"024204007384"},"23/01/2004",null,null,10,{"v":526500,"d":"526,500"},"K58CN-ĐKT.K01","ĐT"]
[729,"K225510303020","Dương Mạnh Giáp",{"$f":"VLOOKUP(B730,'[1]Ko tgia'!$B$2:$M$1900,4,0)","v":"2420398425"},{"$f":"VLOOKUP(B730,'[1]Ko tgia'!$B$2:$M$1900,5,0)","v":"024204012462"},"30/09/2004",null,null,10,{"v":526500,"d":"526,500"},"K58CN-ĐKT.K01","ĐT"]
[730,"K225510303052","Vũ Văn Thắng",{"$f":"VLOOKUP(B731,'[1]Ko tgia'!$B$2:$M$1900,4,0)","v":"2421872684"},{"$f":"VLOOKUP(B731,'[1]Ko tgia'!$B$2:$M$1900,5,0)","v":"024204006808"},"29/04/2004",null,null,10,{"v":526500,"d":"526,500"},"K58CN-ĐKT.K01","ĐT"]
[731,"K225510303047","Nguyễn Hồng Quân",{"$f":"VLOOKUP(B732,'[1]Ko tgia'!$B$2:$M$1900,4,0)","v":"2421915096"},{"$f":"VLOOKUP(B732,'[1]Ko tgia'!$B$2:$M$1900,5,0)","v":"024203013257"},"24/11/2003",null,null,10,{"v":526500,"d":"526,500"},"K58CN-ĐKT.K01","ĐT"]
[732,"K225510303133","Hà Anh Tuấn",{"$f":"VLOOKUP(B733,'[1]Ko tgia'!$B$2:$M$1900,4,0)","v":"1520742282"},{"$f":"VLOOKUP(B733,'[1]Ko tgia'!$B$2:$M$1900,5,0)","v":"015204007687"},"24/04/2004",null,null,10,{"v":526500,"d":"526,500"},"K58CN-ĐKT.K02","ĐT"]
[733,"K225510303071","Lê Minh An",{"$f":"VLOOKUP(B734,'[1]Ko tgia'!$B$2:$M$1900,4,0)","v":"1920197328"},{"$f":"VLOOKUP(B734,'[1]Ko tgia'!$B$2:$M$1900,5,0)","v":"019204006769"},"05/06/2004",null,null,10,{"v":526500,"d":"526,500"},"K58CN-ĐKT.K02","ĐT"]
[734,"K225510303080","Vũ Tiến Đạt",{"$f":"VLOOKUP(B735,'[1]Ko tgia'!$B$2:$M$1900,4,0)","v":"1920432917"},{"$f":"VLOOKUP(B735,'[1]Ko tgia'!$B$2:$M$1900,5,0)","v":"019204005737"},"16/06/2004",null,null,10,{"v":526500,"d":"526,500"},"K58CN-ĐKT.K02","ĐT"]
[735,"K225510303078","Tạ Trương Đại",{"$f":"VLOOKUP(B736,'[1]Ko tgia'!$B$2:$M$1900,4,0)","v":"1921148703"},{"$f":"VLOOKUP(B736,'[1]Ko tgia'!$B$2:$M$1900,5,0)","v":"019204001645"},"09/08/2004",null,null,10,{"v":526500,"d":"526,500"},"K58CN-ĐKT.K02","ĐT"]
[736,"K225510303137","Dương Công Tuyền",{"$f":"VLOOKUP(B737,'[1]Ko tgia'!$B$2:$M$1900,4,0)","v":"2020580161"},{"$f":"VLOOKUP(B737,'[1]Ko tgia'!$B$2:$M$1900,5,0)","v":"020204007877"},"28/06/2004",null,null,10,{"v":526500,"d":"526,500"},"K58CN-ĐKT.K02","ĐT"]
[737,"K225510303117","Nguyễn Văn Quang",{"$f":"VLOOKUP(B738,'[1]Ko tgia'!$B$2:$M$1900,4,0)","v":"2420343836"},{"$f":"VLOOKUP(B738,'[1]Ko tgia'!$B$2:$M$1900,5,0)","v":"024204014690"},"17/01/2004",null,null,10,{"v":526500,"d":"526,500"},"K58CN-ĐKT.K02","ĐT"]
[738,"K225510303109","Trần Văn Minh",{"$f":"VLOOKUP(B739,'[1]Ko tgia'!$B$2:$M$1900,4,0)","v":"2421240764"},{"$f":"VLOOKUP(B739,'[1]Ko tgia'!$B$2:$M$1900,5,0)","v":"024204003414"},"25/08/2004",null,null,10,{"v":526500,"d":"526,500"},"K58CN-ĐKT.K02","ĐT"]
[739,"K225510303125","Đỗ Viết Thực",{"$f":"VLOOKUP(B740,'[1]Ko tgia'!$B$2:$M$1900,4,0)","v":"2421289289"},{"$f":"VLOOKUP(B740,'[1]Ko tgia'!$B$2:$M$1900,5,0)","v":"024204001629"},"15/10/2004",null,null,10,{"v":526500,"d":"526,500"},"K58CN-ĐKT.K02","ĐT"]
[740,"K225510303112","Tạ Hoàng Nam",{"$f":"VLOOKUP(B741,'[1]Ko tgia'!$B$2:$M$1900,4,0)","v":"2421810375"},{"$f":"VLOOKUP(B741,'[1]Ko tgia'!$B$2:$M$1900,5,0)","v":"024204014134"},"22/04/2004",null,null,10,{"v":526500,"d":"526,500"},"K58CN-ĐKT.K02","ĐT"]
[741,"K225510303131","Nguyễn Văn Trường",{"$f":"VLOOKUP(B742,'[1]Ko tgia'!$B$2:$M$1900,4,0)","v":"2421916833"},{"$f":"VLOOKUP(B742,'[1]Ko tgia'!$B$2:$M$1900,5,0)","v":"024204001411"},"03/07/2004",null,null,10,{"v":526500,"d":"526,500"},"K58CN-ĐKT.K02","ĐT"]
[742,"K225510303138","Nguyễn Đức Việt",{"$f":"VLOOKUP(B743,'[1]Ko tgia'!$B$2:$M$1900,4,0)","v":"2422009648"},{"$f":"VLOOKUP(B743,'[1]Ko tgia'!$B$2:$M$1900,5,0)","v":"024204002844"},"11/07/2004",null,null,10,{"v":526500,"d":"526,500"},"K58CN-ĐKT.K02","ĐT"]
[743,"K225510303091","Nghiêm Đình Hải",{"$f":"VLOOKUP(B744,'[1]Ko tgia'!$B$2:$M$1900,4,0)","v":"2720222631"},{"$f":"VLOOKUP(B744,'[1]Ko tgia'!$B$2:$M$1900,5,0)","v":"027204002253"},"27/01/2004",null,null,10,{"v":526500,"d":"526,500"},"K58CN-ĐKT.K02","ĐT"]
[744,"K225510303101","Trần Quang Khải",{"$f":"VLOOKUP(B745,'[1]Ko tgia'!$B$2:$M$1900,4,0)","v":"2720409860"},{"$f":"VLOOKUP(B745,'[1]Ko tgia'!$B$2:$M$1900,5,0)","v":"027204001754"},"16/12/2004",null,null,10,{"v":526500,"d":"526,500"},"K58CN-ĐKT.K02","ĐT"]
[745,"K225510303152","Cáp Quý Đoàn",{"$f":"VLOOKUP(B746,'[1]Ko tgia'!$B$2:$M$1900,4,0)","v":"1920206271"},{"$f":"VLOOKUP(B746,'[1]Ko tgia'!$B$2:$M$1900,5,0)","v":"019204009044"},"13/10/2004",null,null,10,{"v":526500,"d":"526,500"},"K58CN-ĐKT.K03","ĐT"]
[746,"K225510303170","Lưu Đức Huyến",{"$f":"VLOOKUP(B747,'[1]Ko tgia'!$B$2:$M$1900,4,0)","v":"1920314648"},{"$f":"VLOOKUP(B747,'[1]Ko tgia'!$B$2:$M$1900,5,0)","v":"019204002380"},"09/02/2004",null,null,10,{"v":526500,"d":"526,500"},"K58CN-ĐKT.K03","ĐT"]
[747,"K225510303184","Đinh Văn Ninh",{"$f":"VLOOKUP(B748,'[1]Ko tgia'!$B$2:$M$1900,4,0)","v":"1921231692"},{"$f":"VLOOKUP(B748,'[1]Ko tgia'!$B$2:$M$1900,5,0)","v":"019204008642"},"19/07/2004",null,null,10,{"v":526500,"d":"526,500"},"K58CN-ĐKT.K03","ĐT"]
[748,"K225510303148","Phạm Hải Đăng",{"$f":"VLOOKUP(B749,'[1]Ko tgia'!$B$2:$M$1900,4,0)","v":"2420566027"},{"$f":"VLOOKUP(B749,'[1]Ko tgia'!$B$2:$M$1900,5,0)","v":"024204007759"},"01/02/2004",null,null,10,{"v":526500,"d":"526,500"},"K58CN-ĐKT.K03","ĐT"]
[749,"K225510303192","Trần Xuân Thành",{"$f":"VLOOKUP(B750,'[1]Ko tgia'!$B$2:$M$1900,4,0)","v":"2420796970"},{"$f":"VLOOKUP(B750,'[1]Ko tgia'!$B$2:$M$1900,5,0)","v":"024204006414"},"15/09/2004",null,null,10,{"v":526500,"d":"526,500"},"K58CN-ĐKT.K03","ĐT"]
[750,"K225510303160","Nghiêm Việt Hà",{"$f":"VLOOKUP(B751,'[1]Ko tgia'!$B$2:$M$1900,4,0)","v":"2720211670"},{"$f":"VLOOKUP(B751,'[1]Ko tgia'!$B$2:$M$1900,5,0)","v":"027204001455"},"05/03/2004",null,null,10,{"v":526500,"d":"526,500"},"K58CN-ĐKT.K03","ĐT"]
[751,"K225510303180","Trần Thế Minh",{"$f":"VLOOKUP(B752,'[1]Ko tgia'!$B$2:$M$1900,4,0)","v":"2721729045"},{"$f":"VLOOKUP(B752,'[1]Ko tgia'!$B$2:$M$1900,5,0)","v":"027204002590"},"13/09/2004",null,null,10,{"v":526500,"d":"526,500"},"K58CN-ĐKT.K03","ĐT"]
[752,"K225510303174","Nguyễn Thị Phương Lan",{"$f":"VLOOKUP(B753,'[1]Ko tgia'!$B$2:$M$1900,4,0)","v":"7937725987"},{"$f":"VLOOKUP(B753,'[1]Ko tgia'!$B$2:$M$1900,5,0)","v":"024304006537"},"02/10/2004",{"$f":"VLOOKUP(B753,'[2]Ko tgia'!$C$2:$K$9900,8,0)","v":"x"},null,10,{"v":526500,"d":"526,500"},"K58CN-ĐKT.K03","ĐT"]
[753,"K225520207049","Nguyễn Văn Thái",{"$f":"VLOOKUP(B754,'[1]Ko tgia'!$B$2:$M$1900,4,0)","v":"1921225252"},{"$f":"VLOOKUP(B754,'[1]Ko tgia'!$B$2:$M$1900,5,0)","v":"019204010388"},"21/05/2004",null,null,10,{"v":526500,"d":"526,500"},"K58ĐVT.K01","ĐT"]
[754,"K225520207024","Nguyễn Đức Hùng",{"$f":"VLOOKUP(B755,'[1]Ko tgia'!$B$2:$M$1900,4,0)","v":"2420567713"},{"$f":"VLOOKUP(B755,'[1]Ko tgia'!$B$2:$M$1900,5,0)","v":"024204013346"},"04/02/2004",null,null,10,{"v":526500,"d":"526,500"},"K58ĐVT.K01","ĐT"]
[755,"K225520207041","Nguyễn Hải Nam",{"$f":"VLOOKUP(B756,'[1]Ko tgia'!$B$2:$M$1900,4,0)","v":"1920005784"},{"$f":"VLOOKUP(B756,'[1]Ko tgia'!$B$2:$M$1900,5,0)","v":"019204010963"},"23/05/2004",null,null,10,{"v":526500,"d":"526,500"},"K58KĐT.K01","ĐT"]
[756,"K225520207065","Lê Hữu Trang",{"$f":"VLOOKUP(B757,'[1]Ko tgia'!$B$2:$M$1900,4,0)","v":"1921028178"},{"$f":"VLOOKUP(B757,'[1]Ko tgia'!$B$2:$M$1900,5,0)","v":"019204009113"},"29/01/2004",null,null,10,{"v":526500,"d":"526,500"},"K58KĐT.K01","ĐT"]
[757,"K225520207072","Hà Phi Hùng",{"$f":"VLOOKUP(B758,'[1]Ko tgia'!$B$2:$M$1900,4,0)","v":"1921152687"},{"$f":"VLOOKUP(B758,'[1]Ko tgia'!$B$2:$M$1900,5,0)","v":"019204004953"},"29/07/2004",null,null,10,{"v":526500,"d":"526,500"},"K58KĐT.K01","ĐT"]
[758,"K225520207031","Hà Minh Huy",{"$f":"VLOOKUP(B759,'[1]Ko tgia'!$B$2:$M$1900,4,0)","v":"1921182238"},{"$f":"VLOOKUP(B759,'[1]Ko tgia'!$B$2:$M$1900,5,0)","v":"019204009754"},"18/12/2004",null,null,10,{"v":526500,"d":"526,500"},"K58KĐT.K01","ĐT"]
[759,"K225520207003","Hà Tuấn Anh",{"$f":"VLOOKUP(B760,'[1]Ko tgia'!$B$2:$M$1900,4,0)","v":"1921214218"},{"$f":"VLOOKUP(B760,'[1]Ko tgia'!$B$2:$M$1900,5,0)","v":"019204004476"},"04/03/2004",null,null,10,{"v":526500,"d":"526,500"},"K58KĐT.K01","ĐT"]
[760,"K225520207047","Nguyễn Thu Quỳnh",{"$f":"VLOOKUP(B761,'[1]Ko tgia'!$B$2:$M$1900,4,0)","v":"2421550186"},{"$f":"VLOOKUP(B761,'[1]Ko tgia'!$B$2:$M$1900,5,0)","v":"024304000337"},"25/05/2004",{"$f":"VLOOKUP(B761,'[2]Ko tgia'!$C$2:$K$9900,8,0)","v":"x"},null,10,{"v":526500,"d":"526,500"},"K58KĐT.K01","ĐT"]
[761,"K225480106048","Phạm Duy Tiến Minh",{"$f":"VLOOKUP(B762,'[1]Ko tgia'!$B$2:$M$1900,4,0)","v":"0122999776"},{"$f":"VLOOKUP(B762,'[1]Ko tgia'!$B$2:$M$1900,5,0)","v":"001099020587"},"05/12/1999",null,null,10,{"v":526500,"d":"526,500"},"K58KTP.K01","ĐT"]
[762,"K225480106039","Nguyễn Nguyệt Linh",{"$f":"VLOOKUP(B763,'[1]Ko tgia'!$B$2:$M$1900,4,0)","v":"1920092037"},{"$f":"VLOOKUP(B763,'[1]Ko tgia'!$B$2:$M$1900,5,0)","v":"019304007311"},"15/08/2004",{"$f":"VLOOKUP(B763,'[2]Ko tgia'!$C$2:$K$9900,8,0)","v":"x"},null,10,{"v":526500,"d":"526,500"},"K58KTP.K01","ĐT"]
[763,"K225480106069","Lê Ngọc Tú",{"$f":"VLOOKUP(B764,'[1]Ko tgia'!$B$2:$M$1900,4,0)","v":"1920204782"},{"$f":"VLOOKUP(B764,'[1]Ko tgia'!$B$2:$M$1900,5,0)","v":"019204001477"},"26/06/2004",null,null,10,{"v":526500,"d":"526,500"},"K58KTP.K01","ĐT"]
[764,"K225480106088","Tạ Phạm Đình Hòa",{"$f":"VLOOKUP(B765,'[1]Ko tgia'!$B$2:$M$1900,4,0)","v":"1920283134"},{"$f":"VLOOKUP(B765,'[1]Ko tgia'!$B$2:$M$1900,5,0)","v":"019204000749"},"10/07/2004",null,null,10,{"v":526500,"d":"526,500"},"K58KTP.K01","ĐT"]
[765,"K225480106015","Nguyễn Thị Thu Hiền",{"$f":"VLOOKUP(B766,'[1]Ko tgia'!$B$2:$M$1900,4,0)","v":"1920319720"},{"$f":"VLOOKUP(B766,'[1]Ko tgia'!$B$2:$M$1900,5,0)","v":"019304003077"},"20/02/2004",{"$f":"VLOOKUP(B766,'[2]Ko tgia'!$C$2:$K$9900,8,0)","v":"x"},null,10,{"v":526500,"d":"526,500"},"K58KTP.K01","ĐT"]
[766,"K225480106003","Đặng Đình Đạt",{"$f":"VLOOKUP(B767,'[1]Ko tgia'!$B$2:$M$1900,4,0)","v":"1920443918"},{"$f":"VLOOKUP(B767,'[1]Ko tgia'!$B$2:$M$1900,5,0)","v":"019204006851"},"06/02/2004",null,null,10,{"v":526500,"d":"526,500"},"K58KTP.K01","ĐT"]
[767,"K225510201001","Bùi Ngọc Anh",{"$f":"VLOOKUP(B768,'[1]Ko tgia'!$B$2:$M$1900,4,0)","v":"1920514447"},{"$f":"VLOOKUP(B768,'[1]Ko tgia'!$B$2:$M$1900,5,0)","v":"019204002714"},"18/04/2004",null,null,10,{"v":526500,"d":"526,500"},"K58KTP.K01","ĐT"]
[768,"K225480106037","Phạm Khắc Linh",{"$f":"VLOOKUP(B769,'[1]Ko tgia'!$B$2:$M$1900,4,0)","v":"1920944653"},{"$f":"VLOOKUP(B769,'[1]Ko tgia'!$B$2:$M$1900,5,0)","v":"019204002123"},"08/05/2004",null,null,10,{"v":526500,"d":"526,500"},"K58KTP.K01","ĐT"]
[769,"K225480106033","Dương Anh Kiên",{"$f":"VLOOKUP(B770,'[1]Ko tgia'!$B$2:$M$1900,4,0)","v":"1921177476"},null,"07/12/2004",null,null,10,{"v":526500,"d":"526,500"},"K58KTP.K01","ĐT"]
[770,"K225480106085","Hoàng Đức Hội",{"$f":"VLOOKUP(B771,'[1]Ko tgia'!$B$2:$M$1900,4,0)","v":"2020472099"},{"$f":"VLOOKUP(B771,'[1]Ko tgia'!$B$2:$M$1900,5,0)","v":"020204000286"},"22/09/2004",null,null,10,{"v":526500,"d":"526,500"},"K58KTP.K01","ĐT"]
[771,"K225480106098","Phương Thị Ánh Nguyệt",{"$f":"VLOOKUP(B772,'[1]Ko tgia'!$B$2:$M$1900,4,0)","v":"2420156004"},{"$f":"VLOOKUP(B772,'[1]Ko tgia'!$B$2:$M$1900,5,0)","v":"024304011180"},"07/01/2004",{"$f":"VLOOKUP(B772,'[2]Ko tgia'!$C$2:$K$9900,8,0)","v":"x"},null,10,{"v":526500,"d":"526,500"},"K58KTP.K01","ĐT"]
[772,"K225480106070","Nguyễn Đức Anh Tú",{"$f":"VLOOKUP(B773,'[1]Ko tgia'!$B$2:$M$1900,4,0)","v":"2420457953"},{"$f":"VLOOKUP(B773,'[1]Ko tgia'!$B$2:$M$1900,5,0)","v":"024204011407"},"18/11/2004",null,null,10,{"v":526500,"d":"526,500"},"K58KTP.K01","ĐT"]
[773,"K225480106028","Vũ Bảo Khánh",{"$f":"VLOOKUP(B774,'[1]Ko tgia'!$B$2:$M$1900,4,0)","v":"2521179408"},null,"02/10/2004",null,null,10,{"v":526500,"d":"526,500"},"K58KTP.K01","ĐT"]
[774,"K225480106049","Lương Ngọc Nam",{"$f":"VLOOKUP(B775,'[1]Ko tgia'!$B$2:$M$1900,4,0)","v":"2721195915"},{"$f":"VLOOKUP(B775,'[1]Ko tgia'!$B$2:$M$1900,5,0)","v":"027204003006"},"07/08/2004",null,null,10,{"v":526500,"d":"526,500"},"K58KTP.K01","ĐT"]
[775,"K235510303127","Tô Thành Hoàn",{"$f":"VLOOKUP(B776,'[1]Ko tgia'!$B$2:$M$1900,4,0)","v":"0129364543"},{"$f":"VLOOKUP(B776,'[1]Ko tgia'!$B$2:$M$1900,5,0)","v":"001205021431"},"08/12/2005",null,null,10,{"v":526500,"d":"526,500"},"K59CN-ĐKT.K01","ĐT"]
[776,"K235510303075","Nguyễn Công Hoàng Dương",{"$f":"VLOOKUP(B777,'[1]Ko tgia'!$B$2:$M$1900,4,0)","v":"1920008106"},{"$f":"VLOOKUP(B777,'[1]Ko tgia'!$B$2:$M$1900,5,0)","v":"019205002072"},"07/12/2005",null,null,10,{"v":526500,"d":"526,500"},"K59CN-ĐKT.K01","ĐT"]
[777,"K235510303171","Nguyễn Kỳ Duy Khiêm",{"$f":"VLOOKUP(B778,'[1]Ko tgia'!$B$2:$M$1900,4,0)","v":"1920263912"},{"$f":"VLOOKUP(B778,'[1]Ko tgia'!$B$2:$M$1900,5,0)","v":"019205002987"},"16/10/2005",null,null,10,{"v":526500,"d":"526,500"},"K59CN-ĐKT.K01","ĐT"]
[778,"K235510303212","Hoàng Văn Minh",{"$f":"VLOOKUP(B779,'[1]Ko tgia'!$B$2:$M$1900,4,0)","v":"1920442405"},{"$f":"VLOOKUP(B779,'[1]Ko tgia'!$B$2:$M$1900,5,0)","v":"019205004154"},"06/06/2005",null,null,10,{"v":526500,"d":"526,500"},"K59CN-ĐKT.K01","ĐT"]
[779,"K235510303070","La Khánh Duy",{"$f":"VLOOKUP(B780,'[1]Ko tgia'!$B$2:$M$1900,4,0)","v":"1920812605"},{"$f":"VLOOKUP(B780,'[1]Ko tgia'!$B$2:$M$1900,5,0)","v":"019205010734"},"22/12/2005",null,null,10,{"v":526500,"d":"526,500"},"K59CN-ĐKT.K01","ĐT"]
[780,"K235510303060","Ma Tiến Dũng",{"$f":"VLOOKUP(B781,'[1]Ko tgia'!$B$2:$M$1900,4,0)","v":"2020105909"},{"$f":"VLOOKUP(B781,'[1]Ko tgia'!$B$2:$M$1900,5,0)","v":"020205003937"},"04/10/2005",null,null,10,{"v":526500,"d":"526,500"},"K59CN-ĐKT.K01","ĐT"]
[781,"K235510303031","Phạm Gia Bảo",{"$f":"VLOOKUP(B782,'[1]Ko tgia'!$B$2:$M$1900,4,0)","v":"2420043619"},{"$f":"VLOOKUP(B782,'[1]Ko tgia'!$B$2:$M$1900,5,0)","v":"024205005019"},"04/12/2005",null,null,10,{"v":526500,"d":"526,500"},"K59CN-ĐKT.K01","ĐT"]
[782,"K235510303366","Dương Nguyên Hoàng Dũng",{"$f":"VLOOKUP(B783,'[1]Ko tgia'!$B$2:$M$1900,4,0)","v":"2421895465"},{"$f":"VLOOKUP(B783,'[1]Ko tgia'!$B$2:$M$1900,5,0)","v":"024205001551"},"20/09/2005",null,null,10,{"v":526500,"d":"526,500"},"K59CN-ĐKT.K01","ĐT"]
[783,"K235510303156","Thân Ngọc Huy",{"$f":"VLOOKUP(B784,'[1]Ko tgia'!$B$2:$M$1900,4,0)","v":"8021711408"},{"$f":"VLOOKUP(B784,'[1]Ko tgia'!$B$2:$M$1900,5,0)","v":"080205000561"},"07/04/2005",null,null,10,{"v":526500,"d":"526,500"},"K59CN-ĐKT.K01","ĐT"]
[784,"K235510303051","Bùi Việt Cường",{"$f":"VLOOKUP(B785,'[1]Ko tgia'!$B$2:$M$1900,4,0)","v":"1520666711"},{"$f":"VLOOKUP(B785,'[1]Ko tgia'!$B$2:$M$1900,5,0)","v":"015205002129"},"26/07/2005",null,null,10,{"v":526500,"d":"526,500"},"K59CN-ĐKT.K02","ĐT"]
[785,"K235510303246","Đặng Thanh Phúc",{"$f":"VLOOKUP(B786,'[1]Ko tgia'!$B$2:$M$1900,4,0)","v":"1920005479"},{"$f":"VLOOKUP(B786,'[1]Ko tgia'!$B$2:$M$1900,5,0)","v":"019205001940"},"20/11/2005",null,null,10,{"v":526500,"d":"526,500"},"K59CN-ĐKT.K02","ĐT"]
[786,"K235510303138","Hoàng Mạnh Hùng",{"$f":"VLOOKUP(B787,'[1]Ko tgia'!$B$2:$M$1900,4,0)","v":"1920185831"},{"$f":"VLOOKUP(B787,'[1]Ko tgia'!$B$2:$M$1900,5,0)","v":"019205005561"},"18/03/2005",null,null,10,{"v":526500,"d":"526,500"},"K59CN-ĐKT.K02","ĐT"]
[787,"K235510303077","Nguyễn Đặng Triều Dương",{"$f":"VLOOKUP(B788,'[1]Ko tgia'!$B$2:$M$1900,4,0)","v":"1920196848"},{"$f":"VLOOKUP(B788,'[1]Ko tgia'!$B$2:$M$1900,5,0)","v":"019205006235"},"02/04/2005",null,null,10,{"v":526500,"d":"526,500"},"K59CN-ĐKT.K02","ĐT"]
[788,"K235510303044","Đặng Thành Chung",{"$f":"VLOOKUP(B789,'[1]Ko tgia'!$B$2:$M$1900,4,0)","v":"1920304389"},{"$f":"VLOOKUP(B789,'[1]Ko tgia'!$B$2:$M$1900,5,0)","v":"019205002555"},"28/11/2005",null,null,10,{"v":526500,"d":"526,500"},"K59CN-ĐKT.K02","ĐT"]
[789,"K235510303303","Dương Minh Tiến",{"$f":"VLOOKUP(B790,'[1]Ko tgia'!$B$2:$M$1900,4,0)","v":"1920306643"},{"$f":"VLOOKUP(B790,'[1]Ko tgia'!$B$2:$M$1900,5,0)","v":"019205000443"},"10/11/2005",null,null,10,{"v":526500,"d":"526,500"},"K59CN-ĐKT.K02","ĐT"]
[790,"K235510303023","Bùi Ngọc Ánh",{"$f":"VLOOKUP(B791,'[1]Ko tgia'!$B$2:$M$1900,4,0)","v":"1920458511"},{"$f":"VLOOKUP(B791,'[1]Ko tgia'!$B$2:$M$1900,5,0)","v":"019305005926"},"14/06/2005",{"$f":"VLOOKUP(B791,'[2]Ko tgia'!$C$2:$K$9900,8,0)","v":"x"},null,10,{"v":526500,"d":"526,500"},"K59CN-ĐKT.K02","ĐT"]
[791,"K235510303016","Nguyễn Đức Anh",{"$f":"VLOOKUP(B792,'[1]Ko tgia'!$B$2:$M$1900,4,0)","v":"1920993663"},{"$f":"VLOOKUP(B792,'[1]Ko tgia'!$B$2:$M$1900,5,0)","v":"019205008979"},"01/06/2005",null,null,10,{"v":526500,"d":"526,500"},"K59CN-ĐKT.K02","ĐT"]
[792,"K235510303205","Vũ Nguyễn Trung Lương",{"$f":"VLOOKUP(B793,'[1]Ko tgia'!$B$2:$M$1900,4,0)","v":"1921569132"},{"$f":"VLOOKUP(B793,'[1]Ko tgia'!$B$2:$M$1900,5,0)","v":"019205007206"},"19/06/2005",null,null,10,{"v":526500,"d":"526,500"},"K59CN-ĐKT.K02","ĐT"]
[793,"K235510303328","Ngô Anh Tuấn",{"$f":"VLOOKUP(B794,'[1]Ko tgia'!$B$2:$M$1900,4,0)","v":"2420676171"},{"$f":"VLOOKUP(B794,'[1]Ko tgia'!$B$2:$M$1900,5,0)","v":"024205001324"},"02/02/2005",null,null,10,{"v":526500,"d":"526,500"},"K59CN-ĐKT.K02","ĐT"]
[794,"K235510303114","Lê Văn Hiệp",{"$f":"VLOOKUP(B795,'[1]Ko tgia'!$B$2:$M$1900,4,0)","v":"2420804227"},{"$f":"VLOOKUP(B795,'[1]Ko tgia'!$B$2:$M$1900,5,0)","v":"024205003599"},"21/12/2005",null,null,10,{"v":526500,"d":"526,500"},"K59CN-ĐKT.K02","ĐT"]
[795,"K235510303134","Dương Văn Hồng",{"$f":"VLOOKUP(B796,'[1]Ko tgia'!$B$2:$M$1900,4,0)","v":"2421555134"},{"$f":"VLOOKUP(B796,'[1]Ko tgia'!$B$2:$M$1900,5,0)","v":"024205006572"},"28/08/2005",null,null,10,{"v":526500,"d":"526,500"},"K59CN-ĐKT.K02","ĐT"]
[796,"K235510303255","Nguyễn Mạnh Quang",{"$f":"VLOOKUP(B797,'[1]Ko tgia'!$B$2:$M$1900,4,0)","v":"2421562196"},{"$f":"VLOOKUP(B797,'[1]Ko tgia'!$B$2:$M$1900,5,0)","v":"024205000961"},"20/03/2005",null,null,10,{"v":526500,"d":"526,500"},"K59CN-ĐKT.K02","ĐT"]
[797,"K235510303054","Dương Hoài Diễm",{"$f":"VLOOKUP(B798,'[1]Ko tgia'!$B$2:$M$1900,4,0)","v":"2421625282"},{"$f":"VLOOKUP(B798,'[1]Ko tgia'!$B$2:$M$1900,5,0)","v":"024305011492"},"08/06/2005",{"$f":"VLOOKUP(B798,'[2]Ko tgia'!$C$2:$K$9900,8,0)","v":"x"},null,10,{"v":526500,"d":"526,500"},"K59CN-ĐKT.K02","ĐT"]
[798,"K235510303021","Thân Ngọc Đức Anh",{"$f":"VLOOKUP(B799,'[1]Ko tgia'!$B$2:$M$1900,4,0)","v":"2421686358"},{"$f":"VLOOKUP(B799,'[1]Ko tgia'!$B$2:$M$1900,5,0)","v":"024205001847"},"08/08/2005",null,null,10,{"v":526500,"d":"526,500"},"K59CN-ĐKT.K02","ĐT"]
[799,"K235510303330","Nguyễn Thế Tuấn",{"$f":"VLOOKUP(B800,'[1]Ko tgia'!$B$2:$M$1900,4,0)","v":"2421914729"},{"$f":"VLOOKUP(B800,'[1]Ko tgia'!$B$2:$M$1900,5,0)","v":"024205010528"},"16/01/2005",null,null,10,{"v":526500,"d":"526,500"},"K59CN-ĐKT.K02","ĐT"]
[800,"K235510303033","Vũ Hoàng Xuân Bảo",{"$f":"VLOOKUP(B801,'[1]Ko tgia'!$B$2:$M$1900,4,0)","v":"2422031002"},{"$f":"VLOOKUP(B801,'[1]Ko tgia'!$B$2:$M$1900,5,0)","v":"024204003013"},"21/02/2004",null,null,10,{"v":526500,"d":"526,500"},"K59CN-ĐKT.K02","ĐT"]
[801,"K235510303309","Lý Thị Trang",{"$f":"VLOOKUP(B802,'[1]Ko tgia'!$B$2:$M$1900,4,0)","v":"2422046695"},{"$f":"VLOOKUP(B802,'[1]Ko tgia'!$B$2:$M$1900,5,0)","v":"024302012767"},"01/04/2002",{"$f":"VLOOKUP(B802,'[2]Ko tgia'!$C$2:$K$9900,8,0)","v":"x"},null,10,{"v":526500,"d":"526,500"},"K59CN-ĐKT.K02","ĐT"]
[802,"K235510303213","Lê Bình Minh",{"$f":"VLOOKUP(B803,'[1]Ko tgia'!$B$2:$M$1900,4,0)","v":"2620020468"},{"$f":"VLOOKUP(B803,'[1]Ko tgia'!$B$2:$M$1900,5,0)","v":"026205007541"},"21/01/2005",null,null,10,{"v":526500,"d":"526,500"},"K59CN-ĐKT.K02","ĐT"]
[803,"K235510303009","Phạm Đức Nam",{"$f":"VLOOKUP(B804,'[1]Ko tgia'!$B$2:$M$1900,4,0)","v":"2621103233"},{"$f":"VLOOKUP(B804,'[1]Ko tgia'!$B$2:$M$1900,5,0)","v":"026205007803"},"07/11/2005",null,null,10,{"v":526500,"d":"526,500"},"K59CN-ĐKT.K02","ĐT"]
[804,"K235510303193","Trần Chí Linh",{"$f":"VLOOKUP(B805,'[1]Ko tgia'!$B$2:$M$1900,4,0)","v":"2621249191"},{"$f":"VLOOKUP(B805,'[1]Ko tgia'!$B$2:$M$1900,5,0)","v":"026205003801"},"04/11/2005",null,null,10,{"v":526500,"d":"526,500"},"K59CN-ĐKT.K02","ĐT"]
[805,"K235510303184","Nguyễn Ngọc Lâm",{"$f":"VLOOKUP(B806,'[1]Ko tgia'!$B$2:$M$1900,4,0)","v":"2720182265"},{"$f":"VLOOKUP(B806,'[1]Ko tgia'!$B$2:$M$1900,5,0)","v":"027205002419"},"01/04/2005",null,null,10,{"v":526500,"d":"526,500"},"K59CN-ĐKT.K02","ĐT"]
[806,"K235510303307","Đàm Khánh Toàn",{"$f":"VLOOKUP(B807,'[1]Ko tgia'!$B$2:$M$1900,4,0)","v":"2720816638"},{"$f":"VLOOKUP(B807,'[1]Ko tgia'!$B$2:$M$1900,5,0)","v":"001205042068"},"13/11/2005",null,null,10,{"v":526500,"d":"526,500"},"K59CN-ĐKT.K02","ĐT"]
[807,"K235510303087","Nguyễn Văn Đạt",{"$f":"VLOOKUP(B808,'[1]Ko tgia'!$B$2:$M$1900,4,0)","v":"1920005071"},{"$f":"VLOOKUP(B808,'[1]Ko tgia'!$B$2:$M$1900,5,0)","v":"033205011436"},"15/11/2005",null,null,10,{"v":526500,"d":"526,500"},"K59CN-ĐKT.K03","ĐT"]
[808,"K235510303015","Mai Tuấn Anh",{"$f":"VLOOKUP(B809,'[1]Ko tgia'!$B$2:$M$1900,4,0)","v":"1920163582"},{"$f":"VLOOKUP(B809,'[1]Ko tgia'!$B$2:$M$1900,5,0)","v":"019205009882"},"26/12/2005",null,null,10,{"v":526500,"d":"526,500"},"K59CN-ĐKT.K03","ĐT"]
[809,"K235510303112","Nguyễn Vinh Hiển",{"$f":"VLOOKUP(B810,'[1]Ko tgia'!$B$2:$M$1900,4,0)","v":"1920220237"},{"$f":"VLOOKUP(B810,'[1]Ko tgia'!$B$2:$M$1900,5,0)","v":"024205005136"},"13/11/2005",null,null,10,{"v":526500,"d":"526,500"},"K59CN-ĐKT.K03","ĐT"]
[810,"K235510303326","Hoàng Anh Tuấn",{"$f":"VLOOKUP(B811,'[1]Ko tgia'!$B$2:$M$1900,4,0)","v":"2420082882"},{"$f":"VLOOKUP(B811,'[1]Ko tgia'!$B$2:$M$1900,5,0)","v":"024205000531"},"13/06/2005",null,null,10,{"v":526500,"d":"526,500"},"K59CN-ĐKT.K03","ĐT"]
[811,"K235510303125","Lê Văn Hoàn",{"$f":"VLOOKUP(B812,'[1]Ko tgia'!$B$2:$M$1900,4,0)","v":"2421168332"},{"$f":"VLOOKUP(B812,'[1]Ko tgia'!$B$2:$M$1900,5,0)","v":"024205010576"},"05/11/2005",null,null,10,{"v":526500,"d":"526,500"},"K59CN-ĐKT.K03","ĐT"]
[812,"K235510303354","Ngô Anh Vũ",{"$f":"VLOOKUP(B813,'[1]Ko tgia'!$B$2:$M$1900,4,0)","v":"2421760888"},{"$f":"VLOOKUP(B813,'[1]Ko tgia'!$B$2:$M$1900,5,0)","v":"024205009710"},"18/05/2005",null,null,10,{"v":526500,"d":"526,500"},"K59CN-ĐKT.K03","ĐT"]
[813,"K235510303007","Nguyễn Phương Nam",{"$f":"VLOOKUP(B814,'[1]Ko tgia'!$B$2:$M$1900,4,0)","v":"2620439868"},{"$f":"VLOOKUP(B814,'[1]Ko tgia'!$B$2:$M$1900,5,0)","v":"026205008534"},"18/03/2005",null,null,10,{"v":526500,"d":"526,500"},"K59CN-ĐKT.K03","ĐT"]
[814,"K235510303382","Nguyễn Quyết Chiến",{"$f":"VLOOKUP(B815,'[1]Ko tgia'!$B$2:$M$1900,4,0)","v":"3020063164"},{"$f":"VLOOKUP(B815,'[1]Ko tgia'!$B$2:$M$1900,5,0)","v":"030205004039"},"30/10/2005",null,null,10,{"v":526500,"d":"526,500"},"K59CN-ĐKT.K03","ĐT"]
[815,"K235510303371","Nguyễn Hữu Hoàng",{"$f":"VLOOKUP(B816,'[1]Ko tgia'!$B$2:$M$1900,4,0)","v":"3620405306"},{"$f":"VLOOKUP(B816,'[1]Ko tgia'!$B$2:$M$1900,5,0)","v":"036205013544"},"15/04/2005",null,null,10,{"v":526500,"d":"526,500"},"K59CN-ĐKT.K03","ĐT"]
[816,"K235510303372","Trần Mạnh Hùng",{"$f":"VLOOKUP(B817,'[1]Ko tgia'!$B$2:$M$1900,4,0)","v":"1520736862"},{"$f":"VLOOKUP(B817,'[1]Ko tgia'!$B$2:$M$1900,5,0)","v":"015204001682"},"11/02/2004",null,null,10,{"v":526500,"d":"526,500"},"K59CN-ĐKT.K04","ĐT"]
[817,"K235510303333","Phạm Đăng Tuấn",{"$f":"VLOOKUP(B818,'[1]Ko tgia'!$B$2:$M$1900,4,0)","v":"1720048709"},{"$f":"VLOOKUP(B818,'[1]Ko tgia'!$B$2:$M$1900,5,0)","v":"017205005005"},"24/05/2005",null,null,10,{"v":526500,"d":"526,500"},"K59CN-ĐKT.K04","ĐT"]
[818,"K235510303167","Lý Tuấn Khanh",{"$f":"VLOOKUP(B819,'[1]Ko tgia'!$B$2:$M$1900,4,0)","v":"1920017105"},{"$f":"VLOOKUP(B819,'[1]Ko tgia'!$B$2:$M$1900,5,0)","v":"019205001932"},"31/10/2005",null,null,10,{"v":526500,"d":"526,500"},"K59CN-ĐKT.K04","ĐT"]
[819,"K235510303152","Phạm Đức Huy",{"$f":"VLOOKUP(B820,'[1]Ko tgia'!$B$2:$M$1900,4,0)","v":"1920238101"},{"$f":"VLOOKUP(B820,'[1]Ko tgia'!$B$2:$M$1900,5,0)","v":"019205001997"},"14/10/2005",null,null,10,{"v":526500,"d":"526,500"},"K59CN-ĐKT.K04","ĐT"]
[820,"K235510303368","Nguyễn Hải Đăng",{"$f":"VLOOKUP(B821,'[1]Ko tgia'!$B$2:$M$1900,4,0)","v":"1920981469"},{"$f":"VLOOKUP(B821,'[1]Ko tgia'!$B$2:$M$1900,5,0)","v":"019205001368"},"02/02/2005",null,null,10,{"v":526500,"d":"526,500"},"K59CN-ĐKT.K04","ĐT"]
[821,"K235510303231","Phạm Minh Nguyệt",{"$f":"VLOOKUP(B822,'[1]Ko tgia'!$B$2:$M$1900,4,0)","v":"1921051701"},{"$f":"VLOOKUP(B822,'[1]Ko tgia'!$B$2:$M$1900,5,0)","v":"019305010534"},"15/04/2005",{"$f":"VLOOKUP(B822,'[2]Ko tgia'!$C$2:$K$9900,8,0)","v":"x"},null,10,{"v":526500,"d":"526,500"},"K59CN-ĐKT.K04","ĐT"]
[822,"K235510303084","Hoàng Thành Đạt",{"$f":"VLOOKUP(B823,'[1]Ko tgia'!$B$2:$M$1900,4,0)","v":"2420374939"},{"$f":"VLOOKUP(B823,'[1]Ko tgia'!$B$2:$M$1900,5,0)","v":"024205009224"},"30/05/2005",null,null,10,{"v":526500,"d":"526,500"},"K59CN-ĐKT.K04","ĐT"]
[823,"K235510303175","Đoàn Chí Kiên",{"$f":"VLOOKUP(B824,'[1]Ko tgia'!$B$2:$M$1900,4,0)","v":"2421279236"},{"$f":"VLOOKUP(B824,'[1]Ko tgia'!$B$2:$M$1900,5,0)","v":"024205002394"},"06/04/2005",null,null,10,{"v":526500,"d":"526,500"},"K59CN-ĐKT.K04","ĐT"]
[824,"K235510303049","Trần Gia Cương",{"$f":"VLOOKUP(B825,'[1]Ko tgia'!$B$2:$M$1900,4,0)","v":"2421598427"},{"$f":"VLOOKUP(B825,'[1]Ko tgia'!$B$2:$M$1900,5,0)","v":"024205001598"},"24/11/2005",null,null,10,{"v":526500,"d":"526,500"},"K59CN-ĐKT.K04","ĐT"]
[825,"K235510303076","Nguyễn Đại Dương",{"$f":"VLOOKUP(B826,'[1]Ko tgia'!$B$2:$M$1900,4,0)","v":"2421736576"},{"$f":"VLOOKUP(B826,'[1]Ko tgia'!$B$2:$M$1900,5,0)","v":"024205011418"},"14/06/2005",null,null,10,{"v":526500,"d":"526,500"},"K59CN-ĐKT.K04","ĐT"]
[826,"K235510303122","Phạm Quang Hiếu",{"$f":"VLOOKUP(B827,'[1]Ko tgia'!$B$2:$M$1900,4,0)","v":"2421808647"},{"$f":"VLOOKUP(B827,'[1]Ko tgia'!$B$2:$M$1900,5,0)","v":"024205002259"},"28/07/2005",null,null,10,{"v":526500,"d":"526,500"},"K59CN-ĐKT.K04","ĐT"]
[827,"K235510303197","Nguyễn Đức Long",{"$f":"VLOOKUP(B828,'[1]Ko tgia'!$B$2:$M$1900,4,0)","v":"2421910282"},{"$f":"VLOOKUP(B828,'[1]Ko tgia'!$B$2:$M$1900,5,0)","v":"024205014548"},"18/08/2005",null,null,10,{"v":526500,"d":"526,500"},"K59CN-ĐKT.K04","ĐT"]
[828,"K235510303208","Nguyễn Hùng Mạnh",{"$f":"VLOOKUP(B829,'[1]Ko tgia'!$B$2:$M$1900,4,0)","v":"2720120758"},{"$f":"VLOOKUP(B829,'[1]Ko tgia'!$B$2:$M$1900,5,0)","v":"027205001276"},"18/11/2005",null,null,10,{"v":526500,"d":"526,500"},"K59CN-ĐKT.K04","ĐT"]
[829,"K235510303203","Nguyễn Sỹ Luân",{"$f":"VLOOKUP(B830,'[1]Ko tgia'!$B$2:$M$1900,4,0)","v":"0124715317"},{"$f":"VLOOKUP(B830,'[1]Ko tgia'!$B$2:$M$1900,5,0)","v":"001205034956"},"05/10/2005",null,null,10,{"v":526500,"d":"526,500"},"K59CN-ĐKT.K05","ĐT"]
[830,"K235510303052","Nguyễn Hà Cường",{"$f":"VLOOKUP(B831,'[1]Ko tgia'!$B$2:$M$1900,4,0)","v":"1920002776"},{"$f":"VLOOKUP(B831,'[1]Ko tgia'!$B$2:$M$1900,5,0)","v":"019205002002"},"03/11/2005",null,null,10,{"v":526500,"d":"526,500"},"K59CN-ĐKT.K05","ĐT"]
[831,"K235510303235","Nguyễn Việt Nhật",{"$f":"VLOOKUP(B832,'[1]Ko tgia'!$B$2:$M$1900,4,0)","v":"1920196902"},{"$f":"VLOOKUP(B832,'[1]Ko tgia'!$B$2:$M$1900,5,0)","v":"019205001976"},"17/11/2005",null,null,10,{"v":526500,"d":"526,500"},"K59CN-ĐKT.K05","ĐT"]
[832,"K235510303256","Nguyễn Mạnh Quang",{"$f":"VLOOKUP(B833,'[1]Ko tgia'!$B$2:$M$1900,4,0)","v":"1920447162"},{"$f":"VLOOKUP(B833,'[1]Ko tgia'!$B$2:$M$1900,5,0)","v":"019205000607"},"10/05/2005",null,null,10,{"v":526500,"d":"526,500"},"K59CN-ĐKT.K05","ĐT"]
[833,"K235510303182","Ngô Xuân Lâm",{"$f":"VLOOKUP(B834,'[1]Ko tgia'!$B$2:$M$1900,4,0)","v":"1920536384"},{"$f":"VLOOKUP(B834,'[1]Ko tgia'!$B$2:$M$1900,5,0)","v":"034205011151"},"28/05/2005",null,null,10,{"v":526500,"d":"526,500"},"K59CN-ĐKT.K05","ĐT"]
[834,"K235510303201","Dương Công Lợi",{"$f":"VLOOKUP(B835,'[1]Ko tgia'!$B$2:$M$1900,4,0)","v":"2020386028"},{"$f":"VLOOKUP(B835,'[1]Ko tgia'!$B$2:$M$1900,5,0)","v":"020205004723"},"02/11/2005",null,null,10,{"v":526500,"d":"526,500"},"K59CN-ĐKT.K05","ĐT"]
[835,"K235510303322","Nguyễn Anh Tú",{"$f":"VLOOKUP(B836,'[1]Ko tgia'!$B$2:$M$1900,4,0)","v":"2220482574"},{"$f":"VLOOKUP(B836,'[1]Ko tgia'!$B$2:$M$1900,5,0)","v":"022205004086"},"21/07/2005",null,null,10,{"v":526500,"d":"526,500"},"K59CN-ĐKT.K05","ĐT"]
[836,"K235510303284","Lê Đức Thắng",{"$f":"VLOOKUP(B837,'[1]Ko tgia'!$B$2:$M$1900,4,0)","v":"2420249494"},{"$f":"VLOOKUP(B837,'[1]Ko tgia'!$B$2:$M$1900,5,0)","v":"024205002101"},"15/02/2005",null,null,10,{"v":526500,"d":"526,500"},"K59CN-ĐKT.K05","ĐT"]
[837,"K235510303229","Tạ Văn Nguyên",{"$f":"VLOOKUP(B838,'[1]Ko tgia'!$B$2:$M$1900,4,0)","v":"2421133056"},{"$f":"VLOOKUP(B838,'[1]Ko tgia'!$B$2:$M$1900,5,0)","v":"024205007569"},"22/08/2005",null,null,10,{"v":526500,"d":"526,500"},"K59CN-ĐKT.K05","ĐT"]
[838,"K235510303278","Lương Hữu Thái",{"$f":"VLOOKUP(B839,'[1]Ko tgia'!$B$2:$M$1900,4,0)","v":"2421174115"},{"$f":"VLOOKUP(B839,'[1]Ko tgia'!$B$2:$M$1900,5,0)","v":"024205014475"},"27/04/2005",null,null,10,{"v":526500,"d":"526,500"},"K59CN-ĐKT.K05","ĐT"]
[839,"K235510303179","Dương Thế Lâm",{"$f":"VLOOKUP(B840,'[1]Ko tgia'!$B$2:$M$1900,4,0)","v":"2721037583"},{"$f":"VLOOKUP(B840,'[1]Ko tgia'!$B$2:$M$1900,5,0)","v":"024205003471"},"06/07/2005",null,null,10,{"v":526500,"d":"526,500"},"K59CN-ĐKT.K05","ĐT"]
[840,"K235520207018","Chu Thị Hạnh",{"$f":"VLOOKUP(B841,'[1]Ko tgia'!$B$2:$M$1900,4,0)","v":"1920934715"},{"$f":"VLOOKUP(B841,'[1]Ko tgia'!$B$2:$M$1900,5,0)","v":"019305008948"},"29/09/2005",{"$f":"VLOOKUP(B841,'[2]Ko tgia'!$C$2:$K$9900,8,0)","v":"x"},null,10,{"v":526500,"d":"526,500"},"K59ĐVT.K01","ĐT"]
[841,"K235520207051","Nguyễn Đỗ Vân Quỳnh",{"$f":"VLOOKUP(B842,'[1]Ko tgia'!$B$2:$M$1900,4,0)","v":"1921031687"},{"$f":"VLOOKUP(B842,'[1]Ko tgia'!$B$2:$M$1900,5,0)","v":"019305006863"},"05/06/2005",{"$f":"VLOOKUP(B842,'[2]Ko tgia'!$C$2:$K$9900,8,0)","v":"x"},null,10,{"v":526500,"d":"526,500"},"K59ĐVT.K01","ĐT"]
[842,"K235520201152","Nguyễn Văn Vang",{"$f":"VLOOKUP(B843,'[1]Ko tgia'!$B$2:$M$1900,4,0)","v":"1921052278"},{"$f":"VLOOKUP(B843,'[1]Ko tgia'!$B$2:$M$1900,5,0)","v":"019205010755"},"19/12/2005",null,null,10,{"v":526500,"d":"526,500"},"K59ĐVT.K01","ĐT"]
[843,"K235520207002","Nguyễn Văn An",{"$f":"VLOOKUP(B844,'[1]Ko tgia'!$B$2:$M$1900,4,0)","v":"1921122557"},{"$f":"VLOOKUP(B844,'[1]Ko tgia'!$B$2:$M$1900,5,0)","v":"019205004785"},"12/04/2005",null,null,10,{"v":526500,"d":"526,500"},"K59ĐVT.K01","ĐT"]
[844,"K235520207034","Lê Quang Linh",{"$f":"VLOOKUP(B845,'[1]Ko tgia'!$B$2:$M$1900,4,0)","v":"2421415365"},{"$f":"VLOOKUP(B845,'[1]Ko tgia'!$B$2:$M$1900,5,0)","v":"024205001308"},"15/11/2005",null,null,10,{"v":526500,"d":"526,500"},"K59ĐVT.K01","ĐT"]
[845,"K235520207056","Trần Văn Thiện",{"$f":"VLOOKUP(B846,'[1]Ko tgia'!$B$2:$M$1900,4,0)","v":"1921042640"},{"$f":"VLOOKUP(B846,'[1]Ko tgia'!$B$2:$M$1900,5,0)","v":"019205009388"},"16/11/2005",null,null,10,{"v":526500,"d":"526,500"},"K59KĐT.K01","ĐT"]
[846,"K235520207060","Trần Tiến",{"$f":"VLOOKUP(B847,'[1]Ko tgia'!$B$2:$M$1900,4,0)","v":"1921258598"},{"$f":"VLOOKUP(B847,'[1]Ko tgia'!$B$2:$M$1900,5,0)","v":"019205008100"},"13/03/2005",null,null,10,{"v":526500,"d":"526,500"},"K59KĐT.K01","ĐT"]
[847,"K235520207033","Nguyễn Trung Kiên",{"$f":"VLOOKUP(B848,'[1]Ko tgia'!$B$2:$M$1900,4,0)","v":"2420588609"},{"$f":"VLOOKUP(B848,'[1]Ko tgia'!$B$2:$M$1900,5,0)","v":"024205012685"},"13/02/2005",null,null,10,{"v":526500,"d":"526,500"},"K59KĐT.K01","ĐT"]
[848,"K235520207022","Phạm Văn Hiếu",{"$f":"VLOOKUP(B849,'[1]Ko tgia'!$B$2:$M$1900,4,0)","v":"2421219492"},{"$f":"VLOOKUP(B849,'[1]Ko tgia'!$B$2:$M$1900,5,0)","v":"024205010407"},"19/07/2005",null,null,10,{"v":526500,"d":"526,500"},"K59KĐT.K01","ĐT"]
[849,"K235520207080","Dương Quang Thuận",{"$f":"VLOOKUP(B850,'[1]Ko tgia'!$B$2:$M$1900,4,0)","v":"2421548216"},{"$f":"VLOOKUP(B850,'[1]Ko tgia'!$B$2:$M$1900,5,0)","v":"024205006217"},"24/12/2005",null,null,10,{"v":526500,"d":"526,500"},"K59KĐT.K01","ĐT"]
[850,"K235480106049","Vi Hồng Mai",{"$f":"VLOOKUP(B851,'[1]Ko tgia'!$B$2:$M$1900,4,0)","v":"1920016381"},{"$f":"VLOOKUP(B851,'[1]Ko tgia'!$B$2:$M$1900,5,0)","v":"019305006164"},"12/02/2005",{"$f":"VLOOKUP(B851,'[2]Ko tgia'!$C$2:$K$9900,8,0)","v":"x"},null,10,{"v":526500,"d":"526,500"},"K59KMT.K01","ĐT"]
[851,"K235480106038","Phạm Trung Kiên",{"$f":"VLOOKUP(B852,'[1]Ko tgia'!$B$2:$M$1900,4,0)","v":"1920220657"},{"$f":"VLOOKUP(B852,'[1]Ko tgia'!$B$2:$M$1900,5,0)","v":"019205006268"},"12/07/2005",null,null,10,{"v":526500,"d":"526,500"},"K59KMT.K01","ĐT"]
[852,"K235480106055","Hoàng Trường Phúc",{"$f":"VLOOKUP(B853,'[1]Ko tgia'!$B$2:$M$1900,4,0)","v":"2020108732"},{"$f":"VLOOKUP(B853,'[1]Ko tgia'!$B$2:$M$1900,5,0)","v":"020205004226"},"10/06/2005",null,null,10,{"v":526500,"d":"526,500"},"K59KMT.K01","ĐT"]
[853,"K235480106010","Nguyễn Văn Duy",{"$f":"VLOOKUP(B854,'[1]Ko tgia'!$B$2:$M$1900,4,0)","v":"3821023045"},{"$f":"VLOOKUP(B854,'[1]Ko tgia'!$B$2:$M$1900,5,0)","v":"038205020563"},"07/08/2005",null,null,10,{"v":526500,"d":"526,500"},"K59KMT.K01","ĐT"]
[854,"K245520207050","Hoàng Sơn Tùng",{"$f":"VLOOKUP(B855,'[1]Ko tgia'!$B$2:$M$1900,4,0)","v":"0130166613"},{"$f":"VLOOKUP(B855,'[1]Ko tgia'!$B$2:$M$1900,5,0)","v":"001206024029"},"11/12/2006",null,null,10,{"v":526500,"d":"526,500"},"K60CN-BVM.K01","ĐT"]
[855,"K245520207024","Ngô Trung Kiên",{"$f":"VLOOKUP(B856,'[1]Ko tgia'!$B$2:$M$1900,4,0)","v":"1920926838"},{"$f":"VLOOKUP(B856,'[1]Ko tgia'!$B$2:$M$1900,5,0)","v":"019206001113"},"04/01/2006",null,null,10,{"v":526500,"d":"526,500"},"K60CN-BVM.K01","ĐT"]
[856,"K245520207010","Nguyễn Thành Đạt",{"$f":"VLOOKUP(B857,'[1]Ko tgia'!$B$2:$M$1900,4,0)","v":"2420919136"},{"$f":"VLOOKUP(B857,'[1]Ko tgia'!$B$2:$M$1900,5,0)","v":"01206079401"},"03/09/2006",null,null,10,{"v":526500,"d":"526,500"},"K60CN-BVM.K01","ĐT"]
[857,"K245520207019","Nguyễn Đặng Việt Hùng",{"$f":"VLOOKUP(B858,'[1]Ko tgia'!$B$2:$M$1900,4,0)","v":"2421404863"},{"$f":"VLOOKUP(B858,'[1]Ko tgia'!$B$2:$M$1900,5,0)","v":"024206011776"},"09/02/2006",null,null,10,{"v":526500,"d":"526,500"},"K60CN-BVM.K01","ĐT"]
[858,"K245520207039","Trương Thái Sơn",{"$f":"VLOOKUP(B859,'[1]Ko tgia'!$B$2:$M$1900,4,0)","v":"2421443492"},{"$f":"VLOOKUP(B859,'[1]Ko tgia'!$B$2:$M$1900,5,0)","v":"024206010771"},"01/10/2006",null,null,10,{"v":526500,"d":"526,500"},"K60CN-BVM.K01","ĐT"]
[859,"K245520207008","Ngô Văn Chương",{"$f":"VLOOKUP(B860,'[1]Ko tgia'!$B$2:$M$1900,4,0)","v":"3321181860"},{"$f":"VLOOKUP(B860,'[1]Ko tgia'!$B$2:$M$1900,5,0)","v":"033206001729"},"08/09/2006",null,null,10,{"v":526500,"d":"526,500"},"K60CN-BVM.K01","ĐT"]
[860,"K245510303032","Nguyễn Văn Hùng",{"$f":"VLOOKUP(B861,'[1]Ko tgia'!$B$2:$M$1900,4,0)","v":"0124525371"},{"$f":"VLOOKUP(B861,'[1]Ko tgia'!$B$2:$M$1900,5,0)","v":"01206076976"},"16/10/2006",null,null,10,{"v":526500,"d":"526,500"},"K60CN-ĐKT.K01","ĐT"]
[861,"K245510303017","Nguyễn Hà Dũng",{"$f":"VLOOKUP(B862,'[1]Ko tgia'!$B$2:$M$1900,4,0)","v":"0620019234"},null,"11/09/2006",null,null,10,{"v":526500,"d":"526,500"},"K60CN-ĐKT.K01","ĐT"]
[862,"K245510303009","Nguyễn Chiến Công",{"$f":"VLOOKUP(B863,'[1]Ko tgia'!$B$2:$M$1900,4,0)","v":"1920004419"},{"$f":"VLOOKUP(B863,'[1]Ko tgia'!$B$2:$M$1900,5,0)","v":"019206010820"},"06/08/2006",null,null,10,{"v":526500,"d":"526,500"},"K60CN-ĐKT.K01","ĐT"]
[863,"K245510303061","Nông Quốc Thái",{"$f":"VLOOKUP(B864,'[1]Ko tgia'!$B$2:$M$1900,4,0)","v":"1920319825"},{"$f":"VLOOKUP(B864,'[1]Ko tgia'!$B$2:$M$1900,5,0)","v":"019206008546"},"04/06/2006",null,null,10,{"v":526500,"d":"526,500"},"K60CN-ĐKT.K01","ĐT"]
[864,"K245510303048","Mai Đức Minh",{"$f":"VLOOKUP(B865,'[1]Ko tgia'!$B$2:$M$1900,4,0)","v":"1920570847"},{"$f":"VLOOKUP(B865,'[1]Ko tgia'!$B$2:$M$1900,5,0)","v":"019206011472"},"22/03/2006",null,null,10,{"v":526500,"d":"526,500"},"K60CN-ĐKT.K01","ĐT"]
[865,"K245510303045","Âu Tuấn Mạnh",{"$f":"VLOOKUP(B866,'[1]Ko tgia'!$B$2:$M$1900,4,0)","v":"1920647358"},{"$f":"VLOOKUP(B866,'[1]Ko tgia'!$B$2:$M$1900,5,0)","v":"019206010946"},"07/10/2006",null,null,10,{"v":526500,"d":"526,500"},"K60CN-ĐKT.K01","ĐT"]
[866,"K245510303077","Lê Đức Nguyên Vũ",{"$f":"VLOOKUP(B867,'[1]Ko tgia'!$B$2:$M$1900,4,0)","v":"1920752815"},{"$f":"VLOOKUP(B867,'[1]Ko tgia'!$B$2:$M$1900,5,0)","v":"019206001900"},"22/10/2006",null,null,10,{"v":526500,"d":"526,500"},"K60CN-ĐKT.K01","ĐT"]
[867,"K245510303047","Hoàng Công Minh",{"$f":"VLOOKUP(B868,'[1]Ko tgia'!$B$2:$M$1900,4,0)","v":"2420259713"},{"$f":"VLOOKUP(B868,'[1]Ko tgia'!$B$2:$M$1900,5,0)","v":"024206010436"},"24/01/2006",null,null,10,{"v":526500,"d":"526,500"},"K60CN-ĐKT.K01","ĐT"]
[868,"K245510303012","Nguyễn Tiến Đạt",{"$f":"VLOOKUP(B869,'[1]Ko tgia'!$B$2:$M$1900,4,0)","v":"2420267308"},{"$f":"VLOOKUP(B869,'[1]Ko tgia'!$B$2:$M$1900,5,0)","v":"024206007017"},"16/08/2006",null,null,10,{"v":526500,"d":"526,500"},"K60CN-ĐKT.K01","ĐT"]
[869,"K245510303034","Hoàng Việt Hưng",{"$f":"VLOOKUP(B870,'[1]Ko tgia'!$B$2:$M$1900,4,0)","v":"2420519425"},{"$f":"VLOOKUP(B870,'[1]Ko tgia'!$B$2:$M$1900,5,0)","v":"024206013417"},"16/06/2006",null,null,10,{"v":526500,"d":"526,500"},"K60CN-ĐKT.K01","ĐT"]
[870,"K245510303041","Trịnh Xuân Lâm",{"$f":"VLOOKUP(B871,'[1]Ko tgia'!$B$2:$M$1900,4,0)","v":"2420667580"},{"$f":"VLOOKUP(B871,'[1]Ko tgia'!$B$2:$M$1900,5,0)","v":"024206010718"},"21/12/2006",null,null,10,{"v":526500,"d":"526,500"},"K60CN-ĐKT.K01","ĐT"]
[871,"K245510303016","Đoàn Việt Đức",{"$f":"VLOOKUP(B872,'[1]Ko tgia'!$B$2:$M$1900,4,0)","v":"2420796326"},{"$f":"VLOOKUP(B872,'[1]Ko tgia'!$B$2:$M$1900,5,0)","v":"024206012576"},"03/08/2006",null,null,10,{"v":526500,"d":"526,500"},"K60CN-ĐKT.K01","ĐT"]
[872,"K245510303070","Trần Quang Trường",{"$f":"VLOOKUP(B873,'[1]Ko tgia'!$B$2:$M$1900,4,0)","v":"2420803194"},{"$f":"VLOOKUP(B873,'[1]Ko tgia'!$B$2:$M$1900,5,0)","v":"024206013229"},"11/02/2006",null,null,10,{"v":526500,"d":"526,500"},"K60CN-ĐKT.K01","ĐT"]
[873,"K245510303028","Phạm Trung Hiếu",{"$f":"VLOOKUP(B874,'[1]Ko tgia'!$B$2:$M$1900,4,0)","v":"2420947421"},{"$f":"VLOOKUP(B874,'[1]Ko tgia'!$B$2:$M$1900,5,0)","v":"024206001922"},"19/05/2006",null,null,10,{"v":526500,"d":"526,500"},"K60CN-ĐKT.K01","ĐT"]
[874,"K245510303022","Dương Văn Duy",{"$f":"VLOOKUP(B875,'[1]Ko tgia'!$B$2:$M$1900,4,0)","v":"2421119509"},{"$f":"VLOOKUP(B875,'[1]Ko tgia'!$B$2:$M$1900,5,0)","v":"024206012138"},"01/11/2006",null,null,10,{"v":526500,"d":"526,500"},"K60CN-ĐKT.K01","ĐT"]
[875,"K245510303046","Nguyễn Tuấn Mạnh",{"$f":"VLOOKUP(B876,'[1]Ko tgia'!$B$2:$M$1900,4,0)","v":"2421193362"},{"$f":"VLOOKUP(B876,'[1]Ko tgia'!$B$2:$M$1900,5,0)","v":"024206000795"},"29/06/2006",null,null,10,{"v":526500,"d":"526,500"},"K60CN-ĐKT.K01","ĐT"]
[876,"K245510303018","Nguyễn Anh Dũng",{"$f":"VLOOKUP(B877,'[1]Ko tgia'!$B$2:$M$1900,4,0)","v":"2421461909"},{"$f":"VLOOKUP(B877,'[1]Ko tgia'!$B$2:$M$1900,5,0)","v":"024206000731"},"28/11/2006",null,null,10,{"v":526500,"d":"526,500"},"K60CN-ĐKT.K01","ĐT"]
[877,"K245510303050","Ngọ Phương Nam",{"$f":"VLOOKUP(B878,'[1]Ko tgia'!$B$2:$M$1900,4,0)","v":"2421626645"},{"$f":"VLOOKUP(B878,'[1]Ko tgia'!$B$2:$M$1900,5,0)","v":"024206007540"},"13/10/2006",null,null,10,{"v":526500,"d":"526,500"},"K60CN-ĐKT.K01","ĐT"]
[878,"K245510303065","Tạ Đức Thiện",{"$f":"VLOOKUP(B879,'[1]Ko tgia'!$B$2:$M$1900,4,0)","v":"2421898398"},{"$f":"VLOOKUP(B879,'[1]Ko tgia'!$B$2:$M$1900,5,0)","v":"024206009331"},"09/06/2006",null,null,10,{"v":526500,"d":"526,500"},"K60CN-ĐKT.K01","ĐT"]
[879,"K245510303044","Trần Duy Long",{"$f":"VLOOKUP(B880,'[1]Ko tgia'!$B$2:$M$1900,4,0)","v":"2421977873"},{"$f":"VLOOKUP(B880,'[1]Ko tgia'!$B$2:$M$1900,5,0)","v":"024206009599"},"02/02/2006",null,null,10,{"v":526500,"d":"526,500"},"K60CN-ĐKT.K01","ĐT"]
[880,"K245510303067","Nguyễn Việt Tiến",{"$f":"VLOOKUP(B881,'[1]Ko tgia'!$B$2:$M$1900,4,0)","v":"2620542909"},{"$f":"VLOOKUP(B881,'[1]Ko tgia'!$B$2:$M$1900,5,0)","v":"026206006973"},"19/09/2006",null,null,10,{"v":526500,"d":"526,500"},"K60CN-ĐKT.K01","ĐT"]
[881,"K245510303064","Nguyễn Quang Thảo",{"$f":"VLOOKUP(B882,'[1]Ko tgia'!$B$2:$M$1900,4,0)","v":"9731596532"},{"$f":"VLOOKUP(B882,'[1]Ko tgia'!$B$2:$M$1900,5,0)","v":"019206009383"},"29/08/2006",null,null,10,{"v":526500,"d":"526,500"},"K60CN-ĐKT.K01","ĐT"]
[882,"K245510303110","Lê Đình Hưng",{"$f":"VLOOKUP(B883,'[1]Ko tgia'!$B$2:$M$1900,4,0)","v":"0121480363"},{"$f":"VLOOKUP(B883,'[1]Ko tgia'!$B$2:$M$1900,5,0)","v":"001206007862"},"14/10/2006",null,null,10,{"v":526500,"d":"526,500"},"K60CN-ĐKT.K02","ĐT"]
[883,"K245510303087","Nông Minh Đại",{"$f":"VLOOKUP(B884,'[1]Ko tgia'!$B$2:$M$1900,4,0)","v":"1920217163"},{"$f":"VLOOKUP(B884,'[1]Ko tgia'!$B$2:$M$1900,5,0)","v":"019206011209"},"30/04/2006",null,null,10,{"v":526500,"d":"526,500"},"K60CN-ĐKT.K02","ĐT"]
[884,"K245510303132","Nguyễn Lê Thanh Quang",{"$f":"VLOOKUP(B885,'[1]Ko tgia'!$B$2:$M$1900,4,0)","v":"1920551416"},{"$f":"VLOOKUP(B885,'[1]Ko tgia'!$B$2:$M$1900,5,0)","v":"019206008890"},"14/11/2006",null,null,10,{"v":526500,"d":"526,500"},"K60CN-ĐKT.K02","ĐT"]
[885,"K245510303136","Nguyễn Văn Sơn",{"$f":"VLOOKUP(B886,'[1]Ko tgia'!$B$2:$M$1900,4,0)","v":"1920986499"},{"$f":"VLOOKUP(B886,'[1]Ko tgia'!$B$2:$M$1900,5,0)","v":"019206004193"},"20/05/2006",null,null,10,{"v":526500,"d":"526,500"},"K60CN-ĐKT.K02","ĐT"]
[886,"K245510303129","Vũ Thanh Phong",{"$f":"VLOOKUP(B887,'[1]Ko tgia'!$B$2:$M$1900,4,0)","v":"2220380008"},{"$f":"VLOOKUP(B887,'[1]Ko tgia'!$B$2:$M$1900,5,0)","v":"022206003965"},"24/08/2006",null,null,10,{"v":526500,"d":"526,500"},"K60CN-ĐKT.K02","ĐT"]
[887,"K245510303128","Vũ Đình Nguyên",{"$f":"VLOOKUP(B888,'[1]Ko tgia'!$B$2:$M$1900,4,0)","v":"2221202608"},{"$f":"VLOOKUP(B888,'[1]Ko tgia'!$B$2:$M$1900,5,0)","v":"022206001849"},"27/10/2006",null,null,10,{"v":526500,"d":"526,500"},"K60CN-ĐKT.K02","ĐT"]
[888,"K245510303142","Lương Đức Thiện",{"$f":"VLOOKUP(B889,'[1]Ko tgia'!$B$2:$M$1900,4,0)","v":"2420294925"},{"$f":"VLOOKUP(B889,'[1]Ko tgia'!$B$2:$M$1900,5,0)","v":"024206010671"},"18/10/2006",null,null,10,{"v":526500,"d":"526,500"},"K60CN-ĐKT.K02","ĐT"]
[889,"K245510303145","Nguyễn Mạnh Tráng",{"$f":"VLOOKUP(B890,'[1]Ko tgia'!$B$2:$M$1900,4,0)","v":"2420635952"},{"$f":"VLOOKUP(B890,'[1]Ko tgia'!$B$2:$M$1900,5,0)","v":"024206003748"},"10/02/2006",null,null,10,{"v":526500,"d":"526,500"},"K60CN-ĐKT.K02","ĐT"]
[890,"K245510303133","Lương Thị Quyên",{"$f":"VLOOKUP(B891,'[1]Ko tgia'!$B$2:$M$1900,4,0)","v":"2420676008"},{"$f":"VLOOKUP(B891,'[1]Ko tgia'!$B$2:$M$1900,5,0)","v":"024306006175"},"06/12/2006",{"$f":"VLOOKUP(B891,'[2]Ko tgia'!$C$2:$K$9900,8,0)","v":"x"},null,10,{"v":526500,"d":"526,500"},"K60CN-ĐKT.K02","ĐT"]
[891,"K245510303126","Ngô Ngọc Nam",{"$f":"VLOOKUP(B892,'[1]Ko tgia'!$B$2:$M$1900,4,0)","v":"2421205683"},{"$f":"VLOOKUP(B892,'[1]Ko tgia'!$B$2:$M$1900,5,0)","v":"024206005635"},"22/11/2006",null,null,10,{"v":526500,"d":"526,500"},"K60CN-ĐKT.K02","ĐT"]
[892,"K245510303131","Lê Minh Quân",{"$f":"VLOOKUP(B893,'[1]Ko tgia'!$B$2:$M$1900,4,0)","v":"2421288461"},{"$f":"VLOOKUP(B893,'[1]Ko tgia'!$B$2:$M$1900,5,0)","v":"024206003440"},"16/08/2006",null,null,10,{"v":526500,"d":"526,500"},"K60CN-ĐKT.K02","ĐT"]
[893,"K245510303123","Thân Tiến Mạnh",{"$f":"VLOOKUP(B894,'[1]Ko tgia'!$B$2:$M$1900,4,0)","v":"2421321742"},{"$f":"VLOOKUP(B894,'[1]Ko tgia'!$B$2:$M$1900,5,0)","v":"024206001416"},"25/03/2006",null,null,10,{"v":526500,"d":"526,500"},"K60CN-ĐKT.K02","ĐT"]
[894,"K245510303149","Ngô Quang Tuấn",{"$f":"VLOOKUP(B895,'[1]Ko tgia'!$B$2:$M$1900,4,0)","v":"2421451692"},{"$f":"VLOOKUP(B895,'[1]Ko tgia'!$B$2:$M$1900,5,0)","v":"024206002021"},"14/07/2006",null,null,10,{"v":526500,"d":"526,500"},"K60CN-ĐKT.K02","ĐT"]
[895,"K245510303125","Đoàn Quang Minh",{"$f":"VLOOKUP(B896,'[1]Ko tgia'!$B$2:$M$1900,4,0)","v":"2421636930"},{"$f":"VLOOKUP(B896,'[1]Ko tgia'!$B$2:$M$1900,5,0)","v":"024206001700"},"26/10/2006",null,null,10,{"v":526500,"d":"526,500"},"K60CN-ĐKT.K02","ĐT"]
[896,"K245510303151","Giáp Hoàng Tùng",{"$f":"VLOOKUP(B897,'[1]Ko tgia'!$B$2:$M$1900,4,0)","v":"2422060340"},{"$f":"VLOOKUP(B897,'[1]Ko tgia'!$B$2:$M$1900,5,0)","v":"024206013784"},"11/10/2006",null,null,10,{"v":526500,"d":"526,500"},"K60CN-ĐKT.K02","ĐT"]
[897,"K245510303079","Hoàng Tiến An",{"$f":"VLOOKUP(B898,'[1]Ko tgia'!$B$2:$M$1900,4,0)","v":"3823726408"},{"$f":"VLOOKUP(B898,'[1]Ko tgia'!$B$2:$M$1900,5,0)","v":"038306021030"},"26/11/2006",null,null,10,{"v":526500,"d":"526,500"},"K60CN-ĐKT.K02","ĐT"]
[898,"K245510303201","Nguyễn Tấn Minh",{"$f":"VLOOKUP(B899,'[1]Ko tgia'!$B$2:$M$1900,4,0)","v":"0129157920"},{"$f":"VLOOKUP(B899,'[1]Ko tgia'!$B$2:$M$1900,5,0)","v":"001206015559"},"16/01/2006",null,null,10,{"v":526500,"d":"526,500"},"K60CN-ĐKT.K03","ĐT"]
[899,"K245510303181","Lại Quang Hiếu",{"$f":"VLOOKUP(B900,'[1]Ko tgia'!$B$2:$M$1900,4,0)","v":"0820711718"},null,"11/08/2006",null,null,10,{"v":526500,"d":"526,500"},"K60CN-ĐKT.K03","ĐT"]
[900,"K245510303217","Ngô Thế Thành",{"$f":"VLOOKUP(B901,'[1]Ko tgia'!$B$2:$M$1900,4,0)","v":"1720253713"},{"$f":"VLOOKUP(B901,'[1]Ko tgia'!$B$2:$M$1900,5,0)","v":"017206007578"},"21/01/2006",null,null,10,{"v":526500,"d":"526,500"},"K60CN-ĐKT.K03","ĐT"]
[901,"K245510303171","Ngô Tiến Dũng",{"$f":"VLOOKUP(B902,'[1]Ko tgia'!$B$2:$M$1900,4,0)","v":"1920061074"},{"$f":"VLOOKUP(B902,'[1]Ko tgia'!$B$2:$M$1900,5,0)","v":"019206001193"},"06/10/2006",null,null,10,{"v":526500,"d":"526,500"},"K60CN-ĐKT.K03","ĐT"]
[902,"K245510303211","Nguyễn Hoàng Sơn",{"$f":"VLOOKUP(B903,'[1]Ko tgia'!$B$2:$M$1900,4,0)","v":"1920130451"},{"$f":"VLOOKUP(B903,'[1]Ko tgia'!$B$2:$M$1900,5,0)","v":"019206000207"},"16/11/2006",null,null,10,{"v":526500,"d":"526,500"},"K60CN-ĐKT.K03","ĐT"]
[903,"K245510303177","Hoàng Thanh Hà",{"$f":"VLOOKUP(B904,'[1]Ko tgia'!$B$2:$M$1900,4,0)","v":"1920439331"},{"$f":"VLOOKUP(B904,'[1]Ko tgia'!$B$2:$M$1900,5,0)","v":"019206008799"},"17/01/2006",null,null,10,{"v":526500,"d":"526,500"},"K60CN-ĐKT.K03","ĐT"]
[904,"K245510303166","Dương Tiến Đạt",{"$f":"VLOOKUP(B905,'[1]Ko tgia'!$B$2:$M$1900,4,0)","v":"2420276248"},{"$f":"VLOOKUP(B905,'[1]Ko tgia'!$B$2:$M$1900,5,0)","v":"024206013059"},"08/02/2006",null,null,10,{"v":526500,"d":"526,500"},"K60CN-ĐKT.K03","ĐT"]
[905,"K245510303213","Cáp Trọng Sơn",{"$f":"VLOOKUP(B906,'[1]Ko tgia'!$B$2:$M$1900,4,0)","v":"2421257836"},{"$f":"VLOOKUP(B906,'[1]Ko tgia'!$B$2:$M$1900,5,0)","v":"024205009853"},"10/09/2005",null,null,10,{"v":526500,"d":"526,500"},"K60CN-ĐKT.K03","ĐT"]
[906,"K245510303214","Đặng Văn Tài",{"$f":"VLOOKUP(B907,'[1]Ko tgia'!$B$2:$M$1900,4,0)","v":"2421307060"},{"$f":"VLOOKUP(B907,'[1]Ko tgia'!$B$2:$M$1900,5,0)","v":"024206011220"},"03/10/2006",null,null,10,{"v":526500,"d":"526,500"},"K60CN-ĐKT.K03","ĐT"]
[907,"K245510303179","Nguyễn Đức Hạnh",{"$f":"VLOOKUP(B908,'[1]Ko tgia'!$B$2:$M$1900,4,0)","v":"2421337775"},{"$f":"VLOOKUP(B908,'[1]Ko tgia'!$B$2:$M$1900,5,0)","v":"024206016538"},"15/07/2006",null,null,10,{"v":526500,"d":"526,500"},"K60CN-ĐKT.K03","ĐT"]
[908,"K245510303226","Hà Viết Tuấn",{"$f":"VLOOKUP(B909,'[1]Ko tgia'!$B$2:$M$1900,4,0)","v":"2421478801"},{"$f":"VLOOKUP(B909,'[1]Ko tgia'!$B$2:$M$1900,5,0)","v":"024206002584"},"01/01/2006",null,null,10,{"v":526500,"d":"526,500"},"K60CN-ĐKT.K03","ĐT"]
[909,"K245510303208","Nguyễn Văn Quân",{"$f":"VLOOKUP(B910,'[1]Ko tgia'!$B$2:$M$1900,4,0)","v":"2421507067"},{"$f":"VLOOKUP(B910,'[1]Ko tgia'!$B$2:$M$1900,5,0)","v":"024206006741"},"08/02/2006",null,null,10,{"v":526500,"d":"526,500"},"K60CN-ĐKT.K03","ĐT"]
[910,"K245510303205","Nguyễn Chí Nguyên",{"$f":"VLOOKUP(B911,'[1]Ko tgia'!$B$2:$M$1900,4,0)","v":"2421565940"},{"$f":"VLOOKUP(B911,'[1]Ko tgia'!$B$2:$M$1900,5,0)","v":"024206003005"},"22/10/2006",null,null,10,{"v":526500,"d":"526,500"},"K60CN-ĐKT.K03","ĐT"]
[911,"K245510303165","Trần Hải Đăng",{"$f":"VLOOKUP(B912,'[1]Ko tgia'!$B$2:$M$1900,4,0)","v":"2620161954"},{"$f":"VLOOKUP(B912,'[1]Ko tgia'!$B$2:$M$1900,5,0)","v":"026206002029"},"15/02/2006",null,null,10,{"v":526500,"d":"526,500"},"K60CN-ĐKT.K03","ĐT"]
[912,"K245510303184","Nguyễn Huy Hoàng",{"$f":"VLOOKUP(B913,'[1]Ko tgia'!$B$2:$M$1900,4,0)","v":"2720540939"},{"$f":"VLOOKUP(B913,'[1]Ko tgia'!$B$2:$M$1900,5,0)","v":"024206013647"},"31/03/2006",null,null,10,{"v":526500,"d":"526,500"},"K60CN-ĐKT.K03","ĐT"]
[913,"K245510303170","Nguyễn Anh Đức",{"$f":"VLOOKUP(B914,'[1]Ko tgia'!$B$2:$M$1900,4,0)","v":"3420875873"},{"$f":"VLOOKUP(B914,'[1]Ko tgia'!$B$2:$M$1900,5,0)","v":"034206008472"},"18/03/2006",null,null,10,{"v":526500,"d":"526,500"},"K60CN-ĐKT.K03","ĐT"]
[914,"K245510303272","Nguyễn Tùng Lâm",{"$f":"VLOOKUP(B915,'[1]Ko tgia'!$B$2:$M$1900,4,0)","v":"1920159122"},{"$f":"VLOOKUP(B915,'[1]Ko tgia'!$B$2:$M$1900,5,0)","v":"019206012058"},"13/11/2006",null,null,10,{"v":526500,"d":"526,500"},"K60CN-ĐKT.K04","ĐT"]
[915,"K245510303277","Nguyễn Quý Minh",{"$f":"VLOOKUP(B916,'[1]Ko tgia'!$B$2:$M$1900,4,0)","v":"1920300661"},null,"26/03/2006",null,null,10,{"v":526500,"d":"526,500"},"K60CN-ĐKT.K04","ĐT"]
[916,"K245510303295","Ma Dương Thuận Thiên",{"$f":"VLOOKUP(B917,'[1]Ko tgia'!$B$2:$M$1900,4,0)","v":"1920300699"},{"$f":"VLOOKUP(B917,'[1]Ko tgia'!$B$2:$M$1900,5,0)","v":"019206000458"},"19/05/2006",null,null,10,{"v":526500,"d":"526,500"},"K60CN-ĐKT.K04","ĐT"]
[917,"K245510303267","Triệu Quang Huy",{"$f":"VLOOKUP(B918,'[1]Ko tgia'!$B$2:$M$1900,4,0)","v":"1920780366"},{"$f":"VLOOKUP(B918,'[1]Ko tgia'!$B$2:$M$1900,5,0)","v":"019206005612"},"03/01/2006",null,null,10,{"v":526500,"d":"526,500"},"K60CN-ĐKT.K04","ĐT"]
[918,"K245510303236","Dương Thị Ngọc Anh",{"$f":"VLOOKUP(B919,'[1]Ko tgia'!$B$2:$M$1900,4,0)","v":"1921156605"},{"$f":"VLOOKUP(B919,'[1]Ko tgia'!$B$2:$M$1900,5,0)","v":"019306007557"},"18/08/2006",{"$f":"VLOOKUP(B919,'[2]Ko tgia'!$C$2:$K$9900,8,0)","v":"x"},null,10,{"v":526500,"d":"526,500"},"K60CN-ĐKT.K04","ĐT"]
[919,"K245510303297","Tạ Thị Thúy",{"$f":"VLOOKUP(B920,'[1]Ko tgia'!$B$2:$M$1900,4,0)","v":"1921161261"},{"$f":"VLOOKUP(B920,'[1]Ko tgia'!$B$2:$M$1900,5,0)","v":"019306006471"},"24/10/2006",{"$f":"VLOOKUP(B920,'[2]Ko tgia'!$C$2:$K$9900,8,0)","v":"x"},null,10,{"v":526500,"d":"526,500"},"K60CN-ĐKT.K04","ĐT"]
[920,"K245510303307","Triệu Hữu Vĩnh",{"$f":"VLOOKUP(B921,'[1]Ko tgia'!$B$2:$M$1900,4,0)","v":"2020535164"},{"$f":"VLOOKUP(B921,'[1]Ko tgia'!$B$2:$M$1900,5,0)","v":"020206000645"},"27/10/2006",null,null,10,{"v":526500,"d":"526,500"},"K60CN-ĐKT.K04","ĐT"]
[921,"K245510303289","Ngô Quang Sơn",{"$f":"VLOOKUP(B922,'[1]Ko tgia'!$B$2:$M$1900,4,0)","v":"2420130623"},{"$f":"VLOOKUP(B922,'[1]Ko tgia'!$B$2:$M$1900,5,0)","v":"024206004844"},"18/03/2006",null,null,10,{"v":526500,"d":"526,500"},"K60CN-ĐKT.K04","ĐT"]
[922,"K245510303304","Lý Trọng Tuấn",{"$f":"VLOOKUP(B923,'[1]Ko tgia'!$B$2:$M$1900,4,0)","v":"2420222700"},{"$f":"VLOOKUP(B923,'[1]Ko tgia'!$B$2:$M$1900,5,0)","v":"024206013323"},"06/04/2006",null,null,10,{"v":526500,"d":"526,500"},"K60CN-ĐKT.K04","ĐT"]
[923,"K245510303286","Nguyễn Văn Quang",{"$f":"VLOOKUP(B924,'[1]Ko tgia'!$B$2:$M$1900,4,0)","v":"2420322349"},{"$f":"VLOOKUP(B924,'[1]Ko tgia'!$B$2:$M$1900,5,0)","v":"024206013322"},"23/03/2006",null,null,10,{"v":526500,"d":"526,500"},"K60CN-ĐKT.K04","ĐT"]
[924,"K245510303270","Trần Đăng Khoa",{"$f":"VLOOKUP(B925,'[1]Ko tgia'!$B$2:$M$1900,4,0)","v":"2421426903"},{"$f":"VLOOKUP(B925,'[1]Ko tgia'!$B$2:$M$1900,5,0)","v":"024206012255"},"20/10/2006",null,null,10,{"v":526500,"d":"526,500"},"K60CN-ĐKT.K04","ĐT"]
[925,"K245510303287","Hoàng Gia Quyền",{"$f":"VLOOKUP(B926,'[1]Ko tgia'!$B$2:$M$1900,4,0)","v":"2421593199"},{"$f":"VLOOKUP(B926,'[1]Ko tgia'!$B$2:$M$1900,5,0)","v":"024206003837"},"11/10/2006",null,null,10,{"v":526500,"d":"526,500"},"K60CN-ĐKT.K04","ĐT"]
[926,"K245510303256","Hà Vinh Hạnh",{"$f":"VLOOKUP(B927,'[1]Ko tgia'!$B$2:$M$1900,4,0)","v":"2520891466"},{"$f":"VLOOKUP(B927,'[1]Ko tgia'!$B$2:$M$1900,5,0)","v":"025206003992"},"20/09/2006",null,null,10,{"v":526500,"d":"526,500"},"K60CN-ĐKT.K04","ĐT"]
[927,"K245510303275","Phan Thành Long",{"$f":"VLOOKUP(B928,'[1]Ko tgia'!$B$2:$M$1900,4,0)","v":"3420941453"},{"$f":"VLOOKUP(B928,'[1]Ko tgia'!$B$2:$M$1900,5,0)","v":"034206017801"},"06/09/2006",null,null,10,{"v":526500,"d":"526,500"},"K60CN-ĐKT.K04","ĐT"]
[928,"K245510303248","Nguyễn Tiến Dũng",{"$f":"VLOOKUP(B929,'[1]Ko tgia'!$B$2:$M$1900,4,0)","v":"9794338718"},{"$f":"VLOOKUP(B929,'[1]Ko tgia'!$B$2:$M$1900,5,0)","v":"019206007323"},"11/11/2006",null,null,10,{"v":526500,"d":"526,500"},"K60CN-ĐKT.K04","ĐT"]
[929,"K245510303337","Phạm Minh Hoàng",{"$f":"VLOOKUP(B930,'[1]Ko tgia'!$B$2:$M$1900,4,0)","v":"0122773171"},{"$f":"VLOOKUP(B930,'[1]Ko tgia'!$B$2:$M$1900,5,0)","v":"019206001149"},"05/08/2006",null,null,10,{"v":526500,"d":"526,500"},"K60CN-ĐKT.K05","ĐT"]
[930,"K245510303322","Trần Minh Đức",{"$f":"VLOOKUP(B931,'[1]Ko tgia'!$B$2:$M$1900,4,0)","v":"1920090433"},{"$f":"VLOOKUP(B931,'[1]Ko tgia'!$B$2:$M$1900,5,0)","v":"019206001270"},"01/06/2006",null,null,10,{"v":526500,"d":"526,500"},"K60CN-ĐKT.K05","ĐT"]
[931,"K245510303344","Dương Quốc Huy",{"$f":"VLOOKUP(B932,'[1]Ko tgia'!$B$2:$M$1900,4,0)","v":"1921125770"},{"$f":"VLOOKUP(B932,'[1]Ko tgia'!$B$2:$M$1900,5,0)","v":"019206007538"},"12/04/2006",null,null,10,{"v":526500,"d":"526,500"},"K60CN-ĐKT.K05","ĐT"]
[932,"K245510303373","Vũ Văn Thọ",{"$f":"VLOOKUP(B933,'[1]Ko tgia'!$B$2:$M$1900,4,0)","v":"2420813677"},{"$f":"VLOOKUP(B933,'[1]Ko tgia'!$B$2:$M$1900,5,0)","v":"024206004681"},"01/01/2006",null,null,10,{"v":526500,"d":"526,500"},"K60CN-ĐKT.K05","ĐT"]
[933,"K245510303377","Ngọ Quang Trung",{"$f":"VLOOKUP(B934,'[1]Ko tgia'!$B$2:$M$1900,4,0)","v":"2421592918"},{"$f":"VLOOKUP(B934,'[1]Ko tgia'!$B$2:$M$1900,5,0)","v":"024206014008"},"15/02/2006",null,null,10,{"v":526500,"d":"526,500"},"K60CN-ĐKT.K05","ĐT"]
[934,"K245510303332","Hoàng Minh Hải",{"$f":"VLOOKUP(B935,'[1]Ko tgia'!$B$2:$M$1900,4,0)","v":"2421596403"},{"$f":"VLOOKUP(B935,'[1]Ko tgia'!$B$2:$M$1900,5,0)","v":"024206008629"},"30/05/2006",null,null,10,{"v":526500,"d":"526,500"},"K60CN-ĐKT.K05","ĐT"]
[935,"K245510303384","Dương Hoàng Vũ",{"$f":"VLOOKUP(B936,'[1]Ko tgia'!$B$2:$M$1900,4,0)","v":"2421906286"},{"$f":"VLOOKUP(B936,'[1]Ko tgia'!$B$2:$M$1900,5,0)","v":"024206010288"},"25/09/2006",null,null,10,{"v":526500,"d":"526,500"},"K60CN-ĐKT.K05","ĐT"]
[936,"K245510303380","Nguyễn Minh Tuấn",{"$f":"VLOOKUP(B937,'[1]Ko tgia'!$B$2:$M$1900,4,0)","v":"2720283460"},{"$f":"VLOOKUP(B937,'[1]Ko tgia'!$B$2:$M$1900,5,0)","v":"027206008810"},"05/01/2006",null,null,10,{"v":526500,"d":"526,500"},"K60CN-ĐKT.K05","ĐT"]
[937,"K245510303364","Nguyễn Mạnh Quyền",{"$f":"VLOOKUP(B938,'[1]Ko tgia'!$B$2:$M$1900,4,0)","v":"2721677087"},{"$f":"VLOOKUP(B938,'[1]Ko tgia'!$B$2:$M$1900,5,0)","v":"027206000979"},"27/03/2006",null,null,10,{"v":526500,"d":"526,500"},"K60CN-ĐKT.K05","ĐT"]
[938,"K245510303368","Nguyễn Minh Tân",{"$f":"VLOOKUP(B939,'[1]Ko tgia'!$B$2:$M$1900,4,0)","v":"8022425247"},{"$f":"VLOOKUP(B939,'[1]Ko tgia'!$B$2:$M$1900,5,0)","v":"019206001503"},"04/05/2006",null,null,10,{"v":526500,"d":"526,500"},"K60CN-ĐKT.K05","ĐT"]
[939,"K245510303348","Trần Trung Kiên",{"$f":"VLOOKUP(B940,'[1]Ko tgia'!$B$2:$M$1900,4,0)","v":"9732560091"},{"$f":"VLOOKUP(B940,'[1]Ko tgia'!$B$2:$M$1900,5,0)","v":"037206005078"},"02/11/2006",null,null,10,{"v":526500,"d":"526,500"},"K60CN-ĐKT.K05","ĐT"]
[940,"K245510303437","Nguyễn Huy Quân",{"$f":"VLOOKUP(B941,'[1]Ko tgia'!$B$2:$M$1900,4,0)","v":"1920077935"},{"$f":"VLOOKUP(B941,'[1]Ko tgia'!$B$2:$M$1900,5,0)","v":"019206000845"},"29/09/2006",null,null,10,{"v":526500,"d":"526,500"},"K60CN-ĐKT.K06","ĐT"]
[941,"K245510303426","Nguyễn Thành Lộc",{"$f":"VLOOKUP(B942,'[1]Ko tgia'!$B$2:$M$1900,4,0)","v":"1920427880"},{"$f":"VLOOKUP(B942,'[1]Ko tgia'!$B$2:$M$1900,5,0)","v":"019206008244"},"11/05/2006",null,null,10,{"v":526500,"d":"526,500"},"K60CN-ĐKT.K06","ĐT"]
[942,"K245510303405","Nguyễn Đức Duy",{"$f":"VLOOKUP(B943,'[1]Ko tgia'!$B$2:$M$1900,4,0)","v":"1920746844"},{"$f":"VLOOKUP(B943,'[1]Ko tgia'!$B$2:$M$1900,5,0)","v":"019206002227"},"07/09/2006",null,null,10,{"v":526500,"d":"526,500"},"K60CN-ĐKT.K06","ĐT"]
[943,"K245510303448","An Thành Thiện",{"$f":"VLOOKUP(B944,'[1]Ko tgia'!$B$2:$M$1900,4,0)","v":"1920964502"},{"$f":"VLOOKUP(B944,'[1]Ko tgia'!$B$2:$M$1900,5,0)","v":"019206009272"},"21/06/2006",null,null,10,{"v":526500,"d":"526,500"},"K60CN-ĐKT.K06","ĐT"]
[944,"K245510303435","Trần Duy Nội",{"$f":"VLOOKUP(B945,'[1]Ko tgia'!$B$2:$M$1900,4,0)","v":"1921075395"},{"$f":"VLOOKUP(B945,'[1]Ko tgia'!$B$2:$M$1900,5,0)","v":"019206006472"},"23/01/2006",null,null,10,{"v":526500,"d":"526,500"},"K60CN-ĐKT.K06","ĐT"]
[945,"K245510205173","Hà Trọng Hiệp",{"$f":"VLOOKUP(B946,'[1]Ko tgia'!$B$2:$M$1900,4,0)","v":"1921126666"},{"$f":"VLOOKUP(B946,'[1]Ko tgia'!$B$2:$M$1900,5,0)","v":"019206010687"},"01/09/2006",null,null,10,{"v":526500,"d":"526,500"},"K60CN-ĐKT.K06","ĐT"]
[946,"K245510303414","Nguyễn Văn Học",{"$f":"VLOOKUP(B947,'[1]Ko tgia'!$B$2:$M$1900,4,0)","v":"1921229482"},{"$f":"VLOOKUP(B947,'[1]Ko tgia'!$B$2:$M$1900,5,0)","v":"019206011060"},"04/10/2006",null,null,10,{"v":526500,"d":"526,500"},"K60CN-ĐKT.K06","ĐT"]
[947,"K245510303398","Nguyễn Thế Đức",{"$f":"VLOOKUP(B948,'[1]Ko tgia'!$B$2:$M$1900,4,0)","v":"2220371655"},{"$f":"VLOOKUP(B948,'[1]Ko tgia'!$B$2:$M$1900,5,0)","v":"022206002843"},"23/04/2006",null,null,10,{"v":526500,"d":"526,500"},"K60CN-ĐKT.K06","ĐT"]
[948,"K245510303422","Nguyễn Minh Khánh",{"$f":"VLOOKUP(B949,'[1]Ko tgia'!$B$2:$M$1900,4,0)","v":"2420988279"},{"$f":"VLOOKUP(B949,'[1]Ko tgia'!$B$2:$M$1900,5,0)","v":"024206003274"},"07/05/2006",null,null,10,{"v":526500,"d":"526,500"},"K60CN-ĐKT.K06","ĐT"]
[949,"K245510303510","Trần Công Nguyên",{"$f":"VLOOKUP(B950,'[1]Ko tgia'!$B$2:$M$1900,4,0)","v":"0620233070"},{"$f":"VLOOKUP(B950,'[1]Ko tgia'!$B$2:$M$1900,5,0)","v":"006206000104"},"15/08/2006",null,null,10,{"v":526500,"d":"526,500"},"K60CN-ĐKT.K07","ĐT"]
[950,"K245510303462","Đỗ Đức Anh",{"$f":"VLOOKUP(B951,'[1]Ko tgia'!$B$2:$M$1900,4,0)","v":"1920036418"},{"$f":"VLOOKUP(B951,'[1]Ko tgia'!$B$2:$M$1900,5,0)","v":"019206000595"},"08/11/2006",null,null,10,{"v":526500,"d":"526,500"},"K60CN-ĐKT.K07","ĐT"]
[951,"K245510303468","Chu Thành Công",{"$f":"VLOOKUP(B952,'[1]Ko tgia'!$B$2:$M$1900,4,0)","v":"1920472510"},{"$f":"VLOOKUP(B952,'[1]Ko tgia'!$B$2:$M$1900,5,0)","v":"019206001097"},"14/10/2006",null,null,10,{"v":526500,"d":"526,500"},"K60CN-ĐKT.K07","ĐT"]
[952,"K245510303477","Hoàng Anh Dũng",{"$f":"VLOOKUP(B953,'[1]Ko tgia'!$B$2:$M$1900,4,0)","v":"2420037546"},{"$f":"VLOOKUP(B953,'[1]Ko tgia'!$B$2:$M$1900,5,0)","v":"024206000583"},"25/06/2006",null,null,10,{"v":526500,"d":"526,500"},"K60CN-ĐKT.K07","ĐT"]
[953,"K245510303463","Hoàng Tuấn Anh",{"$f":"VLOOKUP(B954,'[1]Ko tgia'!$B$2:$M$1900,4,0)","v":"2420226643"},{"$f":"VLOOKUP(B954,'[1]Ko tgia'!$B$2:$M$1900,5,0)","v":"024206006843"},"29/10/2006",null,null,10,{"v":526500,"d":"526,500"},"K60CN-ĐKT.K07","ĐT"]
[954,"K245510303518","Bùi Văn Sơn",{"$f":"VLOOKUP(B955,'[1]Ko tgia'!$B$2:$M$1900,4,0)","v":"2420241995"},{"$f":"VLOOKUP(B955,'[1]Ko tgia'!$B$2:$M$1900,5,0)","v":"024206014926"},"03/04/2006",null,null,10,{"v":526500,"d":"526,500"},"K60CN-ĐKT.K07","ĐT"]
[955,"K245510303490","Trần Văn Hơn",{"$f":"VLOOKUP(B956,'[1]Ko tgia'!$B$2:$M$1900,4,0)","v":"2420677855"},{"$f":"VLOOKUP(B956,'[1]Ko tgia'!$B$2:$M$1900,5,0)","v":"024206005120"},"18/11/2006",null,null,10,{"v":526500,"d":"526,500"},"K60CN-ĐKT.K07","ĐT"]
[956,"K245510303533","Nguyễn Văn Tùng",{"$f":"VLOOKUP(B957,'[1]Ko tgia'!$B$2:$M$1900,4,0)","v":"2421155792"},{"$f":"VLOOKUP(B957,'[1]Ko tgia'!$B$2:$M$1900,5,0)","v":"024206012713"},"05/01/2006",null,null,10,{"v":526500,"d":"526,500"},"K60CN-ĐKT.K07","ĐT"]
[957,"K245510303474","Đinh Quang Đức",{"$f":"VLOOKUP(B958,'[1]Ko tgia'!$B$2:$M$1900,4,0)","v":"2421378166"},{"$f":"VLOOKUP(B958,'[1]Ko tgia'!$B$2:$M$1900,5,0)","v":"024206008213"},"18/10/2006",null,null,10,{"v":526500,"d":"526,500"},"K60CN-ĐKT.K07","ĐT"]
[958,"K245510303527","Nguyễn Văn Tới",{"$f":"VLOOKUP(B959,'[1]Ko tgia'!$B$2:$M$1900,4,0)","v":"2720287073"},{"$f":"VLOOKUP(B959,'[1]Ko tgia'!$B$2:$M$1900,5,0)","v":"027206004792"},"30/04/2006",null,null,10,{"v":526500,"d":"526,500"},"K60CN-ĐKT.K07","ĐT"]
[959,"K245520207104","Nguyễn Thị Thuỳ Linh",{"$f":"VLOOKUP(B960,'[1]Ko tgia'!$B$2:$M$1900,4,0)","v":"0124804117"},{"$f":"VLOOKUP(B960,'[1]Ko tgia'!$B$2:$M$1900,5,0)","v":"001306015072"},"02/06/2006",{"$f":"VLOOKUP(B960,'[2]Ko tgia'!$C$2:$K$9900,8,0)","v":"x"},null,10,{"v":526500,"d":"526,500"},"K60KĐT.K01","ĐT"]
[960,"K245520207120","Nguyễn Anh Quân",{"$f":"VLOOKUP(B961,'[1]Ko tgia'!$B$2:$M$1900,4,0)","v":"0820489171"},{"$f":"VLOOKUP(B961,'[1]Ko tgia'!$B$2:$M$1900,5,0)","v":"008206006658"},"20/04/2006",null,null,10,{"v":526500,"d":"526,500"},"K60KĐT.K01","ĐT"]
[961,"K245520207053","Vũ Quỳnh Anh",{"$f":"VLOOKUP(B962,'[1]Ko tgia'!$B$2:$M$1900,4,0)","v":"1920019167"},{"$f":"VLOOKUP(B962,'[1]Ko tgia'!$B$2:$M$1900,5,0)","v":"019206006176"},"23/04/2006",null,null,10,{"v":526500,"d":"526,500"},"K60KĐT.K01","ĐT"]
[962,"K245520207132","Trần Thu Trang",{"$f":"VLOOKUP(B963,'[1]Ko tgia'!$B$2:$M$1900,4,0)","v":"1920973656"},{"$f":"VLOOKUP(B963,'[1]Ko tgia'!$B$2:$M$1900,5,0)","v":"019306007649"},"05/06/2006",{"$f":"VLOOKUP(B963,'[2]Ko tgia'!$C$2:$K$9900,8,0)","v":"x"},null,10,{"v":526500,"d":"526,500"},"K60KĐT.K01","ĐT"]
[963,"K245520207079","Nguyễn Trường Giang",{"$f":"VLOOKUP(B964,'[1]Ko tgia'!$B$2:$M$1900,4,0)","v":"2420262526"},{"$f":"VLOOKUP(B964,'[1]Ko tgia'!$B$2:$M$1900,5,0)","v":"024206003455"},"16/04/2006",null,null,10,{"v":526500,"d":"526,500"},"K60KĐT.K01","ĐT"]
[964,"K245520207063","Lê Quang Đại",{"$f":"VLOOKUP(B965,'[1]Ko tgia'!$B$2:$M$1900,4,0)","v":"2420596792"},{"$f":"VLOOKUP(B965,'[1]Ko tgia'!$B$2:$M$1900,5,0)","v":"024206011746"},"12/03/2006",null,null,10,{"v":526500,"d":"526,500"},"K60KĐT.K01","ĐT"]
[965,"K245520207141","Hoàng Công Vinh",{"$f":"VLOOKUP(B966,'[1]Ko tgia'!$B$2:$M$1900,4,0)","v":"2420702597"},{"$f":"VLOOKUP(B966,'[1]Ko tgia'!$B$2:$M$1900,5,0)","v":"024206007234"},"23/02/2006",null,null,10,{"v":526500,"d":"526,500"},"K60KĐT.K01","ĐT"]
[966,"K245520207121","La Mạnh Quốc",{"$f":"VLOOKUP(B967,'[1]Ko tgia'!$B$2:$M$1900,4,0)","v":"2420773764"},{"$f":"VLOOKUP(B967,'[1]Ko tgia'!$B$2:$M$1900,5,0)","v":"024206002601"},"13/07/2006",null,null,10,{"v":526500,"d":"526,500"},"K60KĐT.K01","ĐT"]
[967,"K245520207136","Văn Hữu Trọng",{"$f":"VLOOKUP(B968,'[1]Ko tgia'!$B$2:$M$1900,4,0)","v":"2421693895"},{"$f":"VLOOKUP(B968,'[1]Ko tgia'!$B$2:$M$1900,5,0)","v":"024206004861"},"20/02/2006",null,null,10,{"v":526500,"d":"526,500"},"K60KĐT.K01","ĐT"]
[968,"K245520207083","Đinh Văn Hiếu",{"$f":"VLOOKUP(B969,'[1]Ko tgia'!$B$2:$M$1900,4,0)","v":"2720490472"},{"$f":"VLOOKUP(B969,'[1]Ko tgia'!$B$2:$M$1900,5,0)","v":"027206001321"},"24/10/2006",null,null,10,{"v":526500,"d":"526,500"},"K60KĐT.K01","ĐT"]
[969,"K245520207126","Lê Thị Thương",{"$f":"VLOOKUP(B970,'[1]Ko tgia'!$B$2:$M$1900,4,0)","v":"2720985512"},{"$f":"VLOOKUP(B970,'[1]Ko tgia'!$B$2:$M$1900,5,0)","v":"027306000307"},"24/05/2006",{"$f":"VLOOKUP(B970,'[2]Ko tgia'!$C$2:$K$9900,8,0)","v":"x"},null,10,{"v":526500,"d":"526,500"},"K60KĐT.K01","ĐT"]
[970,"K245480106042","Ngô Bảo Long",{"$f":"VLOOKUP(B971,'[1]Ko tgia'!$B$2:$M$1900,4,0)","v":"0124621717"},{"$f":"VLOOKUP(B971,'[1]Ko tgia'!$B$2:$M$1900,5,0)","v":"001206077071"},"16/01/2006",null,null,10,{"v":526500,"d":"526,500"},"K60KMT.K01","ĐT"]
[971,"K245480106041","Nguyễn Minh Long",{"$f":"VLOOKUP(B972,'[1]Ko tgia'!$B$2:$M$1900,4,0)","v":"0124662077"},{"$f":"VLOOKUP(B972,'[1]Ko tgia'!$B$2:$M$1900,5,0)","v":"01206084259"},"10/08/2006",null,null,10,{"v":526500,"d":"526,500"},"K60KMT.K01","ĐT"]
[972,"K245480106065","Phạm Công Tâm",{"$f":"VLOOKUP(B973,'[1]Ko tgia'!$B$2:$M$1900,4,0)","v":"1920023587"},{"$f":"VLOOKUP(B973,'[1]Ko tgia'!$B$2:$M$1900,5,0)","v":"019206004456"},"19/01/2006",null,null,10,{"v":526500,"d":"526,500"},"K60KMT.K01","ĐT"]
[973,"K245480106076","Ngô Kiều Trang",{"$f":"VLOOKUP(B974,'[1]Ko tgia'!$B$2:$M$1900,4,0)","v":"1920065082"},{"$f":"VLOOKUP(B974,'[1]Ko tgia'!$B$2:$M$1900,5,0)","v":"019306008987"},"17/02/2006",{"$f":"VLOOKUP(B974,'[2]Ko tgia'!$C$2:$K$9900,8,0)","v":"x"},null,10,{"v":526500,"d":"526,500"},"K60KMT.K01","ĐT"]
[974,"K245480106074","Dương Thế Toàn",{"$f":"VLOOKUP(B975,'[1]Ko tgia'!$B$2:$M$1900,4,0)","v":"1920082284"},{"$f":"VLOOKUP(B975,'[1]Ko tgia'!$B$2:$M$1900,5,0)","v":"019206002458"},"09/09/2006",null,null,10,{"v":526500,"d":"526,500"},"K60KMT.K01","ĐT"]
[975,"K245480106098","Nguyễn Quang Huy",{"$f":"VLOOKUP(B976,'[1]Ko tgia'!$B$2:$M$1900,4,0)","v":"1920125217"},{"$f":"VLOOKUP(B976,'[1]Ko tgia'!$B$2:$M$1900,5,0)","v":"019206001299"},"10/08/2006",null,null,10,{"v":526500,"d":"526,500"},"K60KMT.K01","ĐT"]
[976,"K245480106040","Nguyễn Trung Kiên",{"$f":"VLOOKUP(B977,'[1]Ko tgia'!$B$2:$M$1900,4,0)","v":"1920203562"},{"$f":"VLOOKUP(B977,'[1]Ko tgia'!$B$2:$M$1900,5,0)","v":"019206000878"},"28/01/2006",null,null,10,{"v":526500,"d":"526,500"},"K60KMT.K01","ĐT"]
[977,"K245480106025","Vũ Minh Hiếu",{"$f":"VLOOKUP(B978,'[1]Ko tgia'!$B$2:$M$1900,4,0)","v":"1920794133"},{"$f":"VLOOKUP(B978,'[1]Ko tgia'!$B$2:$M$1900,5,0)","v":"019206001897"},"10/01/2006",null,null,10,{"v":526500,"d":"526,500"},"K60KMT.K01","ĐT"]
[978,"K245480106107","Nguyễn Quang Khải",{"$f":"VLOOKUP(B979,'[1]Ko tgia'!$B$2:$M$1900,4,0)","v":"1920941508"},{"$f":"VLOOKUP(B979,'[1]Ko tgia'!$B$2:$M$1900,5,0)","v":"019206010661"},"26/06/2006",null,null,10,{"v":526500,"d":"526,500"},"K60KMT.K01","ĐT"]
[979,"K245480106109","Nguyễn Văn Đoàn",{"$f":"VLOOKUP(B980,'[1]Ko tgia'!$B$2:$M$1900,4,0)","v":"1920974268"},{"$f":"VLOOKUP(B980,'[1]Ko tgia'!$B$2:$M$1900,5,0)","v":"019202005565"},"11/11/2002",null,null,10,{"v":526500,"d":"526,500"},"K60KMT.K01","ĐT"]
[980,"K245480106063","Nguyễn Đăng Sơn",{"$f":"VLOOKUP(B981,'[1]Ko tgia'!$B$2:$M$1900,4,0)","v":"2220334812"},{"$f":"VLOOKUP(B981,'[1]Ko tgia'!$B$2:$M$1900,5,0)","v":"022206010217"},"04/12/2006",null,null,10,{"v":526500,"d":"526,500"},"K60KMT.K01","ĐT"]
[981,"K245480106049","Phạm Quang Minh",{"$f":"VLOOKUP(B982,'[1]Ko tgia'!$B$2:$M$1900,4,0)","v":"2420404507"},{"$f":"VLOOKUP(B982,'[1]Ko tgia'!$B$2:$M$1900,5,0)","v":"024206008345"},"01/10/2006",null,null,10,{"v":526500,"d":"526,500"},"K60KMT.K01","ĐT"]
[982,"K245480106038","Hoàng Quốc Khánh",{"$f":"VLOOKUP(B983,'[1]Ko tgia'!$B$2:$M$1900,4,0)","v":"2420887403"},{"$f":"VLOOKUP(B983,'[1]Ko tgia'!$B$2:$M$1900,5,0)","v":"024206015545"},"17/07/2006",null,null,10,{"v":526500,"d":"526,500"},"K60KMT.K01","ĐT"]
[983,"K245480106079","Nguyễn Đình Tuấn",{"$f":"VLOOKUP(B984,'[1]Ko tgia'!$B$2:$M$1900,4,0)","v":"2421372595"},{"$f":"VLOOKUP(B984,'[1]Ko tgia'!$B$2:$M$1900,5,0)","v":"024206007142"},"30/10/2006",null,null,10,{"v":526500,"d":"526,500"},"K60KMT.K01","ĐT"]
[984,"K245480106108","Nguyễn Quyền Ninh",{"$f":"VLOOKUP(B985,'[1]Ko tgia'!$B$2:$M$1900,4,0)","v":"2422066044"},{"$f":"VLOOKUP(B985,'[1]Ko tgia'!$B$2:$M$1900,5,0)","v":"024206010801"},"21/05/2006",null,null,10,{"v":526500,"d":"526,500"},"K60KMT.K01","ĐT"]
[985,"K245480106062","Nguyễn Xuân Sang",{"$f":"VLOOKUP(B986,'[1]Ko tgia'!$B$2:$M$1900,4,0)","v":"2620153454"},{"$f":"VLOOKUP(B986,'[1]Ko tgia'!$B$2:$M$1900,5,0)","v":"026206008820"},"02/02/2006",null,null,10,{"v":526500,"d":"526,500"},"K60KMT.K01","ĐT"]
[986,"K245480106066","Khổng Văn Tâm",{"$f":"VLOOKUP(B987,'[1]Ko tgia'!$B$2:$M$1900,4,0)","v":"2720362200"},{"$f":"VLOOKUP(B987,'[1]Ko tgia'!$B$2:$M$1900,5,0)","v":"027205008852"},"21/06/2005",null,null,10,{"v":526500,"d":"526,500"},"K60KMT.K01","ĐT"]
[987,"K215520201132","Linh Công Thành",{"$f":"VLOOKUP(B988,'[1]Ko tgia'!$B$2:$M$1900,4,0)","v":"0220819064"},{"$f":"VLOOKUP(B988,'[1]Ko tgia'!$B$2:$M$1900,5,0)","v":"008203009557"},"28/10/2003",null,null,10,{"v":526500,"d":"526,500"},"K57HTĐ.01","KĐ"]
[988,"K215520201233","Hoàng Trung Hiếu",{"$f":"VLOOKUP(B989,'[1]Ko tgia'!$B$2:$M$1900,4,0)","v":"0420042036"},{"$f":"VLOOKUP(B989,'[1]Ko tgia'!$B$2:$M$1900,5,0)","v":"004203000523."},"06/12/2003",null,null,10,{"v":526500,"d":"526,500"},"K57HTĐ.01","KĐ"]
[989,"K215520201214","Nguyễn Lương Anh",{"$f":"VLOOKUP(B990,'[1]Ko tgia'!$B$2:$M$1900,4,0)","v":"0820102449"},{"$f":"VLOOKUP(B990,'[1]Ko tgia'!$B$2:$M$1900,5,0)","v":"008203002722"},"20/09/2003",null,null,10,{"v":526500,"d":"526,500"},"K57HTĐ.01","KĐ"]
[990,"K215520201033","Nguyễn Ngọc Hải",{"$f":"VLOOKUP(B991,'[1]Ko tgia'!$B$2:$M$1900,4,0)","v":"1920155109"},{"$f":"VLOOKUP(B991,'[1]Ko tgia'!$B$2:$M$1900,5,0)","v":"01920300580"},"21/08/2003",null,null,10,{"v":526500,"d":"526,500"},"K57HTĐ.01","KĐ"]
[991,"K215520201009","Đinh Quốc Dũng",{"$f":"VLOOKUP(B992,'[1]Ko tgia'!$B$2:$M$1900,4,0)","v":"1920191767"},{"$f":"VLOOKUP(B992,'[1]Ko tgia'!$B$2:$M$1900,5,0)","v":"019201006184"},"27/11/2001",null,null,10,{"v":526500,"d":"526,500"},"K57HTĐ.01","KĐ"]
[992,"K215520201117","Nguyễn Văn Lợi",{"$f":"VLOOKUP(B993,'[1]Ko tgia'!$B$2:$M$1900,4,0)","v":"1921095018"},null,"11/02/2003",null,null,10,{"v":526500,"d":"526,500"},"K57HTĐ.01","KĐ"]
[993,"K215520201169","Tạ Phương Thảo",{"$f":"VLOOKUP(B994,'[1]Ko tgia'!$B$2:$M$1900,4,0)","v":"1921193229"},{"$f":"VLOOKUP(B994,'[1]Ko tgia'!$B$2:$M$1900,5,0)","v":"019303006630"},"05/10/2003",{"$f":"VLOOKUP(B994,'[2]Ko tgia'!$C$2:$K$9900,8,0)","v":"x"},null,10,{"v":526500,"d":"526,500"},"K57HTĐ.01","KĐ"]
[994,"K215520201041","Vũ Thị Huyền",{"$f":"VLOOKUP(B995,'[1]Ko tgia'!$B$2:$M$1900,4,0)","v":"1921434884"},{"$f":"VLOOKUP(B995,'[1]Ko tgia'!$B$2:$M$1900,5,0)","v":"019303009593"},"24/02/2003",{"$f":"VLOOKUP(B995,'[2]Ko tgia'!$C$2:$K$9900,8,0)","v":"x"},null,10,{"v":526500,"d":"526,500"},"K57HTĐ.01","KĐ"]
[995,"K215520201251","Nguyễn Quang Sơn",{"$f":"VLOOKUP(B996,'[1]Ko tgia'!$B$2:$M$1900,4,0)","v":"2420014280"},{"$f":"VLOOKUP(B996,'[1]Ko tgia'!$B$2:$M$1900,5,0)","v":"024220301593"},"06/10/2003",null,null,10,{"v":526500,"d":"526,500"},"K57HTĐ.01","KĐ"]
[996,"K215520201324","Bùi Hoàng Việt",{"$f":"VLOOKUP(B997,'[1]Ko tgia'!$B$2:$M$1900,4,0)","v":"2420109710"},{"$f":"VLOOKUP(B997,'[1]Ko tgia'!$B$2:$M$1900,5,0)","v":"024203001242"},"25/07/2003",null,null,10,{"v":526500,"d":"526,500"},"K57HTĐ.01","KĐ"]
[997,"K215520201219","Nguyễn Duy Cương",{"$f":"VLOOKUP(B998,'[1]Ko tgia'!$B$2:$M$1900,4,0)","v":"2420219606"},{"$f":"VLOOKUP(B998,'[1]Ko tgia'!$B$2:$M$1900,5,0)","v":"024203007431"},"04/09/2003",null,null,10,{"v":526500,"d":"526,500"},"K57HTĐ.01","KĐ"]
[998,"K215520201339","Nguyễn Anh Văn",{"$f":"VLOOKUP(B999,'[1]Ko tgia'!$B$2:$M$1900,4,0)","v":"3420430198"},{"$f":"VLOOKUP(B999,'[1]Ko tgia'!$B$2:$M$1900,5,0)","v":"034203012997"},"06/11/2003",null,null,10,{"v":526500,"d":"526,500"},"K57HTĐ.01","KĐ"]
[999,"K215520201094","Hà Ngọc Đông",{"$f":"VLOOKUP(B1000,'[1]Ko tgia'!$B$2:$M$1900,4,0)","v":"1920419092"},{"$f":"VLOOKUP(B1000,'[1]Ko tgia'!$B$2:$M$1900,5,0)","v":"019203001804"},"03/02/2003",null,null,10,{"v":526500,"d":"526,500"},"K57KTĐ.01","KĐ"]
[1000,"K215520201038","Nông Văn Hoàng",{"$f":"VLOOKUP(B1001,'[1]Ko tgia'!$B$2:$M$1900,4,0)","v":"1920695955"},{"$f":"VLOOKUP(B1001,'[1]Ko tgia'!$B$2:$M$1900,5,0)","v":"019203003415"},"04/09/2003",null,null,10,{"v":526500,"d":"526,500"},"K57KTĐ.01","KĐ"]
[1001,"K215520201202","Lương Minh Quang",{"$f":"VLOOKUP(B1002,'[1]Ko tgia'!$B$2:$M$1900,4,0)","v":"1920879357"},{"$f":"VLOOKUP(B1002,'[1]Ko tgia'!$B$2:$M$1900,5,0)","v":"019203012670"},"04/01/2003",null,null,10,{"v":526500,"d":"526,500"},"K57KTĐ.01","KĐ"]
[1002,"K215520201068","Ngô Văn Trường",{"$f":"VLOOKUP(B1003,'[1]Ko tgia'!$B$2:$M$1900,4,0)","v":"2020491736"},{"$f":"VLOOKUP(B1003,'[1]Ko tgia'!$B$2:$M$1900,5,0)","v":"020203000868"},"19/06/2003",null,null,10,{"v":526500,"d":"526,500"},"K57KTĐ.01","KĐ"]
[1003,"K215520201119","Nguyễn Văn Mạnh",{"$f":"VLOOKUP(B1004,'[1]Ko tgia'!$B$2:$M$1900,4,0)","v":"2420393117"},{"$f":"VLOOKUP(B1004,'[1]Ko tgia'!$B$2:$M$1900,5,0)","v":"024203013916"},"04/10/2003",null,null,10,{"v":526500,"d":"526,500"},"K57KTĐ.01","KĐ"]
[1004,"K215520201063","Trần Như Tính",{"$f":"VLOOKUP(B1005,'[1]Ko tgia'!$B$2:$M$1900,4,0)","v":"2720426119"},{"$f":"VLOOKUP(B1005,'[1]Ko tgia'!$B$2:$M$1900,5,0)","v":"027203003729"},"11/10/2003",null,null,10,{"v":526500,"d":"526,500"},"K57KTĐ.01","KĐ"]
[1005,"K215520201050","Nguyễn Văn Mạnh",{"$f":"VLOOKUP(B1006,'[1]Ko tgia'!$B$2:$M$1900,4,0)","v":"2721817435"},{"$f":"VLOOKUP(B1006,'[1]Ko tgia'!$B$2:$M$1900,5,0)","v":"027203000862"},"27/02/2003",null,null,10,{"v":526500,"d":"526,500"},"K57KTĐ.01","KĐ"]
[1006,"K215520201335","Nguyễn Minh Đức",{"$f":"VLOOKUP(B1007,'[1]Ko tgia'!$B$2:$M$1900,4,0)","v":"2721969561"},{"$f":"VLOOKUP(B1007,'[1]Ko tgia'!$B$2:$M$1900,5,0)","v":"027203005294"},"26/09/2003",null,null,10,{"v":526500,"d":"526,500"},"K57KTĐ.01","KĐ"]
[1007,"K215520201053","Nông Văn Nghiệp",{"$f":"VLOOKUP(B1008,'[1]Ko tgia'!$B$2:$M$1900,4,0)","v":"0420263770"},{"$f":"VLOOKUP(B1008,'[1]Ko tgia'!$B$2:$M$1900,5,0)","v":"004203004753"},"08/01/2003",null,null,10,{"v":526500,"d":"526,500"},"K57KTĐ.02","KĐ"]
[1008,"K215520201177","Ma Văn Mạnh",{"$f":"VLOOKUP(B1009,'[1]Ko tgia'!$B$2:$M$1900,4,0)","v":"0620190913 "},{"$f":"VLOOKUP(B1009,'[1]Ko tgia'!$B$2:$M$1900,5,0)","v":"006203000230"},"04/06/2003",null,null,10,{"v":526500,"d":"526,500"},"K57KTĐ.02","KĐ"]
[1009,"K215520201291","Hoàng Trung Hiếu",{"$f":"VLOOKUP(B1010,'[1]Ko tgia'!$B$2:$M$1900,4,0)","v":"0620296823"},{"$f":"VLOOKUP(B1010,'[1]Ko tgia'!$B$2:$M$1900,5,0)","v":"006203002828"},"22/04/2003",null,null,10,{"v":526500,"d":"526,500"},"K57KTĐ.02","KĐ"]
[1010,"K215520201023","Đỗ Quốc Đạt",{"$f":"VLOOKUP(B1011,'[1]Ko tgia'!$B$2:$M$1900,4,0)","v":"1920046856"},{"$f":"VLOOKUP(B1011,'[1]Ko tgia'!$B$2:$M$1900,5,0)","v":"019203009330"},"16/08/2003",null,null,10,{"v":526500,"d":"526,500"},"K57KTĐ.02","KĐ"]
[1011,"K215520201120","Dương Đức Mạnh",{"$f":"VLOOKUP(B1012,'[1]Ko tgia'!$B$2:$M$1900,4,0)","v":"1920068689"},{"$f":"VLOOKUP(B1012,'[1]Ko tgia'!$B$2:$M$1900,5,0)","v":"019203007081"},"29/12/2003",null,null,10,{"v":526500,"d":"526,500"},"K57KTĐ.02","KĐ"]
[1012,"K215520201030","Nguyễn Trường Giang",{"$f":"VLOOKUP(B1013,'[1]Ko tgia'!$B$2:$M$1900,4,0)","v":"1920075102"},{"$f":"VLOOKUP(B1013,'[1]Ko tgia'!$B$2:$M$1900,5,0)","v":"019203000849"},"26/08/2003",null,null,10,{"v":526500,"d":"526,500"},"K57KTĐ.02","KĐ"]
[1013,"K215520201193","Trần Hồng Minh",{"$f":"VLOOKUP(B1014,'[1]Ko tgia'!$B$2:$M$1900,4,0)","v":"1920203522"},{"$f":"VLOOKUP(B1014,'[1]Ko tgia'!$B$2:$M$1900,5,0)","v":"019203003177"},"03/03/2003",null,null,10,{"v":526500,"d":"526,500"},"K57KTĐ.02","KĐ"]
[1014,"K215520201297","Đặng Quốc Huy",{"$f":"VLOOKUP(B1015,'[1]Ko tgia'!$B$2:$M$1900,4,0)","v":"1920230914"},{"$f":"VLOOKUP(B1015,'[1]Ko tgia'!$B$2:$M$1900,5,0)","v":"019203008522"},"02/09/2003",null,null,10,{"v":526500,"d":"526,500"},"K57KTĐ.02","KĐ"]
[1015,"K215520201325","Nguyễn Hoàng Việt",{"$f":"VLOOKUP(B1016,'[1]Ko tgia'!$B$2:$M$1900,4,0)","v":"1920856512"},{"$f":"VLOOKUP(B1016,'[1]Ko tgia'!$B$2:$M$1900,5,0)","v":"019203002369"},"02/08/2003",null,null,10,{"v":526500,"d":"526,500"},"K57KTĐ.02","KĐ"]
[1016,"K215520201215","Nguyễn Xuân Bắc",{"$f":"VLOOKUP(B1017,'[1]Ko tgia'!$B$2:$M$1900,4,0)","v":"1921434881"},{"$f":"VLOOKUP(B1017,'[1]Ko tgia'!$B$2:$M$1900,5,0)","v":"019203007505"},"30/06/2003",null,null,10,{"v":526500,"d":"526,500"},"K57KTĐ.02","KĐ"]
[1017,"K215520201108","Hà Trần Phi Hùng",{"$f":"VLOOKUP(B1018,'[1]Ko tgia'!$B$2:$M$1900,4,0)","v":"3420622756"},{"$f":"VLOOKUP(B1018,'[1]Ko tgia'!$B$2:$M$1900,5,0)","v":"034203008453"},"27/01/2003",null,null,10,{"v":526500,"d":"526,500"},"K57KTĐ.02","KĐ"]
[1018,"K215520201016","Dương Lê Hoàng Anh",{"$f":"VLOOKUP(B1019,'[1]Ko tgia'!$B$2:$M$1900,4,0)","v":"1921093891"},{"$f":"VLOOKUP(B1019,'[1]Ko tgia'!$B$2:$M$1900,5,0)","v":"019203000688"},"11/02/2003",null,null,10,{"v":526500,"d":"526,500"},"K57TBĐ.01","KĐ"]
[1019,"K215520201020","Đoàn Công Cảnh",{"$f":"VLOOKUP(B1020,'[1]Ko tgia'!$B$2:$M$1900,4,0)","v":"1921233548"},{"$f":"VLOOKUP(B1020,'[1]Ko tgia'!$B$2:$M$1900,5,0)","v":"019203010982"},"23/09/2003",null,null,10,{"v":526500,"d":"526,500"},"K57TBĐ.01","KĐ"]
[1020,"K215520201310","Nguyễn Quang Thắng",{"$f":"VLOOKUP(B1021,'[1]Ko tgia'!$B$2:$M$1900,4,0)","v":"2420064470"},null,"08/09/2003",null,null,10,{"v":526500,"d":"526,500"},"K57TBĐ.01","KĐ"]
[1021,"K215520201207","Ngô Văn Vĩnh",{"$f":"VLOOKUP(B1022,'[1]Ko tgia'!$B$2:$M$1900,4,0)","v":"2422373228"},{"$f":"VLOOKUP(B1022,'[1]Ko tgia'!$B$2:$M$1900,5,0)","v":"024203002970"},"11/01/2003",null,null,10,{"v":526500,"d":"526,500"},"K57TBĐ.01","KĐ"]
[1022,"K215520201199","Lê Huỳnh Đức",{"$f":"VLOOKUP(B1023,'[1]Ko tgia'!$B$2:$M$1900,4,0)","v":"4620831112"},{"$f":"VLOOKUP(B1023,'[1]Ko tgia'!$B$2:$M$1900,5,0)","v":"024203002159"},"23/05/2003",null,null,10,{"v":526500,"d":"526,500"},"K57TBĐ.01","KĐ"]
[1023,"K215520216024","Trịnh Nguyễn Thành Đạt",{"$f":"VLOOKUP(B1024,'[1]Ko tgia'!$B$2:$M$1900,4,0)","v":"0124938888"},{"$f":"VLOOKUP(B1024,'[1]Ko tgia'!$B$2:$M$1900,5,0)","v":"024203002059"},"14/10/2003",null,null,10,{"v":526500,"d":"526,500"},"K57TĐH.01","KĐ"]
[1024,"K215520216010","Quàng Văn Tuấn",{"$f":"VLOOKUP(B1025,'[1]Ko tgia'!$B$2:$M$1900,4,0)","v":"1421102619"},{"$f":"VLOOKUP(B1025,'[1]Ko tgia'!$B$2:$M$1900,5,0)","v":"014201011611"},"12/09/2001",null,null,10,{"v":526500,"d":"526,500"},"K57TĐH.01","KĐ"]
[1025,"K215520216053","Trần Nguyễn Khánh",{"$f":"VLOOKUP(B1026,'[1]Ko tgia'!$B$2:$M$1900,4,0)","v":"1920073943"},null,"11/02/2003",null,null,10,{"v":526500,"d":"526,500"},"K57TĐH.01","KĐ"]
[1026,"K215520216081","Trần Hồng Thức",{"$f":"VLOOKUP(B1027,'[1]Ko tgia'!$B$2:$M$1900,4,0)","v":"1920203997"},null,"06/09/2003",null,null,10,{"v":526500,"d":"526,500"},"K57TĐH.01","KĐ"]
[1027,"K215520216089","Nguyễn Anh Tuấn",{"$f":"VLOOKUP(B1028,'[1]Ko tgia'!$B$2:$M$1900,4,0)","v":"1920221654"},null,"06/01/2003",null,null,10,{"v":526500,"d":"526,500"},"K57TĐH.01","KĐ"]
[1028,"K215520216079","Nguyễn Xuân Thiện",{"$f":"VLOOKUP(B1029,'[1]Ko tgia'!$B$2:$M$1900,4,0)","v":"1920531349"},{"$f":"VLOOKUP(B1029,'[1]Ko tgia'!$B$2:$M$1900,5,0)","v":"019203001170"},"03/09/2003",null,null,10,{"v":526500,"d":"526,500"},"K57TĐH.01","KĐ"]
[1029,"K215520216054","Tạ Quốc Khánh",{"$f":"VLOOKUP(B1030,'[1]Ko tgia'!$B$2:$M$1900,4,0)","v":"1920824140"},{"$f":"VLOOKUP(B1030,'[1]Ko tgia'!$B$2:$M$1900,5,0)","v":"019203001729"},"02/09/2003",null,null,10,{"v":526500,"d":"526,500"},"K57TĐH.01","KĐ"]
[1030,"K215520216046","Dương Minh Hoàng",{"$f":"VLOOKUP(B1031,'[1]Ko tgia'!$B$2:$M$1900,4,0)","v":"1920979173"},{"$f":"VLOOKUP(B1031,'[1]Ko tgia'!$B$2:$M$1900,5,0)","v":"019203000382"},"02/05/2003",null,null,10,{"v":526500,"d":"526,500"},"K57TĐH.01","KĐ"]
[1031,"K215520216052","Lê Danh Khải",{"$f":"VLOOKUP(B1032,'[1]Ko tgia'!$B$2:$M$1900,4,0)","v":"1921021936"},{"$f":"VLOOKUP(B1032,'[1]Ko tgia'!$B$2:$M$1900,5,0)","v":"019203000421"},"24/02/2003",null,null,10,{"v":526500,"d":"526,500"},"K57TĐH.01","KĐ"]
[1032,"K215520216523","Lê Đình Hùng",{"$f":"VLOOKUP(B1033,'[1]Ko tgia'!$B$2:$M$1900,4,0)","v":"1921062276"},{"$f":"VLOOKUP(B1033,'[1]Ko tgia'!$B$2:$M$1900,5,0)","v":"019203000420"},"11/09/2003",null,null,10,{"v":526500,"d":"526,500"},"K57TĐH.01","KĐ"]
[1033,"K215520216049","Nguyễn Thành Hưng",{"$f":"VLOOKUP(B1034,'[1]Ko tgia'!$B$2:$M$1900,4,0)","v":"1921115074"},{"$f":"VLOOKUP(B1034,'[1]Ko tgia'!$B$2:$M$1900,5,0)","v":"019203005938"},"30/04/2003",null,null,10,{"v":526500,"d":"526,500"},"K57TĐH.01","KĐ"]
[1034,"K215520216038","Phùng Trọng Hào",{"$f":"VLOOKUP(B1035,'[1]Ko tgia'!$B$2:$M$1900,4,0)","v":"1921427971"},null,"29/07/2003",null,null,10,{"v":526500,"d":"526,500"},"K57TĐH.01","KĐ"]
[1035,"K215520216511","Trần Lê Anh Đức",{"$f":"VLOOKUP(B1036,'[1]Ko tgia'!$B$2:$M$1900,4,0)","v":"2420175800"},null,"09/12/2003",null,null,10,{"v":526500,"d":"526,500"},"K57TĐH.01","KĐ"]
[1036,"K215520216075","Nguyễn Văn Tân",{"$f":"VLOOKUP(B1037,'[1]Ko tgia'!$B$2:$M$1900,4,0)","v":"2420220039"},null,"06/05/2003",null,null,10,{"v":526500,"d":"526,500"},"K57TĐH.01","KĐ"]
[1037,"K215520216545","Cao Mạnh Quỳnh",{"$f":"VLOOKUP(B1038,'[1]Ko tgia'!$B$2:$M$1900,4,0)","v":"2420301712"},null,"20/10/2003",null,null,10,{"v":526500,"d":"526,500"},"K57TĐH.01","KĐ"]
[1038,"K215520216509","Nguyễn Văn Định",{"$f":"VLOOKUP(B1039,'[1]Ko tgia'!$B$2:$M$1900,4,0)","v":"3420705869"},{"$f":"VLOOKUP(B1039,'[1]Ko tgia'!$B$2:$M$1900,5,0)","v":"034203007920"},"06/04/2003",null,null,10,{"v":526500,"d":"526,500"},"K57TĐH.01","KĐ"]
[1039,"K215520216519","Đinh Ngọc Hoan",{"$f":"VLOOKUP(B1040,'[1]Ko tgia'!$B$2:$M$1900,4,0)","v":"3421537526"},{"$f":"VLOOKUP(B1040,'[1]Ko tgia'!$B$2:$M$1900,5,0)","v":"034203013411"},"23/02/2003",null,null,10,{"v":526500,"d":"526,500"},"K57TĐH.01","KĐ"]
[1040,"K215520216510","Hoàng Anh Đức",{"$f":"VLOOKUP(B1041,'[1]Ko tgia'!$B$2:$M$1900,4,0)","v":"0820137199"},{"$f":"VLOOKUP(B1041,'[1]Ko tgia'!$B$2:$M$1900,5,0)","v":"008203005693"},"21/04/2003",null,null,10,{"v":526500,"d":"526,500"},"K57TĐH.02","KĐ"]
[1041,"K215520201342","Cao Hùng Dũng",{"$f":"VLOOKUP(B1042,'[1]Ko tgia'!$B$2:$M$1900,4,0)","v":"1920169688"},null,"28/01/2003",null,null,10,{"v":526500,"d":"526,500"},"K57TĐH.02","KĐ"]
[1042,"K215520216130","Nguyễn Tiến Hoàng",{"$f":"VLOOKUP(B1043,'[1]Ko tgia'!$B$2:$M$1900,4,0)","v":"1920184288"},{"$f":"VLOOKUP(B1043,'[1]Ko tgia'!$B$2:$M$1900,5,0)","v":"019203004156"},"03/10/2003",null,null,10,{"v":526500,"d":"526,500"},"K57TĐH.02","KĐ"]
[1043,"K215520216122","Nguyễn Đức Hải",{"$f":"VLOOKUP(B1044,'[1]Ko tgia'!$B$2:$M$1900,4,0)","v":"1920941767"},{"$f":"VLOOKUP(B1044,'[1]Ko tgia'!$B$2:$M$1900,5,0)","v":"019203000922"},"05/06/2003",null,null,10,{"v":526500,"d":"526,500"},"K57TĐH.02","KĐ"]
[1044,"K215520216098","An Tuấn Anh",{"$f":"VLOOKUP(B1045,'[1]Ko tgia'!$B$2:$M$1900,4,0)","v":"1921012379"},{"$f":"VLOOKUP(B1045,'[1]Ko tgia'!$B$2:$M$1900,5,0)","v":"019203000458"},"27/07/2003",null,null,10,{"v":526500,"d":"526,500"},"K57TĐH.02","KĐ"]
[1045,"K215520216090","Nguyễn Anh Tuấn",{"$f":"VLOOKUP(B1046,'[1]Ko tgia'!$B$2:$M$1900,4,0)","v":"1921038984"},{"$f":"VLOOKUP(B1046,'[1]Ko tgia'!$B$2:$M$1900,5,0)","v":"019203000359"},"19/12/2003",null,null,10,{"v":526500,"d":"526,500"},"K57TĐH.02","KĐ"]
[1046,"K215520216449","Hà Văn Linh",{"$f":"VLOOKUP(B1047,'[1]Ko tgia'!$B$2:$M$1900,4,0)","v":"1921132974"},{"$f":"VLOOKUP(B1047,'[1]Ko tgia'!$B$2:$M$1900,5,0)","v":"019203008632"},"19/09/2003",null,null,10,{"v":526500,"d":"526,500"},"K57TĐH.02","KĐ"]
[1047,"K215520216123","Nguyễn Văn Hào",{"$f":"VLOOKUP(B1048,'[1]Ko tgia'!$B$2:$M$1900,4,0)","v":"1921165600"},null,"27/09/2003",null,null,10,{"v":526500,"d":"526,500"},"K57TĐH.02","KĐ"]
[1048,"K215520216451","Đào Duy Hanh",{"$f":"VLOOKUP(B1049,'[1]Ko tgia'!$B$2:$M$1900,4,0)","v":"1921181171"},{"$f":"VLOOKUP(B1049,'[1]Ko tgia'!$B$2:$M$1900,5,0)","v":"019203003504"},"11/11/2003",null,null,10,{"v":526500,"d":"526,500"},"K57TĐH.02","KĐ"]
[1049,"K215520216120","Nguyễn Huy Hà",{"$f":"VLOOKUP(B1050,'[1]Ko tgia'!$B$2:$M$1900,4,0)","v":"2420005446"},{"$f":"VLOOKUP(B1050,'[1]Ko tgia'!$B$2:$M$1900,5,0)","v":"024203001508"},"05/08/2003",null,null,10,{"v":526500,"d":"526,500"},"K57TĐH.02","KĐ"]
[1050,"K215520216117","Mai Anh Sơn Dương",{"$f":"VLOOKUP(B1051,'[1]Ko tgia'!$B$2:$M$1900,4,0)","v":"2420180766"},{"$f":"VLOOKUP(B1051,'[1]Ko tgia'!$B$2:$M$1900,5,0)","v":"024203001544"},"24/11/2003",null,null,10,{"v":526500,"d":"526,500"},"K57TĐH.02","KĐ"]
[1051,"K215520216111","Lê Tiến Đạt",{"$f":"VLOOKUP(B1052,'[1]Ko tgia'!$B$2:$M$1900,4,0)","v":"2420341274"},{"$f":"VLOOKUP(B1052,'[1]Ko tgia'!$B$2:$M$1900,5,0)","v":"024203004321"},"19/10/2003",null,null,10,{"v":526500,"d":"526,500"},"K57TĐH.02","KĐ"]
[1052,"K215520216529","Nguyễn Văn Khương",{"$f":"VLOOKUP(B1053,'[1]Ko tgia'!$B$2:$M$1900,4,0)","v":"2421579433"},{"$f":"VLOOKUP(B1053,'[1]Ko tgia'!$B$2:$M$1900,5,0)","v":"024203014205"},"23/07/2003",null,null,10,{"v":526500,"d":"526,500"},"K57TĐH.02","KĐ"]
[1053,"K215520216143","Nguyễn Tiến Mạnh",{"$f":"VLOOKUP(B1054,'[1]Ko tgia'!$B$2:$M$1900,4,0)","v":"2520209058"},{"$f":"VLOOKUP(B1054,'[1]Ko tgia'!$B$2:$M$1900,5,0)","v":"025203000791"},"09/05/2003",null,null,10,{"v":526500,"d":"526,500"},"K57TĐH.02","KĐ"]
[1054,"K215520216534","Trần Đức Mạnh",{"$f":"VLOOKUP(B1055,'[1]Ko tgia'!$B$2:$M$1900,4,0)","v":"2621414755"},{"$f":"VLOOKUP(B1055,'[1]Ko tgia'!$B$2:$M$1900,5,0)","v":"026203007644"},"06/05/2003",null,null,10,{"v":526500,"d":"526,500"},"K57TĐH.02","KĐ"]
[1055,"K215520216562","Nguyễn Thế Vũ",{"$f":"VLOOKUP(B1056,'[1]Ko tgia'!$B$2:$M$1900,4,0)","v":"2720504345"},{"$f":"VLOOKUP(B1056,'[1]Ko tgia'!$B$2:$M$1900,5,0)","v":"027203011725"},"09/12/2003",null,null,10,{"v":526500,"d":"526,500"},"K57TĐH.02","KĐ"]
[1056,"K215520216536","Đào Như Mười",{"$f":"VLOOKUP(B1057,'[1]Ko tgia'!$B$2:$M$1900,4,0)","v":"2721082830"},null,"30/12/2003",null,null,10,{"v":526500,"d":"526,500"},"K57TĐH.02","KĐ"]
[1057,"K215520216164","Nguyễn Văn Thư",{"$f":"VLOOKUP(B1058,'[1]Ko tgia'!$B$2:$M$1900,4,0)","v":"2721408926"},{"$f":"VLOOKUP(B1058,'[1]Ko tgia'!$B$2:$M$1900,5,0)","v":"027203003744"},"29/01/2003",null,null,10,{"v":526500,"d":"526,500"},"K57TĐH.02","KĐ"]
[1058,"K215520216133","Hà Trọng Hưng",{"$f":"VLOOKUP(B1059,'[1]Ko tgia'!$B$2:$M$1900,4,0)","v":"3823547527"},{"$f":"VLOOKUP(B1059,'[1]Ko tgia'!$B$2:$M$1900,5,0)","v":"038203022310"},"26/04/2003",null,null,10,{"v":526500,"d":"526,500"},"K57TĐH.02","KĐ"]
[1059,"K215520216225","Trần Duy Long",{"$f":"VLOOKUP(B1060,'[1]Ko tgia'!$B$2:$M$1900,4,0)","v":"0120399311"},{"$f":"VLOOKUP(B1060,'[1]Ko tgia'!$B$2:$M$1900,5,0)","v":"001203013764"},"10/08/2003",null,null,10,{"v":526500,"d":"526,500"},"K57TĐH.03","KĐ"]
[1060,"K215520216203","Nguyễn Hoàng Giang",{"$f":"VLOOKUP(B1061,'[1]Ko tgia'!$B$2:$M$1900,4,0)","v":"1920098293"},{"$f":"VLOOKUP(B1061,'[1]Ko tgia'!$B$2:$M$1900,5,0)","v":"019203009349"},"03/09/2003",null,null,10,{"v":526500,"d":"526,500"},"K57TĐH.03","KĐ"]
[1061,"K215520216497","Nguyễn Anh Huy Hoàng",{"$f":"VLOOKUP(B1062,'[1]Ko tgia'!$B$2:$M$1900,4,0)","v":"1920239066"},{"$f":"VLOOKUP(B1062,'[1]Ko tgia'!$B$2:$M$1900,5,0)","v":"019203002530"},"24/12/2003",null,null,10,{"v":526500,"d":"526,500"},"K57TĐH.03","KĐ"]
[1062,"K215520216565","Nguyễn Việt Anh",{"$f":"VLOOKUP(B1063,'[1]Ko tgia'!$B$2:$M$1900,4,0)","v":"2420564842"},{"$f":"VLOOKUP(B1063,'[1]Ko tgia'!$B$2:$M$1900,5,0)","v":"024203014470"},"25/10/2003",null,null,10,{"v":526500,"d":"526,500"},"K57TĐH.03","KĐ"]
[1063,"K215520216498","Nguyễn Đức Minh Hiếu",{"$f":"VLOOKUP(B1064,'[1]Ko tgia'!$B$2:$M$1900,4,0)","v":"2420664708"},{"$f":"VLOOKUP(B1064,'[1]Ko tgia'!$B$2:$M$1900,5,0)","v":"024203005534"},"22/12/2003",null,null,10,{"v":526500,"d":"526,500"},"K57TĐH.03","KĐ"]
[1064,"K215520216624","Nguyễn Công Văn",{"$f":"VLOOKUP(B1065,'[1]Ko tgia'!$B$2:$M$1900,4,0)","v":"2721141492"},{"$f":"VLOOKUP(B1065,'[1]Ko tgia'!$B$2:$M$1900,5,0)","v":"027203002632"},"01/07/2003",null,null,10,{"v":526500,"d":"526,500"},"K57TĐH.03","KĐ"]
[1065,"K215520216198","Khổng Minh Đức",{"$f":"VLOOKUP(B1066,'[1]Ko tgia'!$B$2:$M$1900,4,0)","v":"2721662056"},{"$f":"VLOOKUP(B1066,'[1]Ko tgia'!$B$2:$M$1900,5,0)","v":"027203012330"},"26/12/2003",null,null,10,{"v":526500,"d":"526,500"},"K57TĐH.03","KĐ"]
[1066,"K215520216255","Vũ Văn Tuân",{"$f":"VLOOKUP(B1067,'[1]Ko tgia'!$B$2:$M$1900,4,0)","v":"3420348366"},{"$f":"VLOOKUP(B1067,'[1]Ko tgia'!$B$2:$M$1900,5,0)","v":"034203006827"},"02/06/2003",null,null,10,{"v":526500,"d":"526,500"},"K57TĐH.03","KĐ"]
[1067,"K215520216189","Lê Việt Cường",{"$f":"VLOOKUP(B1068,'[1]Ko tgia'!$B$2:$M$1900,4,0)","v":"3721140729"},{"$f":"VLOOKUP(B1068,'[1]Ko tgia'!$B$2:$M$1900,5,0)","v":"037203000808"},"02/09/2003",null,null,10,{"v":526500,"d":"526,500"},"K57TĐH.03","KĐ"]
[1068,"K215520216582","Trần Lê Hòa",{"$f":"VLOOKUP(B1069,'[1]Ko tgia'!$B$2:$M$1900,4,0)","v":"3823833702"},{"$f":"VLOOKUP(B1069,'[1]Ko tgia'!$B$2:$M$1900,5,0)","v":"038203015070"},"26/08/2003",null,null,10,{"v":526500,"d":"526,500"},"K57TĐH.03","KĐ"]
[1069,"K215520216314","Nguyễn Hoàng Nam",{"$f":"VLOOKUP(B1070,'[1]Ko tgia'!$B$2:$M$1900,4,0)","v":"0124798616"},{"$f":"VLOOKUP(B1070,'[1]Ko tgia'!$B$2:$M$1900,5,0)","v":"01203035924"},"04/03/2003",null,null,10,{"v":526500,"d":"526,500"},"K57TĐH.04","KĐ"]
[1070,"K215520216819","Nguyễn Dương Hiếu",{"$f":"VLOOKUP(B1071,'[1]Ko tgia'!$B$2:$M$1900,4,0)","v":"0820017541"},{"$f":"VLOOKUP(B1071,'[1]Ko tgia'!$B$2:$M$1900,5,0)","v":"008203010105"},"24/10/2003",null,null,10,{"v":526500,"d":"526,500"},"K57TĐH.04","KĐ"]
[1071,"K215520216328","Đỗ Đức Thành",{"$f":"VLOOKUP(B1072,'[1]Ko tgia'!$B$2:$M$1900,4,0)","v":"0820454825"},{"$f":"VLOOKUP(B1072,'[1]Ko tgia'!$B$2:$M$1900,5,0)","v":"008203004096"},"24/02/2003",null,null,10,{"v":526500,"d":"526,500"},"K57TĐH.04","KĐ"]
[1072,"K215520216493","Ngô Sỹ Nghĩa",{"$f":"VLOOKUP(B1073,'[1]Ko tgia'!$B$2:$M$1900,4,0)","v":"1920020697"},{"$f":"VLOOKUP(B1073,'[1]Ko tgia'!$B$2:$M$1900,5,0)","v":"019203007150"},"22/08/2003",null,null,10,{"v":526500,"d":"526,500"},"K57TĐH.04","KĐ"]
[1073,"K215520216301","Nguyễn Quốc Huy",{"$f":"VLOOKUP(B1074,'[1]Ko tgia'!$B$2:$M$1900,4,0)","v":"1920168984"},{"$f":"VLOOKUP(B1074,'[1]Ko tgia'!$B$2:$M$1900,5,0)","v":"019203003798"},"13/06/2003",null,null,10,{"v":526500,"d":"526,500"},"K57TĐH.04","KĐ"]
[1074,"K215520216278","Nguyễn Thành Đạt",{"$f":"VLOOKUP(B1075,'[1]Ko tgia'!$B$2:$M$1900,4,0)","v":"1920300680"},{"$f":"VLOOKUP(B1075,'[1]Ko tgia'!$B$2:$M$1900,5,0)","v":"019203007348"},"27/09/2003",null,null,10,{"v":526500,"d":"526,500"},"K57TĐH.04","KĐ"]
[1075,"K215520216666","Nguyễn Văn Nguyên",{"$f":"VLOOKUP(B1076,'[1]Ko tgia'!$B$2:$M$1900,4,0)","v":"1920485372"},{"$f":"VLOOKUP(B1076,'[1]Ko tgia'!$B$2:$M$1900,5,0)","v":"019203003555"},"11/07/2003",null,null,10,{"v":526500,"d":"526,500"},"K57TĐH.04","KĐ"]
[1076,"K215520216843","Trần Nguyễn Việt Anh",{"$f":"VLOOKUP(B1077,'[1]Ko tgia'!$B$2:$M$1900,4,0)","v":"1920534521"},{"$f":"VLOOKUP(B1077,'[1]Ko tgia'!$B$2:$M$1900,5,0)","v":"019203003576"},"08/05/2003",null,null,10,{"v":526500,"d":"526,500"},"K57TĐH.04","KĐ"]
[1077,"K215520216827","Trịnh Tiến Dũng",{"$f":"VLOOKUP(B1078,'[1]Ko tgia'!$B$2:$M$1900,4,0)","v":"1921306322"},{"$f":"VLOOKUP(B1078,'[1]Ko tgia'!$B$2:$M$1900,5,0)","v":"019203010701"},"29/06/2003",null,null,10,{"v":526500,"d":"526,500"},"K57TĐH.04","KĐ"]
[1078,"K215520216294","Ngô Anh Hiếu",{"$f":"VLOOKUP(B1079,'[1]Ko tgia'!$B$2:$M$1900,4,0)","v":"2420229329"},{"$f":"VLOOKUP(B1079,'[1]Ko tgia'!$B$2:$M$1900,5,0)","v":"024203002580"},"19/12/2003",null,null,10,{"v":526500,"d":"526,500"},"K57TĐH.04","KĐ"]
[1079,"K215520216312","Nguyễn Ngọc Minh",{"$f":"VLOOKUP(B1080,'[1]Ko tgia'!$B$2:$M$1900,4,0)","v":"2421252251"},{"$f":"VLOOKUP(B1080,'[1]Ko tgia'!$B$2:$M$1900,5,0)","v":"024203006029"},"23/03/2003",null,null,10,{"v":526500,"d":"526,500"},"K57TĐH.04","KĐ"]
[1080,"K215520216489","Nguyễn Hữu Bằng",{"$f":"VLOOKUP(B1081,'[1]Ko tgia'!$B$2:$M$1900,4,0)","v":"3021594757"},{"$f":"VLOOKUP(B1081,'[1]Ko tgia'!$B$2:$M$1900,5,0)","v":"030203012305"},"13/09/2003",null,null,10,{"v":526500,"d":"526,500"},"K57TĐH.04","KĐ"]
[1081,"K215520216710","Phạm Huy Hoàng",{"$f":"VLOOKUP(B1082,'[1]Ko tgia'!$B$2:$M$1900,4,0)","v":"3720156670"},{"$f":"VLOOKUP(B1082,'[1]Ko tgia'!$B$2:$M$1900,5,0)","v":"037203005735"},"20/03/2003",null,null,10,{"v":526500,"d":"526,500"},"K57TĐH.04","KĐ"]
[1082,"K215520216321","Nguyễn Hoàng Quân",{"$f":"VLOOKUP(B1083,'[1]Ko tgia'!$B$2:$M$1900,4,0)","v":"6422092445"},{"$f":"VLOOKUP(B1083,'[1]Ko tgia'!$B$2:$M$1900,5,0)","v":"064203001394"},"06/03/2003",null,null,10,{"v":526500,"d":"526,500"},"K57TĐH.04","KĐ"]
[1083,"K215520216664","Nguyễn Hải Nam",{"$f":"VLOOKUP(B1084,'[1]Ko tgia'!$B$2:$M$1900,4,0)","v":"0820557711"},{"$f":"VLOOKUP(B1084,'[1]Ko tgia'!$B$2:$M$1900,5,0)","v":"008203002834"},"25/08/2003",null,null,10,{"v":526500,"d":"526,500"},"K57TĐH.05","KĐ"]
[1084,"K215520216394","Nguyễn Hoài Nam",{"$f":"VLOOKUP(B1085,'[1]Ko tgia'!$B$2:$M$1900,4,0)","v":"1920220120"},{"$f":"VLOOKUP(B1085,'[1]Ko tgia'!$B$2:$M$1900,5,0)","v":"019203006143"},"28/09/2003",null,null,10,{"v":526500,"d":"526,500"},"K57TĐH.05","KĐ"]
[1085,"K215520216673","Dương Như Thái",{"$f":"VLOOKUP(B1086,'[1]Ko tgia'!$B$2:$M$1900,4,0)","v":"1920299430"},{"$f":"VLOOKUP(B1086,'[1]Ko tgia'!$B$2:$M$1900,5,0)","v":"019203000742"},"10/10/2003",null,null,10,{"v":526500,"d":"526,500"},"K57TĐH.05","KĐ"]
[1086,"K215520216649","Lê Đức Hùng",{"$f":"VLOOKUP(B1087,'[1]Ko tgia'!$B$2:$M$1900,4,0)","v":"1920518261"},null,"12/12/2003",null,null,10,{"v":526500,"d":"526,500"},"K57TĐH.05","KĐ"]
[1087,"K215520216313","Nguyễn Hoàng Minh",{"$f":"VLOOKUP(B1088,'[1]Ko tgia'!$B$2:$M$1900,4,0)","v":"1920610531"},{"$f":"VLOOKUP(B1088,'[1]Ko tgia'!$B$2:$M$1900,5,0)","v":"019203001251"},"30/08/2003",null,null,10,{"v":526500,"d":"526,500"},"K57TĐH.05","KĐ"]
[1088,"K215520216345","Trần Hồng Anh",{"$f":"VLOOKUP(B1089,'[1]Ko tgia'!$B$2:$M$1900,4,0)","v":"1920915338"},{"$f":"VLOOKUP(B1089,'[1]Ko tgia'!$B$2:$M$1900,5,0)","v":"019203000459"},"14/09/2003",null,null,10,{"v":526500,"d":"526,500"},"K57TĐH.05","KĐ"]
[1089,"K215520216461","Đặng Phương Bắc",{"$f":"VLOOKUP(B1090,'[1]Ko tgia'!$B$2:$M$1900,4,0)","v":"1920924819"},null,"27/05/2003",null,null,10,{"v":526500,"d":"526,500"},"K57TĐH.05","KĐ"]
[1090,"K215520216405","Nguyễn Đình Tâm",{"$f":"VLOOKUP(B1091,'[1]Ko tgia'!$B$2:$M$1900,4,0)","v":"1920961764"},{"$f":"VLOOKUP(B1091,'[1]Ko tgia'!$B$2:$M$1900,5,0)","v":"019203000431"},"07/03/2003",null,null,10,{"v":526500,"d":"526,500"},"K57TĐH.05","KĐ"]
[1091,"K215520216423","Dương Quang Vinh",{"$f":"VLOOKUP(B1092,'[1]Ko tgia'!$B$2:$M$1900,4,0)","v":"1921117882"},{"$f":"VLOOKUP(B1092,'[1]Ko tgia'!$B$2:$M$1900,5,0)","v":"019203007912"},"03/07/2003",null,null,10,{"v":526500,"d":"526,500"},"K57TĐH.05","KĐ"]
[1092,"K215520216642","Nguyễn Văn Hảo",{"$f":"VLOOKUP(B1093,'[1]Ko tgia'!$B$2:$M$1900,4,0)","v":"1921428727"},{"$f":"VLOOKUP(B1093,'[1]Ko tgia'!$B$2:$M$1900,5,0)","v":"001203043945"},"13/07/2003",null,null,10,{"v":526500,"d":"526,500"},"K57TĐH.05","KĐ"]
[1093,"K215520216397","Đặng Yến Nhi",{"$f":"VLOOKUP(B1094,'[1]Ko tgia'!$B$2:$M$1900,4,0)","v":"1921440621"},{"$f":"VLOOKUP(B1094,'[1]Ko tgia'!$B$2:$M$1900,5,0)","v":"019303009853"},"10/09/2003",{"$f":"VLOOKUP(B1094,'[2]Ko tgia'!$C$2:$K$9900,8,0)","v":"x"},null,10,{"v":526500,"d":"526,500"},"K57TĐH.05","KĐ"]
[1094,"K215520216385","Nguyễn Văn Lâm",{"$f":"VLOOKUP(B1095,'[1]Ko tgia'!$B$2:$M$1900,4,0)","v":"2420380780"},null,"20/09/2003",null,null,10,{"v":526500,"d":"526,500"},"K57TĐH.05","KĐ"]
[1095,"K215520216473","Nguyễn Việt Dũng",{"$f":"VLOOKUP(B1096,'[1]Ko tgia'!$B$2:$M$1900,4,0)","v":"2720271128"},null,"07/10/2003",null,null,10,{"v":526500,"d":"526,500"},"K57TĐH.05","KĐ"]
[1096,"K215520216390","Nguyễn Tiến Mạnh",{"$f":"VLOOKUP(B1097,'[1]Ko tgia'!$B$2:$M$1900,4,0)","v":"2720422750"},null,"27/04/2003",null,null,10,{"v":526500,"d":"526,500"},"K57TĐH.05","KĐ"]
[1097,"K215520216404","Nguyễn Trường Sơn",{"$f":"VLOOKUP(B1098,'[1]Ko tgia'!$B$2:$M$1900,4,0)","v":"3422026810"},{"$f":"VLOOKUP(B1098,'[1]Ko tgia'!$B$2:$M$1900,5,0)","v":"019203000431"},"19/01/2003",null,null,10,{"v":526500,"d":"526,500"},"K57TĐH.05","KĐ"]
[1098,"K215520216568","Lê Hữu Cảnh",{"$f":"VLOOKUP(B1099,'[1]Ko tgia'!$B$2:$M$1900,4,0)","v":"1920029360"},{"$f":"VLOOKUP(B1099,'[1]Ko tgia'!$B$2:$M$1900,5,0)","v":"027203007622"},"28/06/2003",null,null,10,{"v":526500,"d":"526,500"},"K57TĐH.06","KĐ"]
[1099,"K215520216595","Nguyễn Hải Long",{"$f":"VLOOKUP(B1100,'[1]Ko tgia'!$B$2:$M$1900,4,0)","v":"1920138337"},{"$f":"VLOOKUP(B1100,'[1]Ko tgia'!$B$2:$M$1900,5,0)","v":"019203002540"},"26/08/2003",null,null,10,{"v":526500,"d":"526,500"},"K57TĐH.06","KĐ"]
[1100,"K215520216742","Phan Thanh Tiến",{"$f":"VLOOKUP(B1101,'[1]Ko tgia'!$B$2:$M$1900,4,0)","v":"1920226910"},{"$f":"VLOOKUP(B1101,'[1]Ko tgia'!$B$2:$M$1900,5,0)","v":"019203003152"},"27/03/2003",null,null,10,{"v":526500,"d":"526,500"},"K57TĐH.06","KĐ"]
[1101,"K215520216712","Nguyễn Phi Hùng",{"$f":"VLOOKUP(B1102,'[1]Ko tgia'!$B$2:$M$1900,4,0)","v":"1920982421"},{"$f":"VLOOKUP(B1102,'[1]Ko tgia'!$B$2:$M$1900,5,0)","v":"019203000393"},"28/02/2003",null,null,10,{"v":526500,"d":"526,500"},"K57TĐH.06","KĐ"]
[1102,"K215520216637","Nguyễn Viết Đức",{"$f":"VLOOKUP(B1103,'[1]Ko tgia'!$B$2:$M$1900,4,0)","v":"1921011896"},{"$f":"VLOOKUP(B1103,'[1]Ko tgia'!$B$2:$M$1900,5,0)","v":"019203002112"},"21/06/2003",null,null,10,{"v":526500,"d":"526,500"},"K57TĐH.06","KĐ"]
[1103,"K215520216728","Đồng Văn Ngọc",{"$f":"VLOOKUP(B1104,'[1]Ko tgia'!$B$2:$M$1900,4,0)","v":"1921121898"},{"$f":"VLOOKUP(B1104,'[1]Ko tgia'!$B$2:$M$1900,5,0)","v":"019203007382"},"06/06/2003",null,null,10,{"v":526500,"d":"526,500"},"K57TĐH.06","KĐ"]
[1104,"K215520216735","Dương Ngọc Sáng",{"$f":"VLOOKUP(B1105,'[1]Ko tgia'!$B$2:$M$1900,4,0)","v":"2420002785"},{"$f":"VLOOKUP(B1105,'[1]Ko tgia'!$B$2:$M$1900,5,0)","v":"024203005273"},"12/12/2003",null,null,10,{"v":526500,"d":"526,500"},"K57TĐH.06","KĐ"]
[1105,"K215520216736","Thân Văn Thái",{"$f":"VLOOKUP(B1106,'[1]Ko tgia'!$B$2:$M$1900,4,0)","v":"2421305848"},null,"04/04/2003",null,null,10,{"v":526500,"d":"526,500"},"K57TĐH.06","KĐ"]
[1106,"K215520216732","Lê Mạnh Quân",{"$f":"VLOOKUP(B1107,'[1]Ko tgia'!$B$2:$M$1900,4,0)","v":"2421828441"},{"$f":"VLOOKUP(B1107,'[1]Ko tgia'!$B$2:$M$1900,5,0)","v":"024203003427"},"15/02/2003",null,null,10,{"v":526500,"d":"526,500"},"K57TĐH.06","KĐ"]
[1107,"K215520216608","Nguyễn Hữu Quý",{"$f":"VLOOKUP(B1108,'[1]Ko tgia'!$B$2:$M$1900,4,0)","v":"2720627795"},{"$f":"VLOOKUP(B1108,'[1]Ko tgia'!$B$2:$M$1900,5,0)","v":"027203002813"},"03/03/2003",null,null,10,{"v":526500,"d":"526,500"},"K57TĐH.06","KĐ"]
[1108,"K215520216691","Nguyễn Trường Anh",{"$f":"VLOOKUP(B1109,'[1]Ko tgia'!$B$2:$M$1900,4,0)","v":"2721313458"},{"$f":"VLOOKUP(B1109,'[1]Ko tgia'!$B$2:$M$1900,5,0)","v":"027203009232"},"07/03/2003",null,null,10,{"v":526500,"d":"526,500"},"K57TĐH.06","KĐ"]
[1109,"K215520216689","Nguyễn Đình Minh Vũ",{"$f":"VLOOKUP(B1110,'[1]Ko tgia'!$B$2:$M$1900,4,0)","v":"2721341258"},{"$f":"VLOOKUP(B1110,'[1]Ko tgia'!$B$2:$M$1900,5,0)","v":"027203002270"},"20/09/2003",null,null,10,{"v":526500,"d":"526,500"},"K57TĐH.06","KĐ"]
[1110,"K215520216617","Nguyễn Ngọc Tiến",{"$f":"VLOOKUP(B1111,'[1]Ko tgia'!$B$2:$M$1900,4,0)","v":"3021211893"},{"$f":"VLOOKUP(B1111,'[1]Ko tgia'!$B$2:$M$1900,5,0)","v":"030203003060"},"30/01/2003",null,null,10,{"v":526500,"d":"526,500"},"K57TĐH.06","KĐ"]
[1111,"K215520216692","Nguyễn Văn Bắc",{"$f":"VLOOKUP(B1112,'[1]Ko tgia'!$B$2:$M$1900,4,0)","v":"3420653770"},{"$f":"VLOOKUP(B1112,'[1]Ko tgia'!$B$2:$M$1900,5,0)","v":"034203008604"},"02/04/2003",null,null,10,{"v":526500,"d":"526,500"},"K57TĐH.06","KĐ"]
[1112,"K215520216731","Nguyễn Như Phúc",{"$f":"VLOOKUP(B1113,'[1]Ko tgia'!$B$2:$M$1900,4,0)","v":"3621059312"},{"$f":"VLOOKUP(B1113,'[1]Ko tgia'!$B$2:$M$1900,5,0)","v":"036203009349"},"24/01/2003",null,null,10,{"v":526500,"d":"526,500"},"K57TĐH.06","KĐ"]
[1113,"K215520216703","Ninh Minh Giang",{"$f":"VLOOKUP(B1114,'[1]Ko tgia'!$B$2:$M$1900,4,0)","v":"3621142216"},{"$f":"VLOOKUP(B1114,'[1]Ko tgia'!$B$2:$M$1900,5,0)","v":"036203009465"},"17/02/2003",null,null,10,{"v":526500,"d":"526,500"},"K57TĐH.06","KĐ"]
[1114,"K215520216580","Nguyễn Hữu Hiệp",{"$f":"VLOOKUP(B1115,'[1]Ko tgia'!$B$2:$M$1900,4,0)","v":"4018014110"},{"$f":"VLOOKUP(B1115,'[1]Ko tgia'!$B$2:$M$1900,5,0)","v":"040203003309"},"16/08/2003",null,null,10,{"v":526500,"d":"526,500"},"K57TĐH.06","KĐ"]
[1115,"K215520216440","Nguyễn Trung Kiên",{"$f":"VLOOKUP(B1116,'[1]Ko tgia'!$B$2:$M$1900,4,0)","v":"1920035730"},null,"21/09/2003",null,null,10,{"v":526500,"d":"526,500"},"K57TĐH.07","KĐ"]
[1116,"K215520216207","Trần Lục Trung Hậu",{"$f":"VLOOKUP(B1117,'[1]Ko tgia'!$B$2:$M$1900,4,0)","v":"1920299195"},{"$f":"VLOOKUP(B1117,'[1]Ko tgia'!$B$2:$M$1900,5,0)","v":"019203011964"},"09/01/2003",null,null,10,{"v":526500,"d":"526,500"},"K57TĐH.07","KĐ"]
[1117,"K215520216627","Nguyễn Bình An",{"$f":"VLOOKUP(B1118,'[1]Ko tgia'!$B$2:$M$1900,4,0)","v":"2420125646"},{"$f":"VLOOKUP(B1118,'[1]Ko tgia'!$B$2:$M$1900,5,0)","v":"024203001184"},"29/03/2003",null,null,10,{"v":526500,"d":"526,500"},"K57TĐH.07","KĐ"]
[1118,"K215520216799","Trịnh Minh Thắng",{"$f":"VLOOKUP(B1119,'[1]Ko tgia'!$B$2:$M$1900,4,0)","v":"2420323725"},{"$f":"VLOOKUP(B1119,'[1]Ko tgia'!$B$2:$M$1900,5,0)","v":"024203003395"},"31/08/2003",null,null,10,{"v":526500,"d":"526,500"},"K57TĐH.07","KĐ"]
[1119,"K215520216647","Lương Việt Hoàng",{"$f":"VLOOKUP(B1120,'[1]Ko tgia'!$B$2:$M$1900,4,0)","v":"3020655982"},{"$f":"VLOOKUP(B1120,'[1]Ko tgia'!$B$2:$M$1900,5,0)","v":"030203006615"},"28/06/2003",null,null,10,{"v":526500,"d":"526,500"},"K57TĐH.07","KĐ"]
[1120,"K215520216007","Nguyễn Việt Đức",{"$f":"VLOOKUP(B1121,'[1]Ko tgia'!$B$2:$M$1900,4,0)","v":"3821251315"},{"$f":"VLOOKUP(B1121,'[1]Ko tgia'!$B$2:$M$1900,5,0)","v":"038202019059"},"30/09/2002",null,null,10,{"v":526500,"d":"526,500"},"K57TĐH.07","KĐ"]
[1121,"K215520216408","Tô Nhật Thành",{"$f":"VLOOKUP(B1122,'[1]Ko tgia'!$B$2:$M$1900,4,0)","v":"0620224637"},{"$f":"VLOOKUP(B1122,'[1]Ko tgia'!$B$2:$M$1900,5,0)","v":"006203000202"},"10/08/2003",null,null,10,{"v":526500,"d":"526,500"},"K57TĐH.08","KĐ"]
[1122,"K215520216633","Phạm Hùng Cường",{"$f":"VLOOKUP(B1123,'[1]Ko tgia'!$B$2:$M$1900,4,0)","v":"1920025822"},{"$f":"VLOOKUP(B1123,'[1]Ko tgia'!$B$2:$M$1900,5,0)","v":"019203007717"},"17/02/2003",null,null,10,{"v":526500,"d":"526,500"},"K57TĐH.08","KĐ"]
[1123,"K215520216124","Nịnh Xuân Hiệp",{"$f":"VLOOKUP(B1124,'[1]Ko tgia'!$B$2:$M$1900,4,0)","v":"1920202954"},null,"09/08/2003",null,null,10,{"v":526500,"d":"526,500"},"K57TĐH.08","KĐ"]
[1124,"K215520216035","Bùi Sơn Hà",{"$f":"VLOOKUP(B1125,'[1]Ko tgia'!$B$2:$M$1900,4,0)","v":"1920576999"},{"$f":"VLOOKUP(B1125,'[1]Ko tgia'!$B$2:$M$1900,5,0)","v":"019203001211"},"29/06/2003",null,null,10,{"v":526500,"d":"526,500"},"K57TĐH.08","KĐ"]
[1125,"K215520216454","Nguyễn Nam Chính",{"$f":"VLOOKUP(B1126,'[1]Ko tgia'!$B$2:$M$1900,4,0)","v":"1920921391"},{"$f":"VLOOKUP(B1126,'[1]Ko tgia'!$B$2:$M$1900,5,0)","v":"019203006481"},"09/05/2003",null,null,10,{"v":526500,"d":"526,500"},"K57TĐH.08","KĐ"]
[1126,"K215520216378","Nguyễn Như Hùng",{"$f":"VLOOKUP(B1127,'[1]Ko tgia'!$B$2:$M$1900,4,0)","v":"1921038886"},{"$f":"VLOOKUP(B1127,'[1]Ko tgia'!$B$2:$M$1900,5,0)","v":"019203002236"},"18/01/2003",null,null,10,{"v":526500,"d":"526,500"},"K57TĐH.08","KĐ"]
[1127,"K215520216381","Nguyễn Quang Huy",{"$f":"VLOOKUP(B1128,'[1]Ko tgia'!$B$2:$M$1900,4,0)","v":"1921056783"},{"$f":"VLOOKUP(B1128,'[1]Ko tgia'!$B$2:$M$1900,5,0)","v":"019203000452"},"11/12/2003",null,null,10,{"v":526500,"d":"526,500"},"K57TĐH.08","KĐ"]
[1128,"K215520216340","Trần Thanh Tùng",{"$f":"VLOOKUP(B1129,'[1]Ko tgia'!$B$2:$M$1900,4,0)","v":"1921180809"},null,"20/11/2003",null,null,10,{"v":526500,"d":"526,500"},"K57TĐH.08","KĐ"]
[1129,"K215520216310","Phạm Văn Mạnh",{"$f":"VLOOKUP(B1130,'[1]Ko tgia'!$B$2:$M$1900,4,0)","v":"2421619283"},{"$f":"VLOOKUP(B1130,'[1]Ko tgia'!$B$2:$M$1900,5,0)","v":"024203004402"},"16/12/2003",null,null,10,{"v":526500,"d":"526,500"},"K57TĐH.08","KĐ"]
[1130,"K215520216004","Đào Ích Đại",{"$f":"VLOOKUP(B1131,'[1]Ko tgia'!$B$2:$M$1900,4,0)","v":"2721122680"},{"$f":"VLOOKUP(B1131,'[1]Ko tgia'!$B$2:$M$1900,5,0)","v":"027201002294"},"10/11/2001",null,null,10,{"v":526500,"d":"526,500"},"K57TĐH.08","KĐ"]
[1131,"K215520216040","Hà Minh Hiếu",{"$f":"VLOOKUP(B1132,'[1]Ko tgia'!$B$2:$M$1900,4,0)","v":"1920043832"},{"$f":"VLOOKUP(B1132,'[1]Ko tgia'!$B$2:$M$1900,5,0)","v":"019203002498"},"21/11/2003",null,null,10,{"v":526500,"d":"526,500"},"K57TĐH.09","KĐ"]
[1132,"K215520216621","Bùi Anh Tuấn",{"$f":"VLOOKUP(B1133,'[1]Ko tgia'!$B$2:$M$1900,4,0)","v":"1920095003"},{"$f":"VLOOKUP(B1133,'[1]Ko tgia'!$B$2:$M$1900,5,0)","v":"019203003139"},"26/08/2003",null,null,10,{"v":526500,"d":"526,500"},"K57TĐH.09","KĐ"]
[1133,"K215520216151","Hoàng Xuân Ninh",{"$f":"VLOOKUP(B1134,'[1]Ko tgia'!$B$2:$M$1900,4,0)","v":"1920195385"},{"$f":"VLOOKUP(B1134,'[1]Ko tgia'!$B$2:$M$1900,5,0)","v":"034203012115"},"29/09/2003",null,null,10,{"v":526500,"d":"526,500"},"K57TĐH.09","KĐ"]
[1134,"K215520216783","Bùi Duy Linh",{"$f":"VLOOKUP(B1135,'[1]Ko tgia'!$B$2:$M$1900,4,0)","v":"1920293879"},{"$f":"VLOOKUP(B1135,'[1]Ko tgia'!$B$2:$M$1900,5,0)","v":"019203002641"},"13/10/2003",null,null,10,{"v":526500,"d":"526,500"},"K57TĐH.09","KĐ"]
[1135,"K215520216190","Lê Huy Cường",{"$f":"VLOOKUP(B1136,'[1]Ko tgia'!$B$2:$M$1900,4,0)","v":"1920631617"},{"$f":"VLOOKUP(B1136,'[1]Ko tgia'!$B$2:$M$1900,5,0)","v":"019203003249"},"29/11/2003",null,null,10,{"v":526500,"d":"526,500"},"K57TĐH.09","KĐ"]
[1136,"K215520216798","Nguyễn Văn Sơn",{"$f":"VLOOKUP(B1137,'[1]Ko tgia'!$B$2:$M$1900,4,0)","v":"1921021132"},{"$f":"VLOOKUP(B1137,'[1]Ko tgia'!$B$2:$M$1900,5,0)","v":"019203001038"},"13/02/2003",null,null,10,{"v":526500,"d":"526,500"},"K57TĐH.09","KĐ"]
[1137,"K215520216811","Nguyễn Thanh Tùng",{"$f":"VLOOKUP(B1138,'[1]Ko tgia'!$B$2:$M$1900,4,0)","v":"1921118695"},{"$f":"VLOOKUP(B1138,'[1]Ko tgia'!$B$2:$M$1900,5,0)","v":"019203002676"},"25/10/2003",null,null,10,{"v":526500,"d":"526,500"},"K57TĐH.09","KĐ"]
[1138,"K215520216789","Nguyễn Việt Nam",{"$f":"VLOOKUP(B1139,'[1]Ko tgia'!$B$2:$M$1900,4,0)","v":"1921318309"},{"$f":"VLOOKUP(B1139,'[1]Ko tgia'!$B$2:$M$1900,5,0)","v":"019203001551"},"09/12/2003",null,null,10,{"v":526500,"d":"526,500"},"K57TĐH.09","KĐ"]
[1139,"K215520216500","Dương Quốc An",{"$f":"VLOOKUP(B1140,'[1]Ko tgia'!$B$2:$M$1900,4,0)","v":"1921434116"},{"$f":"VLOOKUP(B1140,'[1]Ko tgia'!$B$2:$M$1900,5,0)","v":"019203009964"},"01/09/2003",null,null,10,{"v":526500,"d":"526,500"},"K57TĐH.09","KĐ"]
[1140,"K215520216527","Nguyễn Hoàng Khánh",{"$f":"VLOOKUP(B1141,'[1]Ko tgia'!$B$2:$M$1900,4,0)","v":"2420130290"},{"$f":"VLOOKUP(B1141,'[1]Ko tgia'!$B$2:$M$1900,5,0)","v":"024203001515"},"24/07/2003",null,null,10,{"v":526500,"d":"526,500"},"K57TĐH.09","KĐ"]
[1141,"K215520216593","Đoàn Thế Kiên",{"$f":"VLOOKUP(B1142,'[1]Ko tgia'!$B$2:$M$1900,4,0)","v":"2421354879"},{"$f":"VLOOKUP(B1142,'[1]Ko tgia'!$B$2:$M$1900,5,0)","v":"024203000331"},"18/12/2003",null,null,10,{"v":526500,"d":"526,500"},"K57TĐH.09","KĐ"]
[1142,"K215520216791","Nguyễn Văn Ngọc",{"$f":"VLOOKUP(B1143,'[1]Ko tgia'!$B$2:$M$1900,4,0)","v":"2421375624"},{"$f":"VLOOKUP(B1143,'[1]Ko tgia'!$B$2:$M$1900,5,0)","v":"024203005194"},"04/02/2003",null,null,10,{"v":526500,"d":"526,500"},"K57TĐH.09","KĐ"]
[1143,"K215520216807","Nguyễn Thành Trung",{"$f":"VLOOKUP(B1144,'[1]Ko tgia'!$B$2:$M$1900,4,0)","v":"2421976620"},{"$f":"VLOOKUP(B1144,'[1]Ko tgia'!$B$2:$M$1900,5,0)","v":"024203015373"},"21/11/2003",null,null,10,{"v":526500,"d":"526,500"},"K57TĐH.09","KĐ"]
[1144,"K215520216767","Giáp Tuấn Hải",{"$f":"VLOOKUP(B1145,'[1]Ko tgia'!$B$2:$M$1900,4,0)","v":"2422394572"},{"$f":"VLOOKUP(B1145,'[1]Ko tgia'!$B$2:$M$1900,5,0)","v":"024203002256"},"26/06/2003",null,null,10,{"v":526500,"d":"526,500"},"K57TĐH.09","KĐ"]
[1145,"K215520216797","Nguyễn Đức Quyết",{"$f":"VLOOKUP(B1146,'[1]Ko tgia'!$B$2:$M$1900,4,0)","v":"2720519106"},{"$f":"VLOOKUP(B1146,'[1]Ko tgia'!$B$2:$M$1900,5,0)","v":"027203001205"},"28/05/2003",null,null,10,{"v":526500,"d":"526,500"},"K57TĐH.09","KĐ"]
[1146,"K215520216815","Lê Gia Vương",{"$f":"VLOOKUP(B1147,'[1]Ko tgia'!$B$2:$M$1900,4,0)","v":"3420549106"},{"$f":"VLOOKUP(B1147,'[1]Ko tgia'!$B$2:$M$1900,5,0)","v":"034203003681"},"24/07/2003",null,null,10,{"v":526500,"d":"526,500"},"K57TĐH.09","KĐ"]
[1147,"K215520216680","Lê Văn Tình",{"$f":"VLOOKUP(B1148,'[1]Ko tgia'!$B$2:$M$1900,4,0)","v":"1920210370"},null,"09/09/2003",null,null,10,{"v":526500,"d":"526,500"},"K57TĐH-CLC.01","KĐ"]
[1148,"K215520216060","Vũ Bá Mạnh",{"$f":"VLOOKUP(B1149,'[1]Ko tgia'!$B$2:$M$1900,4,0)","v":"1921141548"},{"$f":"VLOOKUP(B1149,'[1]Ko tgia'!$B$2:$M$1900,5,0)","v":"030203006888"},"28/05/2003",null,null,10,{"v":526500,"d":"526,500"},"K57TĐH-CLC.01","KĐ"]
[1149,"K215520216670","Đỗ Huy Quang",{"$f":"VLOOKUP(B1150,'[1]Ko tgia'!$B$2:$M$1900,4,0)","v":"2420056387"},{"$f":"VLOOKUP(B1150,'[1]Ko tgia'!$B$2:$M$1900,5,0)","v":"024203001720"},"12/01/2003",null,null,10,{"v":526500,"d":"526,500"},"K57TĐH-CLC.01","KĐ"]
[1150,"K215520216484","Vũ Lê Huy Hoàng",{"$f":"VLOOKUP(B1151,'[1]Ko tgia'!$B$2:$M$1900,4,0)","v":"2420541066"},{"$f":"VLOOKUP(B1151,'[1]Ko tgia'!$B$2:$M$1900,5,0)","v":"024203003840"},"11/01/2003",null,null,10,{"v":526500,"d":"526,500"},"K57TĐH-CLC.01","KĐ"]
[1151,"K215520216796","Nguyễn Hữu Quí",{"$f":"VLOOKUP(B1152,'[1]Ko tgia'!$B$2:$M$1900,4,0)","v":"2620532277"},{"$f":"VLOOKUP(B1152,'[1]Ko tgia'!$B$2:$M$1900,5,0)","v":"026203006543"},"31/05/2003",null,null,10,{"v":526500,"d":"526,500"},"K57TĐH-CLC.01","KĐ"]
[1152,"K215520216676","Nguyễn Đức Thành",{"$f":"VLOOKUP(B1153,'[1]Ko tgia'!$B$2:$M$1900,4,0)","v":"2720170800"},{"$f":"VLOOKUP(B1153,'[1]Ko tgia'!$B$2:$M$1900,5,0)","v":"027203000641"},"10/10/2003",null,null,10,{"v":526500,"d":"526,500"},"K57TĐH-CLC.01","KĐ"]
[1153,"K225520201165","Tạ Doãn Minh Đức",{"$f":"VLOOKUP(B1154,'[1]Ko tgia'!$B$2:$M$1900,4,0)","v":"0124514602"},{"$f":"VLOOKUP(B1154,'[1]Ko tgia'!$B$2:$M$1900,5,0)","v":"034201011407"},"28/01/2001",null,null,10,{"v":526500,"d":"526,500"},"K58ĐCN.K01","KĐ"]
[1154,"K225520201161","Nguyễn Minh Tuấn",{"$f":"VLOOKUP(B1155,'[1]Ko tgia'!$B$2:$M$1900,4,0)","v":"0220915910"},{"$f":"VLOOKUP(B1155,'[1]Ko tgia'!$B$2:$M$1900,5,0)","v":"002204001421"},"20/10/2004",null,null,10,{"v":526500,"d":"526,500"},"K58ĐCN.K01","KĐ"]
[1155,"K225520201102","Hà Thị Ngọc Hương",{"$f":"VLOOKUP(B1156,'[1]Ko tgia'!$B$2:$M$1900,4,0)","v":"0620275586"},{"$f":"VLOOKUP(B1156,'[1]Ko tgia'!$B$2:$M$1900,5,0)","v":"006304005508"},"09/01/2004",{"$f":"VLOOKUP(B1156,'[2]Ko tgia'!$C$2:$K$9900,8,0)","v":"x"},null,10,{"v":526500,"d":"526,500"},"K58ĐCN.K01","KĐ"]
[1156,"K225520201152","Phùng Văn Toàn",{"$f":"VLOOKUP(B1157,'[1]Ko tgia'!$B$2:$M$1900,4,0)","v":"2420234764"},{"$f":"VLOOKUP(B1157,'[1]Ko tgia'!$B$2:$M$1900,5,0)","v":"024204011050"},"18/12/2004",null,null,10,{"v":526500,"d":"526,500"},"K58ĐCN.K01","KĐ"]
[1157,"K225520201002","Nguyễn Đức Anh",{"$f":"VLOOKUP(B1158,'[1]Ko tgia'!$B$2:$M$1900,4,0)","v":"2421556222"},{"$f":"VLOOKUP(B1158,'[1]Ko tgia'!$B$2:$M$1900,5,0)","v":"024204009532"},"06/09/2004",null,null,10,{"v":526500,"d":"526,500"},"K58ĐCN.K01","KĐ"]
[1158,"K225520201043","Võ Văn Mạnh",{"$f":"VLOOKUP(B1159,'[1]Ko tgia'!$B$2:$M$1900,4,0)","v":"2421916831"},{"$f":"VLOOKUP(B1159,'[1]Ko tgia'!$B$2:$M$1900,5,0)","v":"024204000369"},"19/06/2004",null,null,10,{"v":526500,"d":"526,500"},"K58ĐCN.K01","KĐ"]
[1159,"K225520201182","Quản Đức Hiệp",{"$f":"VLOOKUP(B1160,'[1]Ko tgia'!$B$2:$M$1900,4,0)","v":"2521057307"},{"$f":"VLOOKUP(B1160,'[1]Ko tgia'!$B$2:$M$1900,5,0)","v":"025202003772"},"22/06/2002",null,null,10,{"v":526500,"d":"526,500"},"K58ĐCN.K01","KĐ"]
[1160,"K225520216125","Vũ Minh Quang",{"$f":"VLOOKUP(B1161,'[1]Ko tgia'!$B$2:$M$1900,4,0)","v":"0120730037"},{"$f":"VLOOKUP(B1161,'[1]Ko tgia'!$B$2:$M$1900,5,0)","v":"019204000151"},"21/01/2004",null,null,10,{"v":526500,"d":"526,500"},"K58ĐĐK.K01","KĐ"]
[1161,"K225520216184","Trần Trung Kiên",{"$f":"VLOOKUP(B1162,'[1]Ko tgia'!$B$2:$M$1900,4,0)","v":"0121206433"},{"$f":"VLOOKUP(B1162,'[1]Ko tgia'!$B$2:$M$1900,5,0)","v":"001204011060"},"21/07/2004",null,null,10,{"v":526500,"d":"526,500"},"K58ĐĐK.K01","KĐ"]
[1162,"K225520216458","Trần Đại Minh",{"$f":"VLOOKUP(B1163,'[1]Ko tgia'!$B$2:$M$1900,4,0)","v":"0129430791"},{"$f":"VLOOKUP(B1163,'[1]Ko tgia'!$B$2:$M$1900,5,0)","v":"019204001400"},"15/03/2004",null,null,10,{"v":526500,"d":"526,500"},"K58ĐĐK.K01","KĐ"]
[1163,"K225520216449","Lương Trung Hoài",{"$f":"VLOOKUP(B1164,'[1]Ko tgia'!$B$2:$M$1900,4,0)","v":"0420008306"},{"$f":"VLOOKUP(B1164,'[1]Ko tgia'!$B$2:$M$1900,5,0)","v":"004204001072"},"21/07/2004",null,null,10,{"v":526500,"d":"526,500"},"K58ĐĐK.K01","KĐ"]
[1164,"K225520216212","Phan Minh Tú",{"$f":"VLOOKUP(B1165,'[1]Ko tgia'!$B$2:$M$1900,4,0)","v":"1920026973"},{"$f":"VLOOKUP(B1165,'[1]Ko tgia'!$B$2:$M$1900,5,0)","v":"019204004462"},"14/10/2004",null,null,10,{"v":526500,"d":"526,500"},"K58ĐĐK.K01","KĐ"]
[1165,"K225520216164","Trần Hoàng Dương",{"$f":"VLOOKUP(B1166,'[1]Ko tgia'!$B$2:$M$1900,4,0)","v":"1920070434"},{"$f":"VLOOKUP(B1166,'[1]Ko tgia'!$B$2:$M$1900,5,0)","v":"019204004818"},"08/07/2004",null,null,10,{"v":526500,"d":"526,500"},"K58ĐĐK.K01","KĐ"]
[1166,"K225520216111","Nguyễn Trung Kiên",{"$f":"VLOOKUP(B1167,'[1]Ko tgia'!$B$2:$M$1900,4,0)","v":"1920151388"},{"$f":"VLOOKUP(B1167,'[1]Ko tgia'!$B$2:$M$1900,5,0)","v":"019204009587"},"17/04/2004",null,null,10,{"v":526500,"d":"526,500"},"K58ĐĐK.K01","KĐ"]
[1167,"K225520216453","Ngô Quang Huy",{"$f":"VLOOKUP(B1168,'[1]Ko tgia'!$B$2:$M$1900,4,0)","v":"1920173938"},{"$f":"VLOOKUP(B1168,'[1]Ko tgia'!$B$2:$M$1900,5,0)","v":"019204002651"},"06/06/2004",null,null,10,{"v":526500,"d":"526,500"},"K58ĐĐK.K01","KĐ"]
[1168,"K225520216092","Trần Đại Dương",{"$f":"VLOOKUP(B1169,'[1]Ko tgia'!$B$2:$M$1900,4,0)","v":"1920987054"},{"$f":"VLOOKUP(B1169,'[1]Ko tgia'!$B$2:$M$1900,5,0)","v":"019204007436"},"29/01/2004",null,null,10,{"v":526500,"d":"526,500"},"K58ĐĐK.K01","KĐ"]
[1169,"K225520216107","Phạm Văn Huy",{"$f":"VLOOKUP(B1170,'[1]Ko tgia'!$B$2:$M$1900,4,0)","v":"1921090390"},{"$f":"VLOOKUP(B1170,'[1]Ko tgia'!$B$2:$M$1900,5,0)","v":"019204002443"},"30/08/2004",null,null,10,{"v":526500,"d":"526,500"},"K58ĐĐK.K01","KĐ"]
[1170,"K225520216171","Trần Đức Hòa",{"$f":"VLOOKUP(B1171,'[1]Ko tgia'!$B$2:$M$1900,4,0)","v":"2020035217"},{"$f":"VLOOKUP(B1171,'[1]Ko tgia'!$B$2:$M$1900,5,0)","v":"020204000584"},"14/10/2004",null,null,10,{"v":526500,"d":"526,500"},"K58ĐĐK.K01","KĐ"]
[1171,"K225520216093","Chu Mạnh Duy",{"$f":"VLOOKUP(B1172,'[1]Ko tgia'!$B$2:$M$1900,4,0)","v":"2420022031"},{"$f":"VLOOKUP(B1172,'[1]Ko tgia'!$B$2:$M$1900,5,0)","v":"024204000790"},"13/04/2004",null,null,10,{"v":526500,"d":"526,500"},"K58ĐĐK.K01","KĐ"]
[1172,"K225520216487","Vũ Văn Chinh",{"$f":"VLOOKUP(B1173,'[1]Ko tgia'!$B$2:$M$1900,4,0)","v":"2420257216"},{"$f":"VLOOKUP(B1173,'[1]Ko tgia'!$B$2:$M$1900,5,0)","v":"024203005717"},"12/08/2003",null,null,10,{"v":526500,"d":"526,500"},"K58ĐĐK.K01","KĐ"]
[1173,"K225520216484","Phạm Hữu Quý",{"$f":"VLOOKUP(B1174,'[1]Ko tgia'!$B$2:$M$1900,4,0)","v":"2421377258"},{"$f":"VLOOKUP(B1174,'[1]Ko tgia'!$B$2:$M$1900,5,0)","v":"024203014541"},"27/10/2003",null,null,10,{"v":526500,"d":"526,500"},"K58ĐĐK.K01","KĐ"]
[1174,"K225520216139","Trần Xuân Trường",{"$f":"VLOOKUP(B1175,'[1]Ko tgia'!$B$2:$M$1900,4,0)","v":"3020302179"},{"$f":"VLOOKUP(B1175,'[1]Ko tgia'!$B$2:$M$1900,5,0)","v":"030204007802"},"19/09/2004",null,null,10,{"v":526500,"d":"526,500"},"K58ĐĐK.K01","KĐ"]
[1175,"K225520201012","Nguyễn Quang Đạt",{"$f":"VLOOKUP(B1176,'[1]Ko tgia'!$B$2:$M$1900,4,0)","v":"0107059069"},{"$f":"VLOOKUP(B1176,'[1]Ko tgia'!$B$2:$M$1900,5,0)","v":"001204044193"},"01/11/2004",null,null,10,{"v":526500,"d":"526,500"},"K58HTĐ.K01","KĐ"]
[1176,"K225520201047","Nguyễn Trung Nam",{"$f":"VLOOKUP(B1177,'[1]Ko tgia'!$B$2:$M$1900,4,0)","v":"0820143560"},{"$f":"VLOOKUP(B1177,'[1]Ko tgia'!$B$2:$M$1900,5,0)","v":"008204004167"},"26/05/2004",null,null,10,{"v":526500,"d":"526,500"},"K58HTĐ.K01","KĐ"]
[1177,"K225520201050","Nguyễn Hoàng Ngọc",{"$f":"VLOOKUP(B1178,'[1]Ko tgia'!$B$2:$M$1900,4,0)","v":"0820597802"},{"$f":"VLOOKUP(B1178,'[1]Ko tgia'!$B$2:$M$1900,5,0)","v":"008204004735"},"22/04/2004",null,null,10,{"v":526500,"d":"526,500"},"K58HTĐ.K01","KĐ"]
[1178,"K225520201051","Ma Thanh Phùng",{"$f":"VLOOKUP(B1179,'[1]Ko tgia'!$B$2:$M$1900,4,0)","v":"1520216510"},{"$f":"VLOOKUP(B1179,'[1]Ko tgia'!$B$2:$M$1900,5,0)","v":"015204000434"},"30/01/2004",null,null,10,{"v":526500,"d":"526,500"},"K58HTĐ.K01","KĐ"]
[1179,"K225520201146","Cù Anh Tuấn",{"$f":"VLOOKUP(B1180,'[1]Ko tgia'!$B$2:$M$1900,4,0)","v":"1920079316"},{"$f":"VLOOKUP(B1180,'[1]Ko tgia'!$B$2:$M$1900,5,0)","v":"019203012704"},"02/11/2003",null,null,10,{"v":526500,"d":"526,500"},"K58HTĐ.K01","KĐ"]
[1180,"K225520201064","Lê Quang Trung",{"$f":"VLOOKUP(B1181,'[1]Ko tgia'!$B$2:$M$1900,4,0)","v":"2020037787"},{"$f":"VLOOKUP(B1181,'[1]Ko tgia'!$B$2:$M$1900,5,0)","v":"020204001414"},"17/01/2004",null,null,10,{"v":526500,"d":"526,500"},"K58HTĐ.K01","KĐ"]
[1181,"K225520201056","Chu Thanh Sơn",{"$f":"VLOOKUP(B1182,'[1]Ko tgia'!$B$2:$M$1900,4,0)","v":"2420492714"},{"$f":"VLOOKUP(B1182,'[1]Ko tgia'!$B$2:$M$1900,5,0)","v":"024204012003"},"23/01/2004",null,null,10,{"v":526500,"d":"526,500"},"K58HTĐ.K01","KĐ"]
[1182,"K225520201060","Trần Quốc Thịnh",{"$f":"VLOOKUP(B1183,'[1]Ko tgia'!$B$2:$M$1900,4,0)","v":"2521514655"},{"$f":"VLOOKUP(B1183,'[1]Ko tgia'!$B$2:$M$1900,5,0)","v":"025204002188"},"16/12/2004",null,null,10,{"v":526500,"d":"526,500"},"K58HTĐ.K01","KĐ"]
[1183,"K225520114063","Nguyễn Vũ Thành",{"$f":"VLOOKUP(B1184,'[1]Ko tgia'!$B$2:$M$1900,4,0)","v":"2620021516"},{"$f":"VLOOKUP(B1184,'[1]Ko tgia'!$B$2:$M$1900,5,0)","v":"026204000053"},"15/05/2004",null,null,10,{"v":526500,"d":"526,500"},"K58HTĐ.K01","KĐ"]
[1184,"K225520201079","Phạm Lê Hải Đăng",{"$f":"VLOOKUP(B1185,'[1]Ko tgia'!$B$2:$M$1900,4,0)","v":"1920022240"},{"$f":"VLOOKUP(B1185,'[1]Ko tgia'!$B$2:$M$1900,5,0)","v":"019204000275"},"03/07/2004",null,null,10,{"v":526500,"d":"526,500"},"K58KTĐ.K01","KĐ"]
[1185,"K225520201087","Tạ Tùng Dương",{"$f":"VLOOKUP(B1186,'[1]Ko tgia'!$B$2:$M$1900,4,0)","v":"1920503093"},{"$f":"VLOOKUP(B1186,'[1]Ko tgia'!$B$2:$M$1900,5,0)","v":"019204002427"},"12/12/2004",null,null,10,{"v":526500,"d":"526,500"},"K58KTĐ.K01","KĐ"]
[1186,"K225520201123","Chu Hồng Quân",{"$f":"VLOOKUP(B1187,'[1]Ko tgia'!$B$2:$M$1900,4,0)","v":"1920766153"},{"$f":"VLOOKUP(B1187,'[1]Ko tgia'!$B$2:$M$1900,5,0)","v":"019204000563"},"28/03/2004",null,null,10,{"v":526500,"d":"526,500"},"K58KTĐ.K01","KĐ"]
[1187,"K225520201128","Đồng Quang Thái",{"$f":"VLOOKUP(B1188,'[1]Ko tgia'!$B$2:$M$1900,4,0)","v":"1921305207"},{"$f":"VLOOKUP(B1188,'[1]Ko tgia'!$B$2:$M$1900,5,0)","v":"019204006544"},"05/06/2004",null,null,10,{"v":526500,"d":"526,500"},"K58KTĐ.K01","KĐ"]
[1188,"K225520201176","Nguyễn Quốc Đại",{"$f":"VLOOKUP(B1189,'[1]Ko tgia'!$B$2:$M$1900,4,0)","v":"2421346724"},{"$f":"VLOOKUP(B1189,'[1]Ko tgia'!$B$2:$M$1900,5,0)","v":"019204004310"},"28/09/2004",null,null,10,{"v":526500,"d":"526,500"},"K58KTĐ.K01","KĐ"]
[1189,"K225520201143","Lưu Văn Tiến",{"$f":"VLOOKUP(B1190,'[1]Ko tgia'!$B$2:$M$1900,4,0)","v":"2422072542"},{"$f":"VLOOKUP(B1190,'[1]Ko tgia'!$B$2:$M$1900,5,0)","v":"024204008469"},"04/10/2004",null,null,10,{"v":526500,"d":"526,500"},"K58KTĐ.K01","KĐ"]
[1190,"K225520201129","Hoàng Trung Thành",{"$f":"VLOOKUP(B1191,'[1]Ko tgia'!$B$2:$M$1900,4,0)","v":"4017977908"},{"$f":"VLOOKUP(B1191,'[1]Ko tgia'!$B$2:$M$1900,5,0)","v":"040203021910"},"08/11/2003",null,null,10,{"v":526500,"d":"526,500"},"K58KTĐ.K01","KĐ"]
[1191,"K225520201053","Nguyễn Minh Quang",{"$f":"VLOOKUP(B1192,'[1]Ko tgia'!$B$2:$M$1900,4,0)","v":"1920098734"},{"$f":"VLOOKUP(B1192,'[1]Ko tgia'!$B$2:$M$1900,5,0)","v":"019204002713"},"29/10/2004",null,null,10,{"v":526500,"d":"526,500"},"K58TBĐ.K01","KĐ"]
[1192,"K225520201155","Phạm Quang Tùng",{"$f":"VLOOKUP(B1193,'[1]Ko tgia'!$B$2:$M$1900,4,0)","v":"1920311245"},{"$f":"VLOOKUP(B1193,'[1]Ko tgia'!$B$2:$M$1900,5,0)","v":"019204007681"},"27/01/2004",null,null,10,{"v":526500,"d":"526,500"},"K58TBĐ.K01","KĐ"]
[1193,"K225520216441","Đặng Thành Đạt",{"$f":"VLOOKUP(B1194,'[1]Ko tgia'!$B$2:$M$1900,4,0)","v":"0124785671"},{"$f":"VLOOKUP(B1194,'[1]Ko tgia'!$B$2:$M$1900,5,0)","v":"001204036625"},"14/10/2004",null,null,10,{"v":526500,"d":"526,500"},"K58TĐH.K01","KĐ"]
[1194,"K225520216068","Thành phố Hồ Chí Minh",{"$f":"VLOOKUP(B1195,'[1]Ko tgia'!$B$2:$M$1900,4,0)","v":"1220175295"},{"$f":"VLOOKUP(B1195,'[1]Ko tgia'!$B$2:$M$1900,5,0)","v":"019204010811"},"17/10/2004",null,null,10,{"v":526500,"d":"526,500"},"K58TĐH.K01","KĐ"]
[1195,"K225520216009","Nguyễn Thành Công",{"$f":"VLOOKUP(B1196,'[1]Ko tgia'!$B$2:$M$1900,4,0)","v":"1920028234"},{"$f":"VLOOKUP(B1196,'[1]Ko tgia'!$B$2:$M$1900,5,0)","v":"019204001700"},"04/03/2004",null,null,10,{"v":526500,"d":"526,500"},"K58TĐH.K01","KĐ"]
[1196,"K225520216006","Khương Xuân Bắc",{"$f":"VLOOKUP(B1197,'[1]Ko tgia'!$B$2:$M$1900,4,0)","v":"1920280570"},{"$f":"VLOOKUP(B1197,'[1]Ko tgia'!$B$2:$M$1900,5,0)","v":"01920 400 2334"},"02/11/2004",null,null,10,{"v":526500,"d":"526,500"},"K58TĐH.K01","KĐ"]
[1197,"K225520216401","Vũ Hồng Phi Long",{"$f":"VLOOKUP(B1198,'[1]Ko tgia'!$B$2:$M$1900,4,0)","v":"1920469098"},{"$f":"VLOOKUP(B1198,'[1]Ko tgia'!$B$2:$M$1900,5,0)","v":"019204002693"},"12/10/2004",null,null,10,{"v":526500,"d":"526,500"},"K58TĐH.K01","KĐ"]
[1198,"K225520216054","Nguyễn Hải Sơn",{"$f":"VLOOKUP(B1199,'[1]Ko tgia'!$B$2:$M$1900,4,0)","v":"1920474780"},{"$f":"VLOOKUP(B1199,'[1]Ko tgia'!$B$2:$M$1900,5,0)","v":"030204006771"},"13/07/2004",null,null,10,{"v":526500,"d":"526,500"},"K58TĐH.K01","KĐ"]
[1199,"K225520216071","Hoàng Quốc Việt",{"$f":"VLOOKUP(B1200,'[1]Ko tgia'!$B$2:$M$1900,4,0)","v":"1920575537"},{"$f":"VLOOKUP(B1200,'[1]Ko tgia'!$B$2:$M$1900,5,0)","v":"019204000605"},"15/11/2004",null,null,10,{"v":526500,"d":"526,500"},"K58TĐH.K01","KĐ"]
[1200,"K225520216034","Lương Vũ Huy",{"$f":"VLOOKUP(B1201,'[1]Ko tgia'!$B$2:$M$1900,4,0)","v":"1920737120"},{"$f":"VLOOKUP(B1201,'[1]Ko tgia'!$B$2:$M$1900,5,0)","v":"019204010782"},"05/04/2004",null,null,10,{"v":526500,"d":"526,500"},"K58TĐH.K01","KĐ"]
[1201,"K225520216064","Nguyễn Minh Trí",{"$f":"VLOOKUP(B1202,'[1]Ko tgia'!$B$2:$M$1900,4,0)","v":"1921261393"},{"$f":"VLOOKUP(B1202,'[1]Ko tgia'!$B$2:$M$1900,5,0)","v":"019204004535"},"30/04/2004",null,null,10,{"v":526500,"d":"526,500"},"K58TĐH.K01","KĐ"]
[1202,"K225520216008","Nguyễn Đức Bình",{"$f":"VLOOKUP(B1203,'[1]Ko tgia'!$B$2:$M$1900,4,0)","v":"1921442124"},{"$f":"VLOOKUP(B1203,'[1]Ko tgia'!$B$2:$M$1900,5,0)","v":"019204000725"},"18/02/2004",null,null,10,{"v":526500,"d":"526,500"},"K58TĐH.K01","KĐ"]
[1203,"K225520216486","Vũ Xuân Huy Bình",{"$f":"VLOOKUP(B1204,'[1]Ko tgia'!$B$2:$M$1900,4,0)","v":"1921526025"},{"$f":"VLOOKUP(B1204,'[1]Ko tgia'!$B$2:$M$1900,5,0)","v":"019204005027"},"05/10/2004",null,null,10,{"v":526500,"d":"526,500"},"K58TĐH.K01","KĐ"]
[1204,"K225520216049","Dương Minh Phong",{"$f":"VLOOKUP(B1205,'[1]Ko tgia'!$B$2:$M$1900,4,0)","v":"2420664551"},{"$f":"VLOOKUP(B1205,'[1]Ko tgia'!$B$2:$M$1900,5,0)","v":"024204001822"},"18/02/2004",null,null,10,{"v":526500,"d":"526,500"},"K58TĐH.K01","KĐ"]
[1205,"K225520216127","Giàng Trần Sơn",{"$f":"VLOOKUP(B1206,'[1]Ko tgia'!$B$2:$M$1900,4,0)","v":"0220096123"},{"$f":"VLOOKUP(B1206,'[1]Ko tgia'!$B$2:$M$1900,5,0)","v":"002204009872"},"18/12/2004",null,null,10,{"v":526500,"d":"526,500"},"K58TĐH.K02","KĐ"]
[1206,"K225520216217","Đỗ Quang Vũ",{"$f":"VLOOKUP(B1207,'[1]Ko tgia'!$B$2:$M$1900,4,0)","v":"0420044706"},null,"26/06/2004",null,null,10,{"v":526500,"d":"526,500"},"K58TĐH.K02","KĐ"]
[1207,"K225520216129","Vũ Quang Thái",{"$f":"VLOOKUP(B1208,'[1]Ko tgia'!$B$2:$M$1900,4,0)","v":"1920005645"},{"$f":"VLOOKUP(B1208,'[1]Ko tgia'!$B$2:$M$1900,5,0)","v":"019204000891"},"01/09/2004",null,null,10,{"v":526500,"d":"526,500"},"K58TĐH.K02","KĐ"]
[1208,"K225520216169","Nguyễn Mạnh Hiếu",{"$f":"VLOOKUP(B1209,'[1]Ko tgia'!$B$2:$M$1900,4,0)","v":"1920018059"},{"$f":"VLOOKUP(B1209,'[1]Ko tgia'!$B$2:$M$1900,5,0)","v":"019203009951"},"21/12/2003",null,null,10,{"v":526500,"d":"526,500"},"K58TĐH.K02","KĐ"]
[1209,"K225520216174","Nguyễn Việt Hoàng",{"$f":"VLOOKUP(B1210,'[1]Ko tgia'!$B$2:$M$1900,4,0)","v":"1920085726"},{"$f":"VLOOKUP(B1210,'[1]Ko tgia'!$B$2:$M$1900,5,0)","v":"019204001524"},"28/11/2004",null,null,10,{"v":526500,"d":"526,500"},"K58TĐH.K02","KĐ"]
[1210,"K225520216451","Dương Bảo Lâm",{"$f":"VLOOKUP(B1211,'[1]Ko tgia'!$B$2:$M$1900,4,0)","v":"1920114165"},{"$f":"VLOOKUP(B1211,'[1]Ko tgia'!$B$2:$M$1900,5,0)","v":"019204003045"},"27/04/2004",null,null,10,{"v":526500,"d":"526,500"},"K58TĐH.K02","KĐ"]
[1211,"K225520216192","Nguyễn Anh Nguyên",{"$f":"VLOOKUP(B1212,'[1]Ko tgia'!$B$2:$M$1900,4,0)","v":"1920155196"},{"$f":"VLOOKUP(B1212,'[1]Ko tgia'!$B$2:$M$1900,5,0)","v":"019204001897"},"15/04/2004",null,null,10,{"v":526500,"d":"526,500"},"K58TĐH.K02","KĐ"]
[1212,"K225520216214","Trần Duy Tùng",{"$f":"VLOOKUP(B1213,'[1]Ko tgia'!$B$2:$M$1900,4,0)","v":"1920467567"},{"$f":"VLOOKUP(B1213,'[1]Ko tgia'!$B$2:$M$1900,5,0)","v":"019204004124"},"22/08/2004",null,null,10,{"v":526500,"d":"526,500"},"K58TĐH.K02","KĐ"]
[1213,"K225520216478","Nguyễn Văn Hưởng",{"$f":"VLOOKUP(B1214,'[1]Ko tgia'!$B$2:$M$1900,4,0)","v":"1920499365"},{"$f":"VLOOKUP(B1214,'[1]Ko tgia'!$B$2:$M$1900,5,0)","v":"019204006428"},"08/12/2004",null,null,10,{"v":526500,"d":"526,500"},"K58TĐH.K02","KĐ"]
[1214,"K225520216148","Lê Thị Kim Anh",{"$f":"VLOOKUP(B1215,'[1]Ko tgia'!$B$2:$M$1900,4,0)","v":"1920992262"},{"$f":"VLOOKUP(B1215,'[1]Ko tgia'!$B$2:$M$1900,5,0)","v":"019304005323"},"03/12/2004",{"$f":"VLOOKUP(B1215,'[2]Ko tgia'!$C$2:$K$9900,8,0)","v":"x"},null,10,{"v":526500,"d":"526,500"},"K58TĐH.K02","KĐ"]
[1215,"K225520216479","Nguyễn Đăng Quang",{"$f":"VLOOKUP(B1216,'[1]Ko tgia'!$B$2:$M$1900,4,0)","v":"1920993299"},{"$f":"VLOOKUP(B1216,'[1]Ko tgia'!$B$2:$M$1900,5,0)","v":"019204009781"},"24/05/2004",null,null,10,{"v":526500,"d":"526,500"},"K58TĐH.K02","KĐ"]
[1216,"K225520216151","Nguyễn Văn Bách",{"$f":"VLOOKUP(B1217,'[1]Ko tgia'!$B$2:$M$1900,4,0)","v":"1921039407"},{"$f":"VLOOKUP(B1217,'[1]Ko tgia'!$B$2:$M$1900,5,0)","v":"019204001554"},"23/08/2004",null,null,10,{"v":526500,"d":"526,500"},"K58TĐH.K02","KĐ"]
[1217,"K225520216157","Vũ Mạnh Điệp",{"$f":"VLOOKUP(B1218,'[1]Ko tgia'!$B$2:$M$1900,4,0)","v":"2421517420"},{"$f":"VLOOKUP(B1218,'[1]Ko tgia'!$B$2:$M$1900,5,0)","v":"024204008879"},"14/08/2004",null,null,10,{"v":526500,"d":"526,500"},"K58TĐH.K02","KĐ"]
[1218,"K225520216211","Nguyễn Xuân Trường",{"$f":"VLOOKUP(B1219,'[1]Ko tgia'!$B$2:$M$1900,4,0)","v":"2421594900"},{"$f":"VLOOKUP(B1219,'[1]Ko tgia'!$B$2:$M$1900,5,0)","v":"024204010674"},"28/10/2004",null,null,10,{"v":526500,"d":"526,500"},"K58TĐH.K02","KĐ"]
[1219,"K225520216170","Nguyễn Quang Hiều",{"$f":"VLOOKUP(B1220,'[1]Ko tgia'!$B$2:$M$1900,4,0)","v":"2721510243"},{"$f":"VLOOKUP(B1220,'[1]Ko tgia'!$B$2:$M$1900,5,0)","v":"027204008696"},"01/10/2004",null,null,10,{"v":526500,"d":"526,500"},"K58TĐH.K02","KĐ"]
[1220,"K225520216109","Phạm Đăng Khê",{"$f":"VLOOKUP(B1221,'[1]Ko tgia'!$B$2:$M$1900,4,0)","v":"3720561174"},{"$f":"VLOOKUP(B1221,'[1]Ko tgia'!$B$2:$M$1900,5,0)","v":"037204005688"},"29/02/2004",null,null,10,{"v":526500,"d":"526,500"},"K58TĐH.K02","KĐ"]
[1221,"K225520216261","Trần Thị Trà My",{"$f":"VLOOKUP(B1222,'[1]Ko tgia'!$B$2:$M$1900,4,0)","v":"1920081322"},{"$f":"VLOOKUP(B1222,'[1]Ko tgia'!$B$2:$M$1900,5,0)","v":"019304007811"},"28/02/2004",{"$f":"VLOOKUP(B1222,'[2]Ko tgia'!$C$2:$K$9900,8,0)","v":"x"},null,10,{"v":526500,"d":"526,500"},"K58TĐH.K03","KĐ"]
[1222,"K225520216260","Nguyễn Tuấn Minh",{"$f":"VLOOKUP(B1223,'[1]Ko tgia'!$B$2:$M$1900,4,0)","v":"1920303059"},{"$f":"VLOOKUP(B1223,'[1]Ko tgia'!$B$2:$M$1900,5,0)","v":"019204004923"},"23/01/2004",null,null,10,{"v":526500,"d":"526,500"},"K58TĐH.K03","KĐ"]
[1223,"K225520216282","Nguyễn Quốc Trung",{"$f":"VLOOKUP(B1224,'[1]Ko tgia'!$B$2:$M$1900,4,0)","v":"1920308813"},null,"06/08/2004",null,null,10,{"v":526500,"d":"526,500"},"K58TĐH.K03","KĐ"]
[1224,"K225520216285","Đặng Thanh Tùng",{"$f":"VLOOKUP(B1225,'[1]Ko tgia'!$B$2:$M$1900,4,0)","v":"1920947035"},{"$f":"VLOOKUP(B1225,'[1]Ko tgia'!$B$2:$M$1900,5,0)","v":"019204004388"},"10/11/2004",null,null,10,{"v":526500,"d":"526,500"},"K58TĐH.K03","KĐ"]
[1225,"K225520216228","Nguyễn Thành Đạt",{"$f":"VLOOKUP(B1226,'[1]Ko tgia'!$B$2:$M$1900,4,0)","v":"1920952878"},{"$f":"VLOOKUP(B1226,'[1]Ko tgia'!$B$2:$M$1900,5,0)","v":"019204001551"},"30/08/2004",null,null,10,{"v":526500,"d":"526,500"},"K58TĐH.K03","KĐ"]
[1226,"K225520216252","Nguyễn Trường Khang",{"$f":"VLOOKUP(B1227,'[1]Ko tgia'!$B$2:$M$1900,4,0)","v":"1921033505"},{"$f":"VLOOKUP(B1227,'[1]Ko tgia'!$B$2:$M$1900,5,0)","v":"019204007359"},"01/04/2004",null,null,10,{"v":526500,"d":"526,500"},"K58TĐH.K03","KĐ"]
[1227,"K225520216221","Đoàn Trường Anh",{"$f":"VLOOKUP(B1228,'[1]Ko tgia'!$B$2:$M$1900,4,0)","v":"1921430888"},{"$f":"VLOOKUP(B1228,'[1]Ko tgia'!$B$2:$M$1900,5,0)","v":"019204004074"},"28/11/2004",null,null,10,{"v":526500,"d":"526,500"},"K58TĐH.K03","KĐ"]
[1228,"K225520216264","Hoàng Thái Nguyên",{"$f":"VLOOKUP(B1229,'[1]Ko tgia'!$B$2:$M$1900,4,0)","v":"1921450158"},{"$f":"VLOOKUP(B1229,'[1]Ko tgia'!$B$2:$M$1900,5,0)","v":"042204003903"},"24/06/2004",null,null,10,{"v":526500,"d":"526,500"},"K58TĐH.K03","KĐ"]
[1229,"K225520216250","Nguyễn Quang Huy",{"$f":"VLOOKUP(B1230,'[1]Ko tgia'!$B$2:$M$1900,4,0)","v":"2420362854"},{"$f":"VLOOKUP(B1230,'[1]Ko tgia'!$B$2:$M$1900,5,0)","v":"024204008566"},"19/09/2004",null,null,10,{"v":526500,"d":"526,500"},"K58TĐH.K03","KĐ"]
[1230,"K225520216004","Ngô Quang Anh",{"$f":"VLOOKUP(B1231,'[1]Ko tgia'!$B$2:$M$1900,4,0)","v":"2420506119"},{"$f":"VLOOKUP(B1231,'[1]Ko tgia'!$B$2:$M$1900,5,0)","v":"024204010769"},"10/02/2004",null,null,10,{"v":526500,"d":"526,500"},"K58TĐH.K03","KĐ"]
[1231,"K225520216455","Phạm Trọng Khải",{"$f":"VLOOKUP(B1232,'[1]Ko tgia'!$B$2:$M$1900,4,0)","v":"2420553488"},{"$f":"VLOOKUP(B1232,'[1]Ko tgia'!$B$2:$M$1900,5,0)","v":"024204013290"},"27/09/2004",null,null,10,{"v":526500,"d":"526,500"},"K58TĐH.K03","KĐ"]
[1232,"K225520216259","Phan Văn Mạnh",{"$f":"VLOOKUP(B1233,'[1]Ko tgia'!$B$2:$M$1900,4,0)","v":"2421152796"},{"$f":"VLOOKUP(B1233,'[1]Ko tgia'!$B$2:$M$1900,5,0)","v":"024204003649"},"13/08/2004",null,null,10,{"v":526500,"d":"526,500"},"K58TĐH.K03","KĐ"]
[1233,"K225520216242","Nguyễn Đình Hiểu",{"$f":"VLOOKUP(B1234,'[1]Ko tgia'!$B$2:$M$1900,4,0)","v":"2421456114"},{"$f":"VLOOKUP(B1234,'[1]Ko tgia'!$B$2:$M$1900,5,0)","v":"024204005962"},"30/08/2004",null,null,10,{"v":526500,"d":"526,500"},"K58TĐH.K03","KĐ"]
[1234,"K225520216266","Đào Mạnh Gia Phong",{"$f":"VLOOKUP(B1235,'[1]Ko tgia'!$B$2:$M$1900,4,0)","v":"2421483034"},{"$f":"VLOOKUP(B1235,'[1]Ko tgia'!$B$2:$M$1900,5,0)","v":"024204010311"},"30/01/2004",null,null,10,{"v":526500,"d":"526,500"},"K58TĐH.K03","KĐ"]
[1235,"K225520216476","Lưu Phương Thảo",{"$f":"VLOOKUP(B1236,'[1]Ko tgia'!$B$2:$M$1900,4,0)","v":"1920009095"},{"$f":"VLOOKUP(B1236,'[1]Ko tgia'!$B$2:$M$1900,5,0)","v":"019304011010"},"06/03/2004",{"$f":"VLOOKUP(B1236,'[2]Ko tgia'!$C$2:$K$9900,8,0)","v":"x"},null,10,{"v":526500,"d":"526,500"},"K58TĐH.K04","KĐ"]
[1236,"K225520216345","Cù Quang Thái",{"$f":"VLOOKUP(B1237,'[1]Ko tgia'!$B$2:$M$1900,4,0)","v":"1920071802"},{"$f":"VLOOKUP(B1237,'[1]Ko tgia'!$B$2:$M$1900,5,0)","v":"019204002243"},"25/01/2004",null,null,10,{"v":526500,"d":"526,500"},"K58TĐH.K04","KĐ"]
[1237,"K225520216341","Vũ Đức Quang",{"$f":"VLOOKUP(B1238,'[1]Ko tgia'!$B$2:$M$1900,4,0)","v":"1920171693"},{"$f":"VLOOKUP(B1238,'[1]Ko tgia'!$B$2:$M$1900,5,0)","v":"019204009339"},"20/12/2004",null,null,10,{"v":526500,"d":"526,500"},"K58TĐH.K04","KĐ"]
[1238,"K225520216326","Tô Văn Khởi",{"$f":"VLOOKUP(B1239,'[1]Ko tgia'!$B$2:$M$1900,4,0)","v":"1920463061"},{"$f":"VLOOKUP(B1239,'[1]Ko tgia'!$B$2:$M$1900,5,0)","v":"019204004994"},"17/10/2004",null,null,10,{"v":526500,"d":"526,500"},"K58TĐH.K04","KĐ"]
[1239,"K225520216351","Lê Thanh Toàn",{"$f":"VLOOKUP(B1240,'[1]Ko tgia'!$B$2:$M$1900,4,0)","v":"1920632019"},{"$f":"VLOOKUP(B1240,'[1]Ko tgia'!$B$2:$M$1900,5,0)","v":"019203007903"},"12/11/2003",null,null,10,{"v":526500,"d":"526,500"},"K58TĐH.K04","KĐ"]
[1240,"K225520216303","Dương Đình Đức",{"$f":"VLOOKUP(B1241,'[1]Ko tgia'!$B$2:$M$1900,4,0)","v":"1920957891"},{"$f":"VLOOKUP(B1241,'[1]Ko tgia'!$B$2:$M$1900,5,0)","v":"019204004946"},"28/04/2004",null,null,10,{"v":526500,"d":"526,500"},"K58TĐH.K04","KĐ"]
[1241,"K225520216348","Nguyễn Đức Thảo",{"$f":"VLOOKUP(B1242,'[1]Ko tgia'!$B$2:$M$1900,4,0)","v":"1920978817"},{"$f":"VLOOKUP(B1242,'[1]Ko tgia'!$B$2:$M$1900,5,0)","v":"019204010612"},"31/08/2004",null,null,10,{"v":526500,"d":"526,500"},"K58TĐH.K04","KĐ"]
[1242,"K225520216339","Lều Anh Quân",{"$f":"VLOOKUP(B1243,'[1]Ko tgia'!$B$2:$M$1900,4,0)","v":"1921359486"},{"$f":"VLOOKUP(B1243,'[1]Ko tgia'!$B$2:$M$1900,5,0)","v":"019204001499"},"13/08/2004",null,null,10,{"v":526500,"d":"526,500"},"K58TĐH.K04","KĐ"]
[1243,"K225520216320","Lê Tiến Hùng",{"$f":"VLOOKUP(B1244,'[1]Ko tgia'!$B$2:$M$1900,4,0)","v":"2420195477"},{"$f":"VLOOKUP(B1244,'[1]Ko tgia'!$B$2:$M$1900,5,0)","v":"024204009701"},"15/12/2004",null,null,10,{"v":526500,"d":"526,500"},"K58TĐH.K04","KĐ"]
[1244,"K225520216318","Vũ Huy Hoàng",{"$f":"VLOOKUP(B1245,'[1]Ko tgia'!$B$2:$M$1900,4,0)","v":"2521485704"},{"$f":"VLOOKUP(B1245,'[1]Ko tgia'!$B$2:$M$1900,5,0)","v":"025204002032"},"27/07/2004",null,null,10,{"v":526500,"d":"526,500"},"K58TĐH.K04","KĐ"]
[1245,"K225520216395","Chu Quốc Huy",{"$f":"VLOOKUP(B1246,'[1]Ko tgia'!$B$2:$M$1900,4,0)","v":"2620845725"},{"$f":"VLOOKUP(B1246,'[1]Ko tgia'!$B$2:$M$1900,5,0)","v":"026204003860"},"18/12/2004",null,null,10,{"v":526500,"d":"526,500"},"K58TĐH.K04","KĐ"]
[1246,"K225520216361","Nguyễn Lê Quốc Vượng",{"$f":"VLOOKUP(B1247,'[1]Ko tgia'!$B$2:$M$1900,4,0)","v":"2720329903"},{"$f":"VLOOKUP(B1247,'[1]Ko tgia'!$B$2:$M$1900,5,0)","v":"027204009331"},"15/11/2004",null,null,10,{"v":526500,"d":"526,500"},"K58TĐH.K04","KĐ"]
[1247,"K225520216322","Nguyễn Quang Huy",{"$f":"VLOOKUP(B1248,'[1]Ko tgia'!$B$2:$M$1900,4,0)","v":"3020618379"},{"$f":"VLOOKUP(B1248,'[1]Ko tgia'!$B$2:$M$1900,5,0)","v":"019204000063"},"20/07/2004",null,null,10,{"v":526500,"d":"526,500"},"K58TĐH.K04","KĐ"]
[1248,"K225520216427","Đỗ Anh Tú",{"$f":"VLOOKUP(B1249,'[1]Ko tgia'!$B$2:$M$1900,4,0)","v":"0124513907"},{"$f":"VLOOKUP(B1249,'[1]Ko tgia'!$B$2:$M$1900,5,0)","v":"01204041725"},"04/11/2004",null,null,10,{"v":526500,"d":"526,500"},"K58TĐH.K05","KĐ"]
[1249,"K225520216404","Nguyễn Ngọc Minh",{"$f":"VLOOKUP(B1250,'[1]Ko tgia'!$B$2:$M$1900,4,0)","v":"1920247652"},{"$f":"VLOOKUP(B1250,'[1]Ko tgia'!$B$2:$M$1900,5,0)","v":"019204005082"},"15/10/2004",null,null,10,{"v":526500,"d":"526,500"},"K58TĐH.K05","KĐ"]
[1250,"K225520216387","Nguyễn Hữu Huy Hoàng",{"$f":"VLOOKUP(B1251,'[1]Ko tgia'!$B$2:$M$1900,4,0)","v":"1920350078"},{"$f":"VLOOKUP(B1251,'[1]Ko tgia'!$B$2:$M$1900,5,0)","v":"019204001102"},"11/08/2004",null,null,10,{"v":526500,"d":"526,500"},"K58TĐH.K05","KĐ"]
[1251,"K225520216124","Nguyễn Hồng Quân",{"$f":"VLOOKUP(B1252,'[1]Ko tgia'!$B$2:$M$1900,4,0)","v":"1920929913"},{"$f":"VLOOKUP(B1252,'[1]Ko tgia'!$B$2:$M$1900,5,0)","v":"019204005479"},"14/08/2004",null,null,10,{"v":526500,"d":"526,500"},"K58TĐH.K05","KĐ"]
[1252,"K225520216424","Nông Trường Tôn",{"$f":"VLOOKUP(B1253,'[1]Ko tgia'!$B$2:$M$1900,4,0)","v":"2420174448"},{"$f":"VLOOKUP(B1253,'[1]Ko tgia'!$B$2:$M$1900,5,0)","v":"024204012609"},"14/07/2004",null,null,10,{"v":526500,"d":"526,500"},"K58TĐH.K05","KĐ"]
[1253,"K225520216383","Thân Hải Hậu",{"$f":"VLOOKUP(B1254,'[1]Ko tgia'!$B$2:$M$1900,4,0)","v":"2420195301"},{"$f":"VLOOKUP(B1254,'[1]Ko tgia'!$B$2:$M$1900,5,0)","v":"024304005062"},"20/10/2004",{"$f":"VLOOKUP(B1254,'[2]Ko tgia'!$C$2:$K$9900,8,0)","v":"x"},null,10,{"v":526500,"d":"526,500"},"K58TĐH.K05","KĐ"]
[1254,"K225520216391","Vũ Thị Huệ",{"$f":"VLOOKUP(B1255,'[1]Ko tgia'!$B$2:$M$1900,4,0)","v":"2421068539"},{"$f":"VLOOKUP(B1255,'[1]Ko tgia'!$B$2:$M$1900,5,0)","v":"024304003016"},"27/04/2004",{"$f":"VLOOKUP(B1255,'[2]Ko tgia'!$C$2:$K$9900,8,0)","v":"x"},null,10,{"v":526500,"d":"526,500"},"K58TĐH.K05","KĐ"]
[1255,"K225520216133","Nguyễn Đức Thịnh",{"$f":"VLOOKUP(B1256,'[1]Ko tgia'!$B$2:$M$1900,4,0)","v":"2720731017"},{"$f":"VLOOKUP(B1256,'[1]Ko tgia'!$B$2:$M$1900,5,0)","v":"027204001284"},"27/04/2004",null,null,10,{"v":526500,"d":"526,500"},"K58TĐH.K05","KĐ"]
[1256,"K225520216163","Nguyễn Thành Dương",{"$f":"VLOOKUP(B1257,'[1]Ko tgia'!$B$2:$M$1900,4,0)","v":"1920510867"},{"$f":"VLOOKUP(B1257,'[1]Ko tgia'!$B$2:$M$1900,5,0)","v":"019204008014"},"13/10/2004",null,null,10,{"v":526500,"d":"526,500"},"K58TĐH-CLC.K02","KĐ"]
[1257,"K235520201219","Lương Thị Ngân",{"$f":"VLOOKUP(B1258,'[1]Ko tgia'!$B$2:$M$1900,4,0)","v":"2020793667"},{"$f":"VLOOKUP(B1258,'[1]Ko tgia'!$B$2:$M$1900,5,0)","v":"020304004103"},"22/03/2004",{"$f":"VLOOKUP(B1258,'[2]Ko tgia'!$C$2:$K$9900,8,0)","v":"x"},null,10,{"v":526500,"d":"526,500"},"K59ĐCN.K01","KĐ"]
[1258,"K235520201207","Nguyễn Đức Huy",{"$f":"VLOOKUP(B1259,'[1]Ko tgia'!$B$2:$M$1900,4,0)","v":"2421480556"},{"$f":"VLOOKUP(B1259,'[1]Ko tgia'!$B$2:$M$1900,5,0)","v":"024205005578"},"28/05/2005",null,null,10,{"v":526500,"d":"526,500"},"K59ĐCN.K01","KĐ"]
[1259,"K235520201084","Lưu Tuấn Long",{"$f":"VLOOKUP(B1260,'[1]Ko tgia'!$B$2:$M$1900,4,0)","v":"2421658479"},{"$f":"VLOOKUP(B1260,'[1]Ko tgia'!$B$2:$M$1900,5,0)","v":"024205004954"},"19/11/2005",null,null,10,{"v":526500,"d":"526,500"},"K59ĐCN.K01","KĐ"]
[1260,"K235520201054","Nguyễn Xuân Hòa",{"$f":"VLOOKUP(B1261,'[1]Ko tgia'!$B$2:$M$1900,4,0)","v":"2721700863"},{"$f":"VLOOKUP(B1261,'[1]Ko tgia'!$B$2:$M$1900,5,0)","v":"027205007038"},"06/09/2005",null,null,10,{"v":526500,"d":"526,500"},"K59ĐCN.K01","KĐ"]
[1261,"K235520216116","Trần Minh Hiếu",{"$f":"VLOOKUP(B1262,'[1]Ko tgia'!$B$2:$M$1900,4,0)","v":"0124805075"},{"$f":"VLOOKUP(B1262,'[1]Ko tgia'!$B$2:$M$1900,5,0)","v":"001205024925"},"16/02/2005",null,null,10,{"v":526500,"d":"526,500"},"K59ĐĐK.K01","KĐ"]
[1262,"K235520216006","Trần Đức Nam",{"$f":"VLOOKUP(B1263,'[1]Ko tgia'!$B$2:$M$1900,4,0)","v":"0124826528"},{"$f":"VLOOKUP(B1263,'[1]Ko tgia'!$B$2:$M$1900,5,0)","v":"001205033004"},"10/10/2005",null,null,10,{"v":526500,"d":"526,500"},"K59ĐĐK.K01","KĐ"]
[1263,"K235520216413","Tạ Như Quỳnh",{"$f":"VLOOKUP(B1264,'[1]Ko tgia'!$B$2:$M$1900,4,0)","v":"1920017168"},{"$f":"VLOOKUP(B1264,'[1]Ko tgia'!$B$2:$M$1900,5,0)","v":"019305006294"},"23/09/2005",{"$f":"VLOOKUP(B1264,'[2]Ko tgia'!$C$2:$K$9900,8,0)","v":"x"},null,10,{"v":526500,"d":"526,500"},"K59ĐĐK.K01","KĐ"]
[1264,"K235520216136","Đào Quang Huy",{"$f":"VLOOKUP(B1265,'[1]Ko tgia'!$B$2:$M$1900,4,0)","v":"1920089202"},{"$f":"VLOOKUP(B1265,'[1]Ko tgia'!$B$2:$M$1900,5,0)","v":"019205003002"},"11/12/2005",null,null,10,{"v":526500,"d":"526,500"},"K59ĐĐK.K01","KĐ"]
[1265,"K235520216137","Lê Chu Gia Huy",{"$f":"VLOOKUP(B1266,'[1]Ko tgia'!$B$2:$M$1900,4,0)","v":"1920096348"},{"$f":"VLOOKUP(B1266,'[1]Ko tgia'!$B$2:$M$1900,5,0)","v":"019205002713"},"02/05/2005",null,null,10,{"v":526500,"d":"526,500"},"K59ĐĐK.K01","KĐ"]
[1266,"K235520216127","Nguyễn Đức Lê Hoàng",{"$f":"VLOOKUP(B1267,'[1]Ko tgia'!$B$2:$M$1900,4,0)","v":"1920172243"},{"$f":"VLOOKUP(B1267,'[1]Ko tgia'!$B$2:$M$1900,5,0)","v":"019205004037"},"15/10/2005",null,null,10,{"v":526500,"d":"526,500"},"K59ĐĐK.K01","KĐ"]
[1267,"K235520216181","Nguyễn Tấn Linh",{"$f":"VLOOKUP(B1268,'[1]Ko tgia'!$B$2:$M$1900,4,0)","v":"1921069317"},{"$f":"VLOOKUP(B1268,'[1]Ko tgia'!$B$2:$M$1900,5,0)","v":"019205000993"},"20/01/2005",null,null,10,{"v":526500,"d":"526,500"},"K59ĐĐK.K01","KĐ"]
[1268,"K235520216289","Nguyễn Danh Trí",{"$f":"VLOOKUP(B1269,'[1]Ko tgia'!$B$2:$M$1900,4,0)","v":"1921451971"},{"$f":"VLOOKUP(B1269,'[1]Ko tgia'!$B$2:$M$1900,5,0)","v":"019205002095"},"16/08/2005",null,null,10,{"v":526500,"d":"526,500"},"K59ĐĐK.K01","KĐ"]
[1269,"K235520216405","Trần Anh Tùng",{"$f":"VLOOKUP(B1270,'[1]Ko tgia'!$B$2:$M$1900,4,0)","v":"2420278314"},{"$f":"VLOOKUP(B1270,'[1]Ko tgia'!$B$2:$M$1900,5,0)","v":"024205010541"},"30/06/2005",null,null,10,{"v":526500,"d":"526,500"},"K59ĐĐK.K01","KĐ"]
[1270,"K235520216366","Nguyễn Văn Dân",{"$f":"VLOOKUP(B1271,'[1]Ko tgia'!$B$2:$M$1900,4,0)","v":"2420389230"},{"$f":"VLOOKUP(B1271,'[1]Ko tgia'!$B$2:$M$1900,5,0)","v":"024204014436"},"22/01/2004",null,null,10,{"v":526500,"d":"526,500"},"K59ĐĐK.K01","KĐ"]
[1271,"K235520216243","Nguyễn Văn Quyết",{"$f":"VLOOKUP(B1272,'[1]Ko tgia'!$B$2:$M$1900,4,0)","v":"2421278632"},{"$f":"VLOOKUP(B1272,'[1]Ko tgia'!$B$2:$M$1900,5,0)","v":"024205015139"},"01/07/2005",null,null,10,{"v":526500,"d":"526,500"},"K59ĐĐK.K01","KĐ"]
[1272,"K235520216253","Nguyễn Tấn Tài",{"$f":"VLOOKUP(B1273,'[1]Ko tgia'!$B$2:$M$1900,4,0)","v":"2422009261"},{"$f":"VLOOKUP(B1273,'[1]Ko tgia'!$B$2:$M$1900,5,0)","v":"024205008635"},"29/09/2005",null,null,10,{"v":526500,"d":"526,500"},"K59ĐĐK.K01","KĐ"]
[1273,"K235520216154","Nguyễn Quỳnh Hương",{"$f":"VLOOKUP(B1274,'[1]Ko tgia'!$B$2:$M$1900,4,0)","v":"2620067744"},{"$f":"VLOOKUP(B1274,'[1]Ko tgia'!$B$2:$M$1900,5,0)","v":"026305008868"},"13/07/2005",{"$f":"VLOOKUP(B1274,'[2]Ko tgia'!$C$2:$K$9900,8,0)","v":"x"},null,10,{"v":526500,"d":"526,500"},"K59ĐĐK.K01","KĐ"]
[1274,"K235520216334","Lê Duy Chính",{"$f":"VLOOKUP(B1275,'[1]Ko tgia'!$B$2:$M$1900,4,0)","v":"2720208947"},{"$f":"VLOOKUP(B1275,'[1]Ko tgia'!$B$2:$M$1900,5,0)","v":"027205002933"},"17/05/2005",null,null,10,{"v":526500,"d":"526,500"},"K59ĐĐK.K01","KĐ"]
[1275,"K235520216400","Trần Công Trung",{"$f":"VLOOKUP(B1276,'[1]Ko tgia'!$B$2:$M$1900,4,0)","v":"3021814436"},{"$f":"VLOOKUP(B1276,'[1]Ko tgia'!$B$2:$M$1900,5,0)","v":"030205005209"},"17/12/2005",null,null,10,{"v":526500,"d":"526,500"},"K59ĐĐK.K01","KĐ"]
[1276,"K235520201144","Vi Hữu Tuân",{"$f":"VLOOKUP(B1277,'[1]Ko tgia'!$B$2:$M$1900,4,0)","v":"0820135285"},{"$f":"VLOOKUP(B1277,'[1]Ko tgia'!$B$2:$M$1900,5,0)","v":"008204004928"},"30/04/2004",null,null,10,{"v":526500,"d":"526,500"},"K59HTĐ.K01","KĐ"]
[1277,"K235520201213","Đỗ Nguyễn Quốc Huy",{"$f":"VLOOKUP(B1278,'[1]Ko tgia'!$B$2:$M$1900,4,0)","v":"1220017479"},{"$f":"VLOOKUP(B1278,'[1]Ko tgia'!$B$2:$M$1900,5,0)","v":"001205037816"},"10/02/2005",null,null,10,{"v":526500,"d":"526,500"},"K59HTĐ.K01","KĐ"]
[1278,"K235520201220","Nguyễn Ngọc Cường",{"$f":"VLOOKUP(B1279,'[1]Ko tgia'!$B$2:$M$1900,4,0)","v":"1420044839"},{"$f":"VLOOKUP(B1279,'[1]Ko tgia'!$B$2:$M$1900,5,0)","v":"014205001941"},"25/04/2005",null,null,10,{"v":526500,"d":"526,500"},"K59HTĐ.K01","KĐ"]
[1279,"K235520201034","Hoàng Anh Đức",{"$f":"VLOOKUP(B1280,'[1]Ko tgia'!$B$2:$M$1900,4,0)","v":"1420059651"},{"$f":"VLOOKUP(B1280,'[1]Ko tgia'!$B$2:$M$1900,5,0)","v":"014205001042"},"28/02/2005",null,null,10,{"v":526500,"d":"526,500"},"K59HTĐ.K01","KĐ"]
[1280,"K235520201074","Dương Thế Khải",{"$f":"VLOOKUP(B1281,'[1]Ko tgia'!$B$2:$M$1900,4,0)","v":"1920249918"},{"$f":"VLOOKUP(B1281,'[1]Ko tgia'!$B$2:$M$1900,5,0)","v":"019205004069"},"26/12/2005",null,null,10,{"v":526500,"d":"526,500"},"K59HTĐ.K01","KĐ"]
[1281,"K235520201038","Nguyễn Minh Đức",{"$f":"VLOOKUP(B1282,'[1]Ko tgia'!$B$2:$M$1900,4,0)","v":"1920576278"},{"$f":"VLOOKUP(B1282,'[1]Ko tgia'!$B$2:$M$1900,5,0)","v":"019205000303"},"07/05/2005",null,null,10,{"v":526500,"d":"526,500"},"K59HTĐ.K01","KĐ"]
[1282,"K235520201123","Lê Thị Thu",{"$f":"VLOOKUP(B1283,'[1]Ko tgia'!$B$2:$M$1900,4,0)","v":"1921006408"},{"$f":"VLOOKUP(B1283,'[1]Ko tgia'!$B$2:$M$1900,5,0)","v":"019305004885"},"27/09/2005",{"$f":"VLOOKUP(B1283,'[2]Ko tgia'!$C$2:$K$9900,8,0)","v":"x"},null,10,{"v":526500,"d":"526,500"},"K59HTĐ.K01","KĐ"]
[1283,"K235520201154","Cao Duy Viên",{"$f":"VLOOKUP(B1284,'[1]Ko tgia'!$B$2:$M$1900,4,0)","v":"2421731102"},{"$f":"VLOOKUP(B1284,'[1]Ko tgia'!$B$2:$M$1900,5,0)","v":"060205012729"},"27/10/2005",null,null,10,{"v":526500,"d":"526,500"},"K59HTĐ.K01","KĐ"]
[1284,"K235520201122","Bùi Văn Thọ",{"$f":"VLOOKUP(B1285,'[1]Ko tgia'!$B$2:$M$1900,4,0)","v":"2721569896"},{"$f":"VLOOKUP(B1285,'[1]Ko tgia'!$B$2:$M$1900,5,0)","v":"027205000500"},"21/08/2005",null,null,10,{"v":526500,"d":"526,500"},"K59HTĐ.K01","KĐ"]
[1285,"K235520201187","Trần Bằng Quỳnh",{"$f":"VLOOKUP(B1286,'[1]Ko tgia'!$B$2:$M$1900,4,0)","v":"0123387722"},{"$f":"VLOOKUP(B1286,'[1]Ko tgia'!$B$2:$M$1900,5,0)","v":"001205032433"},"06/05/2005",null,null,10,{"v":526500,"d":"526,500"},"K59KTĐ-CM.K01","KĐ"]
[1286,"K235520201202","Lê Sỹ Phúc",{"$f":"VLOOKUP(B1287,'[1]Ko tgia'!$B$2:$M$1900,4,0)","v":"0124563105"},{"$f":"VLOOKUP(B1287,'[1]Ko tgia'!$B$2:$M$1900,5,0)","v":"001205028844"},"10/04/2005",null,null,10,{"v":526500,"d":"526,500"},"K59KTĐ-CM.K01","KĐ"]
[1287,"K235520201218","Hoàng Việt Hùng",{"$f":"VLOOKUP(B1288,'[1]Ko tgia'!$B$2:$M$1900,4,0)","v":"0420041405"},{"$f":"VLOOKUP(B1288,'[1]Ko tgia'!$B$2:$M$1900,5,0)","v":"004204004632"},"20/06/2004",null,null,10,{"v":526500,"d":"526,500"},"K59KTĐ-CM.K01","KĐ"]
[1288,"K235520201081","Đỗ Đình Lâm",{"$f":"VLOOKUP(B1289,'[1]Ko tgia'!$B$2:$M$1900,4,0)","v":"1920053971"},{"$f":"VLOOKUP(B1289,'[1]Ko tgia'!$B$2:$M$1900,5,0)","v":"019205010244"},"01/07/2005",null,null,10,{"v":526500,"d":"526,500"},"K59KTĐ-CM.K01","KĐ"]
[1289,"K235520201145","Dương Anh Tuấn",{"$f":"VLOOKUP(B1290,'[1]Ko tgia'!$B$2:$M$1900,4,0)","v":"1921068023"},{"$f":"VLOOKUP(B1290,'[1]Ko tgia'!$B$2:$M$1900,5,0)","v":"019205007109"},"16/10/2005",null,null,10,{"v":526500,"d":"526,500"},"K59KTĐ-CM.K01","KĐ"]
[1290,"K235520201133","Hoàng Minh Trọng",{"$f":"VLOOKUP(B1291,'[1]Ko tgia'!$B$2:$M$1900,4,0)","v":"1921190283"},{"$f":"VLOOKUP(B1291,'[1]Ko tgia'!$B$2:$M$1900,5,0)","v":"019205007002"},"28/08/2005",null,null,10,{"v":526500,"d":"526,500"},"K59KTĐ-CM.K01","KĐ"]
[1291,"K235520201208","Dương Hữu Nam",{"$f":"VLOOKUP(B1292,'[1]Ko tgia'!$B$2:$M$1900,4,0)","v":"1921200676"},{"$f":"VLOOKUP(B1292,'[1]Ko tgia'!$B$2:$M$1900,5,0)","v":"019205006700"},"07/01/2005",null,null,10,{"v":526500,"d":"526,500"},"K59KTĐ-CM.K01","KĐ"]
[1292,"K235520201146","Dương Nguyễn Anh Tuấn",{"$f":"VLOOKUP(B1293,'[1]Ko tgia'!$B$2:$M$1900,4,0)","v":"1921228621"},{"$f":"VLOOKUP(B1293,'[1]Ko tgia'!$B$2:$M$1900,5,0)","v":"019205009930"},"21/01/2005",null,null,10,{"v":526500,"d":"526,500"},"K59KTĐ-CM.K01","KĐ"]
[1293,"K235520201059","Nguyễn Đức Hoàng",{"$f":"VLOOKUP(B1294,'[1]Ko tgia'!$B$2:$M$1900,4,0)","v":"1921283476"},{"$f":"VLOOKUP(B1294,'[1]Ko tgia'!$B$2:$M$1900,5,0)","v":"019205006125"},"05/10/2005",null,null,10,{"v":526500,"d":"526,500"},"K59KTĐ-CM.K01","KĐ"]
[1294,"K235520201153","Đặng Chí Văn",{"$f":"VLOOKUP(B1295,'[1]Ko tgia'!$B$2:$M$1900,4,0)","v":"2420584679"},{"$f":"VLOOKUP(B1295,'[1]Ko tgia'!$B$2:$M$1900,5,0)","v":"024205003386"},"20/09/2005",null,null,10,{"v":526500,"d":"526,500"},"K59KTĐ-CM.K01","KĐ"]
[1295,"K235520201164","Nguyễn Văn Chung",{"$f":"VLOOKUP(B1296,'[1]Ko tgia'!$B$2:$M$1900,4,0)","v":"2421284988"},{"$f":"VLOOKUP(B1296,'[1]Ko tgia'!$B$2:$M$1900,5,0)","v":"024205016105"},"17/10/2005",null,null,10,{"v":526500,"d":"526,500"},"K59KTĐ-CM.K01","KĐ"]
[1296,"K235520201184","Tạ Văn Phượng",{"$f":"VLOOKUP(B1297,'[1]Ko tgia'!$B$2:$M$1900,4,0)","v":"2421314878"},{"$f":"VLOOKUP(B1297,'[1]Ko tgia'!$B$2:$M$1900,5,0)","v":"024205002861"},"08/02/2005",null,null,10,{"v":526500,"d":"526,500"},"K59KTĐ-CM.K01","KĐ"]
[1297,"K235520201099","Diêm Công Hoàng Phú",{"$f":"VLOOKUP(B1298,'[1]Ko tgia'!$B$2:$M$1900,4,0)","v":"2421361586"},{"$f":"VLOOKUP(B1298,'[1]Ko tgia'!$B$2:$M$1900,5,0)","v":"024205013217"},"30/11/2005",null,null,10,{"v":526500,"d":"526,500"},"K59KTĐ-CM.K01","KĐ"]
[1298,"K235520201125","Lê Văn Thức",{"$f":"VLOOKUP(B1299,'[1]Ko tgia'!$B$2:$M$1900,4,0)","v":"2421557813"},{"$f":"VLOOKUP(B1299,'[1]Ko tgia'!$B$2:$M$1900,5,0)","v":"024205001061"},"09/08/2005",null,null,10,{"v":526500,"d":"526,500"},"K59KTĐ-CM.K01","KĐ"]
[1299,"K235520201136","Vũ Đức Trung",{"$f":"VLOOKUP(B1300,'[1]Ko tgia'!$B$2:$M$1900,4,0)","v":"1920456674"},{"$f":"VLOOKUP(B1300,'[1]Ko tgia'!$B$2:$M$1900,5,0)","v":"019205009281"},"18/11/2005",null,null,10,{"v":526500,"d":"526,500"},"K59TBĐ-ĐT.K01","KĐ"]
[1300,"K235520201215","Mạch Duy Chuyên",{"$f":"VLOOKUP(B1301,'[1]Ko tgia'!$B$2:$M$1900,4,0)","v":"1920487575"},{"$f":"VLOOKUP(B1301,'[1]Ko tgia'!$B$2:$M$1900,5,0)","v":"019205005444"},"30/06/2005",null,null,10,{"v":526500,"d":"526,500"},"K59TBĐ-ĐT.K01","KĐ"]
[1301,"K235520201012","Vũ Nguyễn Thế Anh",{"$f":"VLOOKUP(B1302,'[1]Ko tgia'!$B$2:$M$1900,4,0)","v":"1921322985"},{"$f":"VLOOKUP(B1302,'[1]Ko tgia'!$B$2:$M$1900,5,0)","v":"019205006683"},"30/11/2005",null,null,10,{"v":526500,"d":"526,500"},"K59TBĐ-ĐT.K01","KĐ"]
[1302,"K235520201141","Trần Hoàng Anh Tú",{"$f":"VLOOKUP(B1303,'[1]Ko tgia'!$B$2:$M$1900,4,0)","v":"1921440944"},{"$f":"VLOOKUP(B1303,'[1]Ko tgia'!$B$2:$M$1900,5,0)","v":"019205010757"},"09/12/2005",null,null,10,{"v":526500,"d":"526,500"},"K59TBĐ-ĐT.K01","KĐ"]
[1303,"K235520201177","Nguyễn Ngọc Hướng",{"$f":"VLOOKUP(B1304,'[1]Ko tgia'!$B$2:$M$1900,4,0)","v":"2420328858"},{"$f":"VLOOKUP(B1304,'[1]Ko tgia'!$B$2:$M$1900,5,0)","v":"024205013060"},"01/05/2005",null,null,10,{"v":526500,"d":"526,500"},"K59TBĐ-ĐT.K01","KĐ"]
[1304,"K235520201156","Ngụy Đình Việt",{"$f":"VLOOKUP(B1305,'[1]Ko tgia'!$B$2:$M$1900,4,0)","v":"2421136158"},{"$f":"VLOOKUP(B1305,'[1]Ko tgia'!$B$2:$M$1900,5,0)","v":"024205005993"},"24/09/2005",null,null,10,{"v":526500,"d":"526,500"},"K59TBĐ-ĐT.K01","KĐ"]
[1305,"K235520216294","Ngô Trương Trường",{"$f":"VLOOKUP(B1306,'[1]Ko tgia'!$B$2:$M$1900,4,0)","v":"0121457495"},{"$f":"VLOOKUP(B1306,'[1]Ko tgia'!$B$2:$M$1900,5,0)","v":"001204033075"},"09/01/2004",null,null,10,{"v":526500,"d":"526,500"},"K59TĐH.K01","KĐ"]
[1306,"K235520216026","Trần Vũ Quang Anh",{"$f":"VLOOKUP(B1307,'[1]Ko tgia'!$B$2:$M$1900,4,0)","v":"1920083938"},{"$f":"VLOOKUP(B1307,'[1]Ko tgia'!$B$2:$M$1900,5,0)","v":"019205011869"},"21/01/2005",null,null,10,{"v":526500,"d":"526,500"},"K59TĐH.K01","KĐ"]
[1307,"K235520216254","Nguyễn Tiến Tài",{"$f":"VLOOKUP(B1308,'[1]Ko tgia'!$B$2:$M$1900,4,0)","v":"1920198902"},{"$f":"VLOOKUP(B1308,'[1]Ko tgia'!$B$2:$M$1900,5,0)","v":"019205009840"},"14/09/2005",null,null,10,{"v":526500,"d":"526,500"},"K59TĐH.K01","KĐ"]
[1308,"K235520216066","Hoàng Ánh Dương",{"$f":"VLOOKUP(B1309,'[1]Ko tgia'!$B$2:$M$1900,4,0)","v":"1920209075"},{"$f":"VLOOKUP(B1309,'[1]Ko tgia'!$B$2:$M$1900,5,0)","v":"019205007868"},"22/10/2005",null,null,10,{"v":526500,"d":"526,500"},"K59TĐH.K01","KĐ"]
[1309,"K235520216233","Nguyễn Đặng Quang",{"$f":"VLOOKUP(B1310,'[1]Ko tgia'!$B$2:$M$1900,4,0)","v":"1920305119"},{"$f":"VLOOKUP(B1310,'[1]Ko tgia'!$B$2:$M$1900,5,0)","v":"019205001521"},"05/07/2005",null,null,10,{"v":526500,"d":"526,500"},"K59TĐH.K01","KĐ"]
[1310,"K235520216004","Nguyễn Văn Nam",{"$f":"VLOOKUP(B1311,'[1]Ko tgia'!$B$2:$M$1900,4,0)","v":"1921214251"},{"$f":"VLOOKUP(B1311,'[1]Ko tgia'!$B$2:$M$1900,5,0)","v":"019205000397"},"13/01/2005",null,null,10,{"v":526500,"d":"526,500"},"K59TĐH.K01","KĐ"]
[1311,"K235520216232","Dương Bình Phương",{"$f":"VLOOKUP(B1312,'[1]Ko tgia'!$B$2:$M$1900,4,0)","v":"1921296276"},{"$f":"VLOOKUP(B1312,'[1]Ko tgia'!$B$2:$M$1900,5,0)","v":"019205008958"},"30/06/2005",null,null,10,{"v":526500,"d":"526,500"},"K59TĐH.K01","KĐ"]
[1312,"K235520216266","Nguyễn Đức Thắng",{"$f":"VLOOKUP(B1313,'[1]Ko tgia'!$B$2:$M$1900,4,0)","v":"1921432368"},{"$f":"VLOOKUP(B1313,'[1]Ko tgia'!$B$2:$M$1900,5,0)","v":"019205009495"},"06/10/2005",null,null,10,{"v":526500,"d":"526,500"},"K59TĐH.K01","KĐ"]
[1313,"K235520216375","Nguyễn Quang Huy",{"$f":"VLOOKUP(B1314,'[1]Ko tgia'!$B$2:$M$1900,4,0)","v":"1921453164"},{"$f":"VLOOKUP(B1314,'[1]Ko tgia'!$B$2:$M$1900,5,0)","v":"019203003154"},"04/08/2003",null,null,10,{"v":526500,"d":"526,500"},"K59TĐH.K01","KĐ"]
[1314,"K235520216380","Nguyễn Thành Luân",{"$f":"VLOOKUP(B1315,'[1]Ko tgia'!$B$2:$M$1900,4,0)","v":"2421054340"},{"$f":"VLOOKUP(B1315,'[1]Ko tgia'!$B$2:$M$1900,5,0)","v":"024205002422"},"24/09/2005",null,null,10,{"v":526500,"d":"526,500"},"K59TĐH.K01","KĐ"]
[1315,"K235520216290","Vương Văn Triển",{"$f":"VLOOKUP(B1316,'[1]Ko tgia'!$B$2:$M$1900,4,0)","v":"2421519681"},{"$f":"VLOOKUP(B1316,'[1]Ko tgia'!$B$2:$M$1900,5,0)","v":"024205001400"},"18/09/2005",null,null,10,{"v":526500,"d":"526,500"},"K59TĐH.K01","KĐ"]
[1316,"K235520216295","Nguyễn Trung Trường",{"$f":"VLOOKUP(B1317,'[1]Ko tgia'!$B$2:$M$1900,4,0)","v":"2720470476"},{"$f":"VLOOKUP(B1317,'[1]Ko tgia'!$B$2:$M$1900,5,0)","v":"027205011859"},"28/07/2005",null,null,10,{"v":526500,"d":"526,500"},"K59TĐH.K01","KĐ"]
[1317,"K235520216081","Dương Ngọc Độ",{"$f":"VLOOKUP(B1318,'[1]Ko tgia'!$B$2:$M$1900,4,0)","v":"3020278042"},{"$f":"VLOOKUP(B1318,'[1]Ko tgia'!$B$2:$M$1900,5,0)","v":"030205013002"},"22/08/2005",null,null,10,{"v":526500,"d":"526,500"},"K59TĐH.K01","KĐ"]
[1318,"K235520216292","Hoàng Văn Trung",{"$f":"VLOOKUP(B1319,'[1]Ko tgia'!$B$2:$M$1900,4,0)","v":"6421729928"},{"$f":"VLOOKUP(B1319,'[1]Ko tgia'!$B$2:$M$1900,5,0)","v":"064205003231"},"08/10/2005",null,null,10,{"v":526500,"d":"526,500"},"K59TĐH.K01","KĐ"]
[1319,"K235520201203","Hoàng Trung Đại",{"$f":"VLOOKUP(B1320,'[1]Ko tgia'!$B$2:$M$1900,4,0)","v":"1220320536"},{"$f":"VLOOKUP(B1320,'[1]Ko tgia'!$B$2:$M$1900,5,0)","v":"012205002945"},"25/10/2005",null,null,10,{"v":526500,"d":"526,500"},"K59TĐH.K02","KĐ"]
[1320,"K235520216412","Bùi Minh Hiếu",{"$f":"VLOOKUP(B1321,'[1]Ko tgia'!$B$2:$M$1900,4,0)","v":"1720833132"},{"$f":"VLOOKUP(B1321,'[1]Ko tgia'!$B$2:$M$1900,5,0)","v":"017205004142"},"18/02/2005",null,null,10,{"v":526500,"d":"526,500"},"K59TĐH.K02","KĐ"]
[1321,"K235520216197","Dương Đức Mạnh",{"$f":"VLOOKUP(B1322,'[1]Ko tgia'!$B$2:$M$1900,4,0)","v":"1920048328"},{"$f":"VLOOKUP(B1322,'[1]Ko tgia'!$B$2:$M$1900,5,0)","v":"006205002904"},"22/03/2005",null,null,10,{"v":526500,"d":"526,500"},"K59TĐH.K02","KĐ"]
[1322,"K235510303211","Vũ Đức Mạnh",{"$f":"VLOOKUP(B1323,'[1]Ko tgia'!$B$2:$M$1900,4,0)","v":"1920132370"},{"$f":"VLOOKUP(B1323,'[1]Ko tgia'!$B$2:$M$1900,5,0)","v":"019205005054"},"27/02/2005",null,null,10,{"v":526500,"d":"526,500"},"K59TĐH.K02","KĐ"]
[1323,"K235510303337","Nguyễn Hoàng Tùng",{"$f":"VLOOKUP(B1324,'[1]Ko tgia'!$B$2:$M$1900,4,0)","v":"1920179320"},{"$f":"VLOOKUP(B1324,'[1]Ko tgia'!$B$2:$M$1900,5,0)","v":"019205006257"},"18/06/2005",null,null,10,{"v":526500,"d":"526,500"},"K59TĐH.K02","KĐ"]
[1324,"K235520201051","Nguyễn Trung Hiếu",{"$f":"VLOOKUP(B1325,'[1]Ko tgia'!$B$2:$M$1900,4,0)","v":"1920200276"},{"$f":"VLOOKUP(B1325,'[1]Ko tgia'!$B$2:$M$1900,5,0)","v":"019205002999"},"10/04/2005",null,null,10,{"v":526500,"d":"526,500"},"K59TĐH.K02","KĐ"]
[1325,"K235520216044","Đào Mạnh Dũng",{"$f":"VLOOKUP(B1326,'[1]Ko tgia'!$B$2:$M$1900,4,0)","v":"1920252559"},{"$f":"VLOOKUP(B1326,'[1]Ko tgia'!$B$2:$M$1900,5,0)","v":"019205001516"},"24/08/2005",null,null,10,{"v":526500,"d":"526,500"},"K59TĐH.K02","KĐ"]
[1326,"K235510303340","Vũ Quang Tùng",{"$f":"VLOOKUP(B1327,'[1]Ko tgia'!$B$2:$M$1900,4,0)","v":"1920269201"},{"$f":"VLOOKUP(B1327,'[1]Ko tgia'!$B$2:$M$1900,5,0)","v":"019205002402"},"09/01/2005",null,null,10,{"v":526500,"d":"526,500"},"K59TĐH.K02","KĐ"]
[1327,"K235520216120","Trần Triệu Nam Hoàn",{"$f":"VLOOKUP(B1328,'[1]Ko tgia'!$B$2:$M$1900,4,0)","v":"1920554308"},{"$f":"VLOOKUP(B1328,'[1]Ko tgia'!$B$2:$M$1900,5,0)","v":"019205000339"},"06/10/2005",null,null,10,{"v":526500,"d":"526,500"},"K59TĐH.K02","KĐ"]
[1328,"K235520216377","Hoàng Quốc Khánh",{"$f":"VLOOKUP(B1329,'[1]Ko tgia'!$B$2:$M$1900,4,0)","v":"1920596307"},{"$f":"VLOOKUP(B1329,'[1]Ko tgia'!$B$2:$M$1900,5,0)","v":"019205011928"},"31/08/2005",null,null,10,{"v":526500,"d":"526,500"},"K59TĐH.K02","KĐ"]
[1329,"K235520216282","Nguyễn Quyết Tiến",{"$f":"VLOOKUP(B1330,'[1]Ko tgia'!$B$2:$M$1900,4,0)","v":"1921147649"},{"$f":"VLOOKUP(B1330,'[1]Ko tgia'!$B$2:$M$1900,5,0)","v":"019205001712"},"16/11/2005",null,null,10,{"v":526500,"d":"526,500"},"K59TĐH.K02","KĐ"]
[1330,"K235520216357","Nguyễn Hoàng Nam",{"$f":"VLOOKUP(B1331,'[1]Ko tgia'!$B$2:$M$1900,4,0)","v":"1921213544"},{"$f":"VLOOKUP(B1331,'[1]Ko tgia'!$B$2:$M$1900,5,0)","v":"019205001693"},"14/06/2005",null,null,10,{"v":526500,"d":"526,500"},"K59TĐH.K02","KĐ"]
[1331,"K235520216313","Trịnh Đức Tùng",{"$f":"VLOOKUP(B1332,'[1]Ko tgia'!$B$2:$M$1900,4,0)","v":"1921305346"},{"$f":"VLOOKUP(B1332,'[1]Ko tgia'!$B$2:$M$1900,5,0)","v":"019205011058"},"27/05/2005",null,null,10,{"v":526500,"d":"526,500"},"K59TĐH.K02","KĐ"]
[1332,"K235520216191","Ngô Đức Luân",{"$f":"VLOOKUP(B1333,'[1]Ko tgia'!$B$2:$M$1900,4,0)","v":"1921451958"},{"$f":"VLOOKUP(B1333,'[1]Ko tgia'!$B$2:$M$1900,5,0)","v":"019205009101"},"24/10/2005",null,null,10,{"v":526500,"d":"526,500"},"K59TĐH.K02","KĐ"]
[1333,"K235520216208","Nguyễn Tiến Minh",{"$f":"VLOOKUP(B1334,'[1]Ko tgia'!$B$2:$M$1900,4,0)","v":"2220560111"},{"$f":"VLOOKUP(B1334,'[1]Ko tgia'!$B$2:$M$1900,5,0)","v":"022205001692"},"16/02/2005",null,null,10,{"v":526500,"d":"526,500"},"K59TĐH.K02","KĐ"]
[1334,"K235520216109","Giáp Trung Hiếu",{"$f":"VLOOKUP(B1335,'[1]Ko tgia'!$B$2:$M$1900,4,0)","v":"2420347814"},{"$f":"VLOOKUP(B1335,'[1]Ko tgia'!$B$2:$M$1900,5,0)","v":"024205004593"},"08/12/2005",null,null,10,{"v":526500,"d":"526,500"},"K59TĐH.K02","KĐ"]
[1335,"K235520201160","Ngô Thế Vinh",{"$f":"VLOOKUP(B1336,'[1]Ko tgia'!$B$2:$M$1900,4,0)","v":"2421314459"},{"$f":"VLOOKUP(B1336,'[1]Ko tgia'!$B$2:$M$1900,5,0)","v":"024205002572"},"15/12/2005",null,null,10,{"v":526500,"d":"526,500"},"K59TĐH.K02","KĐ"]
[1336,"K235520216218","Nguyễn Văn Nhân",{"$f":"VLOOKUP(B1337,'[1]Ko tgia'!$B$2:$M$1900,4,0)","v":"2421434448"},{"$f":"VLOOKUP(B1337,'[1]Ko tgia'!$B$2:$M$1900,5,0)","v":"024205000398"},"25/01/2005",null,null,10,{"v":526500,"d":"526,500"},"K59TĐH.K02","KĐ"]
[1337,"K235520216404","Thân Quang Tuấn",{"$f":"VLOOKUP(B1338,'[1]Ko tgia'!$B$2:$M$1900,4,0)","v":"2421911600"},{"$f":"VLOOKUP(B1338,'[1]Ko tgia'!$B$2:$M$1900,5,0)","v":"024205004068"},"14/12/2005",null,null,10,{"v":526500,"d":"526,500"},"K59TĐH.K02","KĐ"]
[1338,"K235520216320","Nguyễn Thế Úc",{"$f":"VLOOKUP(B1339,'[1]Ko tgia'!$B$2:$M$1900,4,0)","v":"2422056787"},{"$f":"VLOOKUP(B1339,'[1]Ko tgia'!$B$2:$M$1900,5,0)","v":"024205001303"},"28/03/2005",null,null,10,{"v":526500,"d":"526,500"},"K59TĐH.K02","KĐ"]
[1339,"K235520216188","Phạm Đức Long",{"$f":"VLOOKUP(B1340,'[1]Ko tgia'!$B$2:$M$1900,4,0)","v":"3421255913"},{"$f":"VLOOKUP(B1340,'[1]Ko tgia'!$B$2:$M$1900,5,0)","v":"034205001952"},"26/08/2005",null,null,10,{"v":526500,"d":"526,500"},"K59TĐH.K02","KĐ"]
[1340,"K235520216051","Lưu Quang Dũng",{"$f":"VLOOKUP(B1341,'[1]Ko tgia'!$B$2:$M$1900,4,0)","v":"1920130614"},{"$f":"VLOOKUP(B1341,'[1]Ko tgia'!$B$2:$M$1900,5,0)","v":"019205004504"},"02/08/2005",null,null,10,{"v":526500,"d":"526,500"},"K59TĐH.K03","KĐ"]
[1341,"K235520216091","Trần Thị Hà",{"$f":"VLOOKUP(B1342,'[1]Ko tgia'!$B$2:$M$1900,4,0)","v":"1920337259"},{"$f":"VLOOKUP(B1342,'[1]Ko tgia'!$B$2:$M$1900,5,0)","v":"019305007436"},"03/07/2005",{"$f":"VLOOKUP(B1342,'[2]Ko tgia'!$C$2:$K$9900,8,0)","v":"x"},null,10,{"v":526500,"d":"526,500"},"K59TĐH.K03","KĐ"]
[1342,"K235520216147","Bùi Duy Hưng",{"$f":"VLOOKUP(B1343,'[1]Ko tgia'!$B$2:$M$1900,4,0)","v":"1920570487"},{"$f":"VLOOKUP(B1343,'[1]Ko tgia'!$B$2:$M$1900,5,0)","v":"019205000454"},"24/10/2005",null,null,10,{"v":526500,"d":"526,500"},"K59TĐH.K03","KĐ"]
[1343,"K235520216108","Đỗ Anh Hiếu",{"$f":"VLOOKUP(B1344,'[1]Ko tgia'!$B$2:$M$1900,4,0)","v":"1921194206"},{"$f":"VLOOKUP(B1344,'[1]Ko tgia'!$B$2:$M$1900,5,0)","v":"019305006074"},"23/10/2005",{"$f":"VLOOKUP(B1344,'[2]Ko tgia'!$C$2:$K$9900,8,0)","v":"x"},null,10,{"v":526500,"d":"526,500"},"K59TĐH.K03","KĐ"]
[1344,"K235520216067","Hoàng Thanh Dương",{"$f":"VLOOKUP(B1345,'[1]Ko tgia'!$B$2:$M$1900,4,0)","v":"2421449343"},{"$f":"VLOOKUP(B1345,'[1]Ko tgia'!$B$2:$M$1900,5,0)","v":"024205011403"},"04/11/2005",null,null,10,{"v":526500,"d":"526,500"},"K59TĐH.K03","KĐ"]
[1345,"K235520216269","Trịnh Quang Thắng",{"$f":"VLOOKUP(B1346,'[1]Ko tgia'!$B$2:$M$1900,4,0)","v":"2421764915"},{"$f":"VLOOKUP(B1346,'[1]Ko tgia'!$B$2:$M$1900,5,0)","v":"024205010172"},"27/11/2005",null,null,10,{"v":526500,"d":"526,500"},"K59TĐH.K03","KĐ"]
[1346,"K235520216321","Hà Đức Việt",{"$f":"VLOOKUP(B1347,'[1]Ko tgia'!$B$2:$M$1900,4,0)","v":"0820177936"},{"$f":"VLOOKUP(B1347,'[1]Ko tgia'!$B$2:$M$1900,5,0)","v":"008205002586"},"25/04/2005",null,null,10,{"v":526500,"d":"526,500"},"K59TĐH-ĐHDN.K01","KĐ"]
[1347,"K235520216148","Lưu Hữu Hưng",{"$f":"VLOOKUP(B1348,'[1]Ko tgia'!$B$2:$M$1900,4,0)","v":"1920050154"},{"$f":"VLOOKUP(B1348,'[1]Ko tgia'!$B$2:$M$1900,5,0)","v":"019205009918"},"05/01/2005",null,null,10,{"v":526500,"d":"526,500"},"K59TĐH-ĐHDN.K01","KĐ"]
[1348,"K235520216360","Đỗ Gia Bảo",{"$f":"VLOOKUP(B1349,'[1]Ko tgia'!$B$2:$M$1900,4,0)","v":"1920156528"},{"$f":"VLOOKUP(B1349,'[1]Ko tgia'!$B$2:$M$1900,5,0)","v":"019205002121"},"16/08/2005",null,null,10,{"v":526500,"d":"526,500"},"K59TĐH-ĐHDN.K01","KĐ"]
[1349,"K235520216225","Đoàn Tuấn Phong",{"$f":"VLOOKUP(B1350,'[1]Ko tgia'!$B$2:$M$1900,4,0)","v":"1920934553"},{"$f":"VLOOKUP(B1350,'[1]Ko tgia'!$B$2:$M$1900,5,0)","v":"019205010356"},"24/10/2005",null,null,10,{"v":526500,"d":"526,500"},"K59TĐH-ĐHDN.K01","KĐ"]
[1350,"K235520216307","Lương Thanh Tùng",{"$f":"VLOOKUP(B1351,'[1]Ko tgia'!$B$2:$M$1900,4,0)","v":"1921336812"},{"$f":"VLOOKUP(B1351,'[1]Ko tgia'!$B$2:$M$1900,5,0)","v":"019205002205"},"24/08/2005",null,null,10,{"v":526500,"d":"526,500"},"K59TĐH-ĐHDN.K01","KĐ"]
[1351,"K235520216182","Phạm Mai Linh",{"$f":"VLOOKUP(B1352,'[1]Ko tgia'!$B$2:$M$1900,4,0)","v":"1921345376"},{"$f":"VLOOKUP(B1352,'[1]Ko tgia'!$B$2:$M$1900,5,0)","v":"019305001089"},"03/11/2005",{"$f":"VLOOKUP(B1352,'[2]Ko tgia'!$C$2:$K$9900,8,0)","v":"x"},null,10,{"v":526500,"d":"526,500"},"K59TĐH-ĐHDN.K01","KĐ"]
[1352,"K235520216072","Tô Đức Đài",{"$f":"VLOOKUP(B1353,'[1]Ko tgia'!$B$2:$M$1900,4,0)","v":"2020250100"},{"$f":"VLOOKUP(B1353,'[1]Ko tgia'!$B$2:$M$1900,5,0)","v":"020205006466"},"22/10/2005",null,null,10,{"v":526500,"d":"526,500"},"K59TĐH-ĐHDN.K01","KĐ"]
[1353,"K235520216017","Ngô Văn Anh",{"$f":"VLOOKUP(B1354,'[1]Ko tgia'!$B$2:$M$1900,4,0)","v":"3420420820"},{"$f":"VLOOKUP(B1354,'[1]Ko tgia'!$B$2:$M$1900,5,0)","v":"034205010073"},"26/02/2005",null,null,10,{"v":526500,"d":"526,500"},"K59TĐH-ĐHDN.K01","KĐ"]
[1354,"K235520216013","Đỗ Thị Vân Anh",{"$f":"VLOOKUP(B1355,'[1]Ko tgia'!$B$2:$M$1900,4,0)","v":"1921422606"},{"$f":"VLOOKUP(B1355,'[1]Ko tgia'!$B$2:$M$1900,5,0)","v":"019304008324"},"18/07/2004",{"$f":"VLOOKUP(B1355,'[2]Ko tgia'!$C$2:$K$9900,8,0)","v":"x"},null,10,{"v":526500,"d":"526,500"},"K59TĐH-ĐHDN.K02","KĐ"]
[1355,"K235520216096","Nguyễn Minh Hải",{"$f":"VLOOKUP(B1356,'[1]Ko tgia'!$B$2:$M$1900,4,0)","v":"1921424356"},{"$f":"VLOOKUP(B1356,'[1]Ko tgia'!$B$2:$M$1900,5,0)","v":"001205047897"},"27/08/2005",null,null,10,{"v":526500,"d":"526,500"},"K59TĐH-ĐHDN.K02","KĐ"]
[1356,"K235520216085","Nguyễn Việt Đức",{"$f":"VLOOKUP(B1357,'[1]Ko tgia'!$B$2:$M$1900,4,0)","v":"2221663293"},{"$f":"VLOOKUP(B1357,'[1]Ko tgia'!$B$2:$M$1900,5,0)","v":"022205003435"},"20/04/2005",null,null,10,{"v":526500,"d":"526,500"},"K59TĐH-ĐHDN.K02","KĐ"]
[1357,"K235520216171","Nguyễn Trung Kiên",{"$f":"VLOOKUP(B1358,'[1]Ko tgia'!$B$2:$M$1900,4,0)","v":"2421047669"},{"$f":"VLOOKUP(B1358,'[1]Ko tgia'!$B$2:$M$1900,5,0)","v":"024205002493"},"17/12/2005",null,null,10,{"v":526500,"d":"526,500"},"K59TĐH-ĐHDN.K02","KĐ"]
[1358,"K235520216268","Trần Văn Thắng",{"$f":"VLOOKUP(B1359,'[1]Ko tgia'!$B$2:$M$1900,4,0)","v":"2421057789"},{"$f":"VLOOKUP(B1359,'[1]Ko tgia'!$B$2:$M$1900,5,0)","v":"024205002433"},"19/04/2005",null,null,10,{"v":526500,"d":"526,500"},"K59TĐH-ĐHDN.K02","KĐ"]
[1359,"K235520216114","Phạm Minh Hiếu",{"$f":"VLOOKUP(B1360,'[1]Ko tgia'!$B$2:$M$1900,4,0)","v":"2421058333"},{"$f":"VLOOKUP(B1360,'[1]Ko tgia'!$B$2:$M$1900,5,0)","v":"024205002448"},"07/10/2005",null,null,10,{"v":526500,"d":"526,500"},"K59TĐH-ĐHDN.K02","KĐ"]
[1360,"K235520216214","Bùi Đức Nghĩa",{"$f":"VLOOKUP(B1361,'[1]Ko tgia'!$B$2:$M$1900,4,0)","v":"2421413545"},{"$f":"VLOOKUP(B1361,'[1]Ko tgia'!$B$2:$M$1900,5,0)","v":"024205011086"},"07/02/2005",null,null,10,{"v":526500,"d":"526,500"},"K59TĐH-ĐHDN.K02","KĐ"]
[1361,"K235520216118","Phan Văn Hòa",{"$f":"VLOOKUP(B1362,'[1]Ko tgia'!$B$2:$M$1900,4,0)","v":"3420330379"},{"$f":"VLOOKUP(B1362,'[1]Ko tgia'!$B$2:$M$1900,5,0)","v":"019205003115"},"05/04/2005",null,null,10,{"v":526500,"d":"526,500"},"K59TĐH-ĐHDN.K02","KĐ"]
[1362,"K235520216248","Nguyễn Thanh Sơn",{"$f":"VLOOKUP(B1363,'[1]Ko tgia'!$B$2:$M$1900,4,0)","v":"3520010682"},{"$f":"VLOOKUP(B1363,'[1]Ko tgia'!$B$2:$M$1900,5,0)","v":"035205003023"},"22/07/2005",null,null,10,{"v":526500,"d":"526,500"},"K59TĐH-ĐHDN.K02","KĐ"]
[1363,"K245520201258","Đào Xuân Tiến",{"$f":"VLOOKUP(B1364,'[1]Ko tgia'!$B$2:$M$1900,4,0)","v":"1920297636"},{"$f":"VLOOKUP(B1364,'[1]Ko tgia'!$B$2:$M$1900,5,0)","v":"019206002340"},"17/09/2006",null,null,10,{"v":526500,"d":"526,500"},"K60ĐCN.K01","KĐ"]
[1364,"K245520201249","Lã Như Tú",{"$f":"VLOOKUP(B1365,'[1]Ko tgia'!$B$2:$M$1900,4,0)","v":"1920440927"},{"$f":"VLOOKUP(B1365,'[1]Ko tgia'!$B$2:$M$1900,5,0)","v":"019206004590"},"01/09/2006",null,null,10,{"v":526500,"d":"526,500"},"K60ĐCN.K01","KĐ"]
[1365,"K245520201227","Đặng Phương Nguyên",{"$f":"VLOOKUP(B1366,'[1]Ko tgia'!$B$2:$M$1900,4,0)","v":"2421547717"},{"$f":"VLOOKUP(B1366,'[1]Ko tgia'!$B$2:$M$1900,5,0)","v":"024206009531"},"27/05/2006",null,null,10,{"v":526500,"d":"526,500"},"K60ĐCN.K01","KĐ"]
[1366,"K245520201119","Quách Duy Huấn",{"$f":"VLOOKUP(B1367,'[1]Ko tgia'!$B$2:$M$1900,4,0)","v":"3821123459"},{"$f":"VLOOKUP(B1367,'[1]Ko tgia'!$B$2:$M$1900,5,0)","v":"038206028370"},"03/02/2006",null,null,10,{"v":526500,"d":"526,500"},"K60ĐCN.K01","KĐ"]
[1367,"K245520216075","Phạm Quang Trung",{"$f":"VLOOKUP(B1368,'[1]Ko tgia'!$B$2:$M$1900,4,0)","v":"0620261648"},{"$f":"VLOOKUP(B1368,'[1]Ko tgia'!$B$2:$M$1900,5,0)","v":"006206003538"},"11/09/2006",null,null,10,{"v":526500,"d":"526,500"},"K60ĐĐK.K01","KĐ"]
[1368,"K245520216295","Hoàng Trung Kiên",{"$f":"VLOOKUP(B1369,'[1]Ko tgia'!$B$2:$M$1900,4,0)","v":"0620269047"},{"$f":"VLOOKUP(B1369,'[1]Ko tgia'!$B$2:$M$1900,5,0)","v":"006206002260"},"01/01/2006",null,null,10,{"v":526500,"d":"526,500"},"K60ĐĐK.K01","KĐ"]
[1369,"K245520216180","Dương Kim Cường",{"$f":"VLOOKUP(B1370,'[1]Ko tgia'!$B$2:$M$1900,4,0)","v":"1920223662"},{"$f":"VLOOKUP(B1370,'[1]Ko tgia'!$B$2:$M$1900,5,0)","v":"025206012147"},"11/09/2006",null,null,10,{"v":526500,"d":"526,500"},"K60ĐĐK.K01","KĐ"]
[1370,"K245520216347","Bùi Văn Cường",{"$f":"VLOOKUP(B1371,'[1]Ko tgia'!$B$2:$M$1900,4,0)","v":"1920632229"},{"$f":"VLOOKUP(B1371,'[1]Ko tgia'!$B$2:$M$1900,5,0)","v":"019206006031"},"24/11/2006",null,null,10,{"v":526500,"d":"526,500"},"K60ĐĐK.K01","KĐ"]
[1371,"K245520216345","Ôn Văn Chiến",{"$f":"VLOOKUP(B1372,'[1]Ko tgia'!$B$2:$M$1900,4,0)","v":"1920916672"},{"$f":"VLOOKUP(B1372,'[1]Ko tgia'!$B$2:$M$1900,5,0)","v":"019203006795"},"11/03/2003",null,null,10,{"v":526500,"d":"526,500"},"K60ĐĐK.K01","KĐ"]
[1372,"K245520216539","Nguyễn Duy Hưng",{"$f":"VLOOKUP(B1373,'[1]Ko tgia'!$B$2:$M$1900,4,0)","v":"2220381239"},{"$f":"VLOOKUP(B1373,'[1]Ko tgia'!$B$2:$M$1900,5,0)","v":"036206002469"},"12/05/2006",null,null,10,{"v":526500,"d":"526,500"},"K60ĐĐK.K01","KĐ"]
[1373,"K245520216573","Thân Văn Thương",{"$f":"VLOOKUP(B1374,'[1]Ko tgia'!$B$2:$M$1900,4,0)","v":"2421069740"},{"$f":"VLOOKUP(B1374,'[1]Ko tgia'!$B$2:$M$1900,5,0)","v":"024206001762"},"19/12/2006",null,null,10,{"v":526500,"d":"526,500"},"K60ĐĐK.K01","KĐ"]
[1374,"K245520216235","Phạm Ngọc Thái",{"$f":"VLOOKUP(B1375,'[1]Ko tgia'!$B$2:$M$1900,4,0)","v":"2422043491"},{"$f":"VLOOKUP(B1375,'[1]Ko tgia'!$B$2:$M$1900,5,0)","v":"024206000775"},"12/11/2006",null,null,10,{"v":526500,"d":"526,500"},"K60ĐĐK.K01","KĐ"]
[1375,"K245520216373","Nguyễn Văn Hưng",{"$f":"VLOOKUP(B1376,'[1]Ko tgia'!$B$2:$M$1900,4,0)","v":"2721035157"},{"$f":"VLOOKUP(B1376,'[1]Ko tgia'!$B$2:$M$1900,5,0)","v":"027206007931"},"07/02/2006",null,null,10,{"v":526500,"d":"526,500"},"K60ĐĐK.K01","KĐ"]
[1376,"K245520216342","Nguyễn Tuấn Anh",{"$f":"VLOOKUP(B1377,'[1]Ko tgia'!$B$2:$M$1900,4,0)","v":"4520742856"},{"$f":"VLOOKUP(B1377,'[1]Ko tgia'!$B$2:$M$1900,5,0)","v":"045206005240"},"31/01/2006",null,null,10,{"v":526500,"d":"526,500"},"K60ĐĐK.K01","KĐ"]
[1377,"K245520201169","Đỗ Khắc Tường",{"$f":"VLOOKUP(B1378,'[1]Ko tgia'!$B$2:$M$1900,4,0)","v":"0123386466"},{"$f":"VLOOKUP(B1378,'[1]Ko tgia'!$B$2:$M$1900,5,0)","v":"001206089067"},"20/07/2006",null,null,10,{"v":526500,"d":"526,500"},"K60HTĐ.K01","KĐ"]
[1378,"K245520201077","Nông Văn Trung",{"$f":"VLOOKUP(B1379,'[1]Ko tgia'!$B$2:$M$1900,4,0)","v":"0420086239"},{"$f":"VLOOKUP(B1379,'[1]Ko tgia'!$B$2:$M$1900,5,0)","v":"004202006796"},"01/05/2002",null,null,10,{"v":526500,"d":"526,500"},"K60HTĐ.K01","KĐ"]
[1379,"K245520201050","Vương Thành Luân",{"$f":"VLOOKUP(B1380,'[1]Ko tgia'!$B$2:$M$1900,4,0)","v":"0820020690"},{"$f":"VLOOKUP(B1380,'[1]Ko tgia'!$B$2:$M$1900,5,0)","v":"008206005684"},"19/04/2006",null,null,10,{"v":526500,"d":"526,500"},"K60HTĐ.K01","KĐ"]
[1380,"K245520201208","Nguyễn Hoàng Huy",{"$f":"VLOOKUP(B1381,'[1]Ko tgia'!$B$2:$M$1900,4,0)","v":"0820085315"},{"$f":"VLOOKUP(B1381,'[1]Ko tgia'!$B$2:$M$1900,5,0)","v":"008206005627"},"01/12/2006",null,null,10,{"v":526500,"d":"526,500"},"K60HTĐ.K01","KĐ"]
[1381,"K245520201155","Nhữ Văn Thành",{"$f":"VLOOKUP(B1382,'[1]Ko tgia'!$B$2:$M$1900,4,0)","v":"1420060079"},{"$f":"VLOOKUP(B1382,'[1]Ko tgia'!$B$2:$M$1900,5,0)","v":"014206001563"},"30/01/2006",null,null,10,{"v":526500,"d":"526,500"},"K60HTĐ.K01","KĐ"]
[1382,"K245520201215","Vì Văn Khoa",{"$f":"VLOOKUP(B1383,'[1]Ko tgia'!$B$2:$M$1900,4,0)","v":"1421109845"},{"$f":"VLOOKUP(B1383,'[1]Ko tgia'!$B$2:$M$1900,5,0)","v":"014206007064"},"20/03/2006",null,null,10,{"v":526500,"d":"526,500"},"K60HTĐ.K01","KĐ"]
[1383,"K245520201197","Nguyễn Đình Hiệp",{"$f":"VLOOKUP(B1384,'[1]Ko tgia'!$B$2:$M$1900,4,0)","v":"1920099836"},{"$f":"VLOOKUP(B1384,'[1]Ko tgia'!$B$2:$M$1900,5,0)","v":"019206000223"},"13/11/2006",null,null,10,{"v":526500,"d":"526,500"},"K60HTĐ.K01","KĐ"]
[1384,"K245520201132","Đinh Quang Lâm",{"$f":"VLOOKUP(B1385,'[1]Ko tgia'!$B$2:$M$1900,4,0)","v":"1920241989"},{"$f":"VLOOKUP(B1385,'[1]Ko tgia'!$B$2:$M$1900,5,0)","v":"019206000857"},"09/11/2006",null,null,10,{"v":526500,"d":"526,500"},"K60HTĐ.K01","KĐ"]
[1385,"K245520201246","Dương Minh Triết",{"$f":"VLOOKUP(B1386,'[1]Ko tgia'!$B$2:$M$1900,4,0)","v":"1920315103"},{"$f":"VLOOKUP(B1386,'[1]Ko tgia'!$B$2:$M$1900,5,0)","v":"019206000582"},"14/12/2006",null,null,10,{"v":526500,"d":"526,500"},"K60HTĐ.K01","KĐ"]
[1386,"K245520201179","Đỗ Văn Cường",{"$f":"VLOOKUP(B1387,'[1]Ko tgia'!$B$2:$M$1900,4,0)","v":"1921060059"},{"$f":"VLOOKUP(B1387,'[1]Ko tgia'!$B$2:$M$1900,5,0)","v":"019206006929"},"28/11/2006",null,null,10,{"v":526500,"d":"526,500"},"K60HTĐ.K01","KĐ"]
[1387,"K245520201188","Dương Văn Dũng",{"$f":"VLOOKUP(B1388,'[1]Ko tgia'!$B$2:$M$1900,4,0)","v":"1921109903"},{"$f":"VLOOKUP(B1388,'[1]Ko tgia'!$B$2:$M$1900,5,0)","v":"019206001346"},"15/11/2006",null,null,10,{"v":526500,"d":"526,500"},"K60HTĐ.K01","KĐ"]
[1388,"K245520201045","Nguyễn Anh Khôi",{"$f":"VLOOKUP(B1389,'[1]Ko tgia'!$B$2:$M$1900,4,0)","v":"1921440280"},{"$f":"VLOOKUP(B1389,'[1]Ko tgia'!$B$2:$M$1900,5,0)","v":"019206004717"},"21/09/2006",null,null,10,{"v":526500,"d":"526,500"},"K60HTĐ.K01","KĐ"]
[1389,"K245520201130","Nguyễn Bách Khoa",{"$f":"VLOOKUP(B1390,'[1]Ko tgia'!$B$2:$M$1900,4,0)","v":"2221281159"},{"$f":"VLOOKUP(B1390,'[1]Ko tgia'!$B$2:$M$1900,5,0)","v":"022206002905"},"03/10/2006",null,null,10,{"v":526500,"d":"526,500"},"K60HTĐ.K01","KĐ"]
[1390,"K245520201265","Nguyễn Ngọc Tú",{"$f":"VLOOKUP(B1391,'[1]Ko tgia'!$B$2:$M$1900,4,0)","v":"2420394749"},{"$f":"VLOOKUP(B1391,'[1]Ko tgia'!$B$2:$M$1900,5,0)","v":"024203003647"},"18/10/2003",null,null,10,{"v":526500,"d":"526,500"},"K60HTĐ.K01","KĐ"]
[1391,"K245520201276","Trần Đăng Việt",{"$f":"VLOOKUP(B1392,'[1]Ko tgia'!$B$2:$M$1900,4,0)","v":"2420595615"},{"$f":"VLOOKUP(B1392,'[1]Ko tgia'!$B$2:$M$1900,5,0)","v":"024205011447"},"11/06/2005",null,null,10,{"v":526500,"d":"526,500"},"K60HTĐ.K01","KĐ"]
[1392,"K245520201233","Bùi Bảo Quân",{"$f":"VLOOKUP(B1393,'[1]Ko tgia'!$B$2:$M$1900,4,0)","v":"2420622426"},{"$f":"VLOOKUP(B1393,'[1]Ko tgia'!$B$2:$M$1900,5,0)","v":"024206014190"},"27/07/2006",null,null,10,{"v":526500,"d":"526,500"},"K60HTĐ.K01","KĐ"]
[1393,"K245520207065","Nguyễn Tiến Đạt",{"$f":"VLOOKUP(B1394,'[1]Ko tgia'!$B$2:$M$1900,4,0)","v":"2420715982"},{"$f":"VLOOKUP(B1394,'[1]Ko tgia'!$B$2:$M$1900,5,0)","v":"024206000881"},"08/11/2006",null,null,10,{"v":526500,"d":"526,500"},"K60HTĐ.K01","KĐ"]
[1394,"K245520201026","Phạm Văn Hiền",{"$f":"VLOOKUP(B1395,'[1]Ko tgia'!$B$2:$M$1900,4,0)","v":"2421869029"},{"$f":"VLOOKUP(B1395,'[1]Ko tgia'!$B$2:$M$1900,5,0)","v":"024206013664"},"19/01/2006",null,null,10,{"v":526500,"d":"526,500"},"K60HTĐ.K01","KĐ"]
[1395,"K245520201009","Lương Mạnh Cường",{"$f":"VLOOKUP(B1396,'[1]Ko tgia'!$B$2:$M$1900,4,0)","v":"2422055648"},{"$f":"VLOOKUP(B1396,'[1]Ko tgia'!$B$2:$M$1900,5,0)","v":"024201007347"},"05/06/2001",null,null,10,{"v":526500,"d":"526,500"},"K60HTĐ.K01","KĐ"]
[1396,"K245520201080","Hoàng Anh Tuấn",{"$f":"VLOOKUP(B1397,'[1]Ko tgia'!$B$2:$M$1900,4,0)","v":"2520775163"},{"$f":"VLOOKUP(B1397,'[1]Ko tgia'!$B$2:$M$1900,5,0)","v":"025206006244"},"29/11/2006",null,null,10,{"v":526500,"d":"526,500"},"K60HTĐ.K01","KĐ"]
[1397,"K245520201173","Vũ Tuấn Anh",{"$f":"VLOOKUP(B1398,'[1]Ko tgia'!$B$2:$M$1900,4,0)","v":"2721196605"},{"$f":"VLOOKUP(B1398,'[1]Ko tgia'!$B$2:$M$1900,5,0)","v":"027206005910"},"25/12/2006",null,null,10,{"v":526500,"d":"526,500"},"K60HTĐ.K01","KĐ"]
[1398,"K245520201137","Nguyễn Đình Vũ Minh",{"$f":"VLOOKUP(B1399,'[1]Ko tgia'!$B$2:$M$1900,4,0)","v":"3720918826"},{"$f":"VLOOKUP(B1399,'[1]Ko tgia'!$B$2:$M$1900,5,0)","v":"037206004796"},"23/09/2006",null,null,10,{"v":526500,"d":"526,500"},"K60HTĐ.K01","KĐ"]
[1399,"K245520201062","Hoàng Mạnh Quân",{"$f":"VLOOKUP(B1400,'[1]Ko tgia'!$B$2:$M$1900,4,0)","v":"0124508265"},{"$f":"VLOOKUP(B1400,'[1]Ko tgia'!$B$2:$M$1900,5,0)","v":"01206086951"},"30/12/2006",null,null,10,{"v":526500,"d":"526,500"},"K60KTĐ-CM.K01","KĐ"]
[1400,"K245520201013","Nguyễn Thành Đạt",{"$f":"VLOOKUP(B1401,'[1]Ko tgia'!$B$2:$M$1900,4,0)","v":"0124552695"},{"$f":"VLOOKUP(B1401,'[1]Ko tgia'!$B$2:$M$1900,5,0)","v":"001206038341"},"06/10/2006",null,null,10,{"v":526500,"d":"526,500"},"K60KTĐ-CM.K01","KĐ"]
[1401,"K245520201054","Nghiêm Văn Nam",{"$f":"VLOOKUP(B1402,'[1]Ko tgia'!$B$2:$M$1900,4,0)","v":"0124672924"},{"$f":"VLOOKUP(B1402,'[1]Ko tgia'!$B$2:$M$1900,5,0)","v":"001206027210"},"20/07/2006",null,null,10,{"v":526500,"d":"526,500"},"K60KTĐ-CM.K01","KĐ"]
[1402,"K245520201225","Trần Đại Nghĩa",{"$f":"VLOOKUP(B1403,'[1]Ko tgia'!$B$2:$M$1900,4,0)","v":"0124964108"},{"$f":"VLOOKUP(B1403,'[1]Ko tgia'!$B$2:$M$1900,5,0)","v":"01206086491"},"16/04/2006",null,null,10,{"v":526500,"d":"526,500"},"K60KTĐ-CM.K01","KĐ"]
[1403,"K245520201237","Nguyễn Đắc Trường Sơn",{"$f":"VLOOKUP(B1404,'[1]Ko tgia'!$B$2:$M$1900,4,0)","v":"1920124450"},{"$f":"VLOOKUP(B1404,'[1]Ko tgia'!$B$2:$M$1900,5,0)","v":"019200002436"},"24/12/2000",null,null,10,{"v":526500,"d":"526,500"},"K60KTĐ-CM.K01","KĐ"]
[1404,"K245905218021","Lê Như Khánh",{"$f":"VLOOKUP(B1405,'[1]Ko tgia'!$B$2:$M$1900,4,0)","v":"1920166473"},{"$f":"VLOOKUP(B1405,'[1]Ko tgia'!$B$2:$M$1900,5,0)","v":"019206000113"},"28/06/2006",null,null,10,{"v":526500,"d":"526,500"},"K60KTĐ-CM.K01","KĐ"]
[1405,"K245520201184","Lưu Xuân Đạt",{"$f":"VLOOKUP(B1406,'[1]Ko tgia'!$B$2:$M$1900,4,0)","v":"1920276681"},{"$f":"VLOOKUP(B1406,'[1]Ko tgia'!$B$2:$M$1900,5,0)","v":"019206001874"},"18/08/2006",null,null,10,{"v":526500,"d":"526,500"},"K60KTĐ-CM.K01","KĐ"]
[1406,"K245520201150","Trần Như Quỳnh",{"$f":"VLOOKUP(B1407,'[1]Ko tgia'!$B$2:$M$1900,4,0)","v":"1920443578"},{"$f":"VLOOKUP(B1407,'[1]Ko tgia'!$B$2:$M$1900,5,0)","v":"019306008489"},"04/06/2006",{"$f":"VLOOKUP(B1407,'[2]Ko tgia'!$C$2:$K$9900,8,0)","v":"x"},null,10,{"v":526500,"d":"526,500"},"K60KTĐ-CM.K01","KĐ"]
[1407,"K245520201017","Nguyễn Trọng Dũng",{"$f":"VLOOKUP(B1408,'[1]Ko tgia'!$B$2:$M$1900,4,0)","v":"1920952795"},{"$f":"VLOOKUP(B1408,'[1]Ko tgia'!$B$2:$M$1900,5,0)","v":"019206009767"},"27/10/2006",null,null,10,{"v":526500,"d":"526,500"},"K60KTĐ-CM.K01","KĐ"]
[1408,"K245520201055","Đỗ Văn Nghĩa",{"$f":"VLOOKUP(B1409,'[1]Ko tgia'!$B$2:$M$1900,4,0)","v":"1920952931"},{"$f":"VLOOKUP(B1409,'[1]Ko tgia'!$B$2:$M$1900,5,0)","v":"019206003769"},"09/01/2006",null,null,10,{"v":526500,"d":"526,500"},"K60KTĐ-CM.K01","KĐ"]
[1409,"K245520201135","Trịnh Xuân Lộc",{"$f":"VLOOKUP(B1410,'[1]Ko tgia'!$B$2:$M$1900,4,0)","v":"1921006665"},{"$f":"VLOOKUP(B1410,'[1]Ko tgia'!$B$2:$M$1900,5,0)","v":"019206007792"},"22/08/2006",null,null,10,{"v":526500,"d":"526,500"},"K60KTĐ-CM.K01","KĐ"]
[1410,"K245520201032","Lê Gia Hoàng",{"$f":"VLOOKUP(B1411,'[1]Ko tgia'!$B$2:$M$1900,4,0)","v":"1921043157"},{"$f":"VLOOKUP(B1411,'[1]Ko tgia'!$B$2:$M$1900,5,0)","v":"019206009522"},"01/04/2006",null,null,10,{"v":526500,"d":"526,500"},"K60KTĐ-CM.K01","KĐ"]
[1411,"K245520201104","Cao Tiến Dũng",{"$f":"VLOOKUP(B1412,'[1]Ko tgia'!$B$2:$M$1900,4,0)","v":"1921063535"},{"$f":"VLOOKUP(B1412,'[1]Ko tgia'!$B$2:$M$1900,5,0)","v":"019206008145"},"17/04/2006",null,null,10,{"v":526500,"d":"526,500"},"K60KTĐ-CM.K01","KĐ"]
[1412,"K245520201112","Nguyễn Thế Hiển",{"$f":"VLOOKUP(B1413,'[1]Ko tgia'!$B$2:$M$1900,4,0)","v":"1921440920"},{"$f":"VLOOKUP(B1413,'[1]Ko tgia'!$B$2:$M$1900,5,0)","v":"019205000720"},"14/06/2005",null,null,10,{"v":526500,"d":"526,500"},"K60KTĐ-CM.K01","KĐ"]
[1413,"K245520201021","Nguyễn Khánh Duy",{"$f":"VLOOKUP(B1414,'[1]Ko tgia'!$B$2:$M$1900,4,0)","v":"1921693070"},{"$f":"VLOOKUP(B1414,'[1]Ko tgia'!$B$2:$M$1900,5,0)","v":"019206000283"},"07/09/2006",null,null,10,{"v":526500,"d":"526,500"},"K60KTĐ-CM.K01","KĐ"]
[1414,"K245520201022","Ma Khánh Duy",{"$f":"VLOOKUP(B1415,'[1]Ko tgia'!$B$2:$M$1900,4,0)","v":"2220767736"},{"$f":"VLOOKUP(B1415,'[1]Ko tgia'!$B$2:$M$1900,5,0)","v":"022206002191"},"15/10/2006",null,null,10,{"v":526500,"d":"526,500"},"K60KTĐ-CM.K01","KĐ"]
[1415,"K245520201212","Triệu Huy Khánh",{"$f":"VLOOKUP(B1416,'[1]Ko tgia'!$B$2:$M$1900,4,0)","v":"2420082869"},{"$f":"VLOOKUP(B1416,'[1]Ko tgia'!$B$2:$M$1900,5,0)","v":"024206000681"},"15/12/2006",null,null,10,{"v":526500,"d":"526,500"},"K60KTĐ-CM.K01","KĐ"]
[1416,"K245520201120","Nguyễn Công Hùng",{"$f":"VLOOKUP(B1417,'[1]Ko tgia'!$B$2:$M$1900,4,0)","v":"2420177507"},{"$f":"VLOOKUP(B1417,'[1]Ko tgia'!$B$2:$M$1900,5,0)","v":"024206014646"},"16/11/2006",null,null,10,{"v":526500,"d":"526,500"},"K60KTĐ-CM.K01","KĐ"]
[1417,"K245520201087","Đào Ngọc An",{"$f":"VLOOKUP(B1418,'[1]Ko tgia'!$B$2:$M$1900,4,0)","v":"2420220570"},{"$f":"VLOOKUP(B1418,'[1]Ko tgia'!$B$2:$M$1900,5,0)","v":"024206007024"},"14/12/2006",null,null,10,{"v":526500,"d":"526,500"},"K60KTĐ-CM.K01","KĐ"]
[1418,"K245520201252","Vũ Anh Tuấn",{"$f":"VLOOKUP(B1419,'[1]Ko tgia'!$B$2:$M$1900,4,0)","v":"2420230438"},{"$f":"VLOOKUP(B1419,'[1]Ko tgia'!$B$2:$M$1900,5,0)","v":"024206000941"},"13/08/2006",null,null,10,{"v":526500,"d":"526,500"},"K60KTĐ-CM.K01","KĐ"]
[1419,"K245520201138","Đào Trần Nhật Minh",{"$f":"VLOOKUP(B1420,'[1]Ko tgia'!$B$2:$M$1900,4,0)","v":"2420231927"},{"$f":"VLOOKUP(B1420,'[1]Ko tgia'!$B$2:$M$1900,5,0)","v":"024206011538"},"08/08/2006",null,null,10,{"v":526500,"d":"526,500"},"K60KTĐ-CM.K01","KĐ"]
[1420,"K245520201071","Hoàng Văn Thế",{"$f":"VLOOKUP(B1421,'[1]Ko tgia'!$B$2:$M$1900,4,0)","v":"2420237473"},{"$f":"VLOOKUP(B1421,'[1]Ko tgia'!$B$2:$M$1900,5,0)","v":"024206014314"},"26/07/2006",null,null,10,{"v":526500,"d":"526,500"},"K60KTĐ-CM.K01","KĐ"]
[1421,"K245520201141","Nguyễn Văn Nghĩa",{"$f":"VLOOKUP(B1422,'[1]Ko tgia'!$B$2:$M$1900,4,0)","v":"2421395517"},{"$f":"VLOOKUP(B1422,'[1]Ko tgia'!$B$2:$M$1900,5,0)","v":"024206005179"},"12/07/2006",null,null,10,{"v":526500,"d":"526,500"},"K60KTĐ-CM.K01","KĐ"]
[1422,"K245510205089","Hà Văn Đức",{"$f":"VLOOKUP(B1423,'[1]Ko tgia'!$B$2:$M$1900,4,0)","v":"2421607741"},{"$f":"VLOOKUP(B1423,'[1]Ko tgia'!$B$2:$M$1900,5,0)","v":"024206004415"},"14/04/2006",null,null,10,{"v":526500,"d":"526,500"},"K60KTĐ-CM.K01","KĐ"]
[1423,"K245520201058","Nguyễn Long Nhật",{"$f":"VLOOKUP(B1424,'[1]Ko tgia'!$B$2:$M$1900,4,0)","v":"2421645126"},{"$f":"VLOOKUP(B1424,'[1]Ko tgia'!$B$2:$M$1900,5,0)","v":"024206014546"},"23/11/2006",null,null,10,{"v":526500,"d":"526,500"},"K60KTĐ-CM.K01","KĐ"]
[1424,"K245520201034","Ngô Mạnh Hùng",{"$f":"VLOOKUP(B1425,'[1]Ko tgia'!$B$2:$M$1900,4,0)","v":"2422402765"},{"$f":"VLOOKUP(B1425,'[1]Ko tgia'!$B$2:$M$1900,5,0)","v":"024206014087"},"09/04/2006",null,null,10,{"v":526500,"d":"526,500"},"K60KTĐ-CM.K01","KĐ"]
[1425,"K245520201231","Lưu Hồng Phúc",{"$f":"VLOOKUP(B1426,'[1]Ko tgia'!$B$2:$M$1900,4,0)","v":"2620028708"},{"$f":"VLOOKUP(B1426,'[1]Ko tgia'!$B$2:$M$1900,5,0)","v":"026206000910"},"02/08/2006",null,null,10,{"v":526500,"d":"526,500"},"K60KTĐ-CM.K01","KĐ"]
[1426,"K245520201023","Đỗ Hữu Giang",{"$f":"VLOOKUP(B1427,'[1]Ko tgia'!$B$2:$M$1900,4,0)","v":"2620271370"},{"$f":"VLOOKUP(B1427,'[1]Ko tgia'!$B$2:$M$1900,5,0)","v":"026206000608"},"11/04/2006",null,null,10,{"v":526500,"d":"526,500"},"K60KTĐ-CM.K01","KĐ"]
[1427,"K245520201076","Trương Văn Trinh",{"$f":"VLOOKUP(B1428,'[1]Ko tgia'!$B$2:$M$1900,4,0)","v":"2721658955"},{"$f":"VLOOKUP(B1428,'[1]Ko tgia'!$B$2:$M$1900,5,0)","v":"027206013871"},"02/03/2006",null,null,10,{"v":526500,"d":"526,500"},"K60KTĐ-CM.K01","KĐ"]
[1428,"K245520201060","Nguyễn Phương Phú",{"$f":"VLOOKUP(B1429,'[1]Ko tgia'!$B$2:$M$1900,4,0)","v":"2721743243"},{"$f":"VLOOKUP(B1429,'[1]Ko tgia'!$B$2:$M$1900,5,0)","v":"027206002866"},"18/01/2006",null,null,10,{"v":526500,"d":"526,500"},"K60KTĐ-CM.K01","KĐ"]
[1429,"K245520201118","Trần Đức Hoàng",{"$f":"VLOOKUP(B1430,'[1]Ko tgia'!$B$2:$M$1900,4,0)","v":"3021352352"},{"$f":"VLOOKUP(B1430,'[1]Ko tgia'!$B$2:$M$1900,5,0)","v":"030206014046"},"08/10/2006",null,null,10,{"v":526500,"d":"526,500"},"K60KTĐ-CM.K01","KĐ"]
[1430,"K245520201183","Trịnh Tuấn Đạt",{"$f":"VLOOKUP(B1431,'[1]Ko tgia'!$B$2:$M$1900,4,0)","v":"3824069836"},{"$f":"VLOOKUP(B1431,'[1]Ko tgia'!$B$2:$M$1900,5,0)","v":"038205021381"},"08/11/2005",null,null,10,{"v":526500,"d":"526,500"},"K60KTĐ-CM.K01","KĐ"]
[1431,"K245520201238","Tạ Nhật Tân",{"$f":"VLOOKUP(B1432,'[1]Ko tgia'!$B$2:$M$1900,4,0)","v":"1921023852"},{"$f":"VLOOKUP(B1432,'[1]Ko tgia'!$B$2:$M$1900,5,0)","v":"019206006318"},"30/10/2006",null,null,10,{"v":526500,"d":"526,500"},"K60TBĐ-ĐT.K01","KĐ"]
[1432,"K245520201047","Vũ Tùng Lâm",{"$f":"VLOOKUP(B1433,'[1]Ko tgia'!$B$2:$M$1900,4,0)","v":"1921568292"},{"$f":"VLOOKUP(B1433,'[1]Ko tgia'!$B$2:$M$1900,5,0)","v":"019206006871"},"23/10/2006",null,null,10,{"v":526500,"d":"526,500"},"K60TBĐ-ĐT.K01","KĐ"]
[1433,"K245520216026","Nguyễn Văn Hải",{"$f":"VLOOKUP(B1434,'[1]Ko tgia'!$B$2:$M$1900,3,0)","v":"2421615987"},{"$f":"VLOOKUP(B1434,'[1]Ko tgia'!$B$2:$M$1900,5,0)","v":"024206008480"},"03/05/2006",null,null,10,{"v":526500,"d":"526,500"},"K60TĐH.K01","KĐ"]
[1434,"K245520216585","Phạm Duy Khánh",{"$f":"VLOOKUP(B1435,'[1]Ko tgia'!$B$2:$M$1900,3,0)","v":"1920235341"},{"$f":"VLOOKUP(B1435,'[1]Ko tgia'!$B$2:$M$1900,5,0)","v":"019206009974"},"29/09/2006",null,null,10,{"v":526500,"d":"526,500"},"K60TĐH.K01","KĐ"]
[1435,"K245520216044","Ngô Trung Kiên",{"$f":"VLOOKUP(B1436,'[1]Ko tgia'!$B$2:$M$1900,3,0)","v":"1920129736"},{"$f":"VLOOKUP(B1436,'[1]Ko tgia'!$B$2:$M$1900,5,0)","v":"019206009752"},"10/04/2006",null,null,10,{"v":526500,"d":"526,500"},"K60TĐH.K01","KĐ"]
[1436,"K245520216048","Nguyễn Hoàng Long",{"$f":"VLOOKUP(B1437,'[1]Ko tgia'!$B$2:$M$1900,3,0)","v":"1920752897"},{"$f":"VLOOKUP(B1437,'[1]Ko tgia'!$B$2:$M$1900,5,0)","v":"019205008985"},"30/08/2005",null,null,10,{"v":526500,"d":"526,500"},"K60TĐH.K01","KĐ"]
[1437,"K245520216164","Đàm Lê Quốc Việt",{"$f":"VLOOKUP(B1438,'[1]Ko tgia'!$B$2:$M$1900,4,0)","v":"0121079534"},{"$f":"VLOOKUP(B1438,'[1]Ko tgia'!$B$2:$M$1900,5,0)","v":"001206082658"},"10/12/2006",null,null,10,{"v":526500,"d":"526,500"},"K60TĐH.K02","KĐ"]
[1438,"K245520216123","Phạm Gia Huy",{"$f":"VLOOKUP(B1439,'[1]Ko tgia'!$B$2:$M$1900,4,0)","v":"1920252404"},{"$f":"VLOOKUP(B1439,'[1]Ko tgia'!$B$2:$M$1900,5,0)","v":"019206002068"},"02/03/2006",null,null,10,{"v":526500,"d":"526,500"},"K60TĐH.K02","KĐ"]
[1439,"K245520216250","An Minh Vũ",{"$f":"VLOOKUP(B1440,'[1]Ko tgia'!$B$2:$M$1900,4,0)","v":"1920621359"},{"$f":"VLOOKUP(B1440,'[1]Ko tgia'!$B$2:$M$1900,5,0)","v":"019206000139"},"02/02/2006",null,null,10,{"v":526500,"d":"526,500"},"K60TĐH.K02","KĐ"]
[1440,"K245520216160","Nguyễn Văn Tú",{"$f":"VLOOKUP(B1441,'[1]Ko tgia'!$B$2:$M$1900,4,0)","v":"1921032683"},{"$f":"VLOOKUP(B1441,'[1]Ko tgia'!$B$2:$M$1900,5,0)","v":"019206003583"},"18/12/2006",null,null,10,{"v":526500,"d":"526,500"},"K60TĐH.K02","KĐ"]
[1441,"K245520216099","Phùng Văn Doanh",{"$f":"VLOOKUP(B1442,'[1]Ko tgia'!$B$2:$M$1900,4,0)","v":"1921106709"},{"$f":"VLOOKUP(B1442,'[1]Ko tgia'!$B$2:$M$1900,5,0)","v":"019206005504"},"02/10/2006",null,null,10,{"v":526500,"d":"526,500"},"K60TĐH.K02","KĐ"]
[1442,"K245520216241","Hoàng Thị Toan",{"$f":"VLOOKUP(B1443,'[1]Ko tgia'!$B$2:$M$1900,4,0)","v":"2020429869"},{"$f":"VLOOKUP(B1443,'[1]Ko tgia'!$B$2:$M$1900,5,0)","v":"020304007840"},"11/06/2004",{"$f":"VLOOKUP(B1443,'[2]Ko tgia'!$C$2:$K$9900,8,0)","v":"x"},null,10,{"v":526500,"d":"526,500"},"K60TĐH.K02","KĐ"]
[1443,"K245520216120","Hoàng Quốc Hưng",{"$f":"VLOOKUP(B1444,'[1]Ko tgia'!$B$2:$M$1900,4,0)","v":"2020565834"},{"$f":"VLOOKUP(B1444,'[1]Ko tgia'!$B$2:$M$1900,5,0)","v":"020206005611"},"05/08/2006",null,null,10,{"v":526500,"d":"526,500"},"K60TĐH.K02","KĐ"]
[1444,"K245520216126","Nguyễn Hữu Khánh",{"$f":"VLOOKUP(B1445,'[1]Ko tgia'!$B$2:$M$1900,4,0)","v":"2420207914"},{"$f":"VLOOKUP(B1445,'[1]Ko tgia'!$B$2:$M$1900,5,0)","v":"024206008782"},"20/03/2006",null,null,10,{"v":526500,"d":"526,500"},"K60TĐH.K02","KĐ"]
[1445,"K245520216145","Nguyễn Văn Quân",{"$f":"VLOOKUP(B1446,'[1]Ko tgia'!$B$2:$M$1900,4,0)","v":"2420445700"},{"$f":"VLOOKUP(B1446,'[1]Ko tgia'!$B$2:$M$1900,5,0)","v":"024206002595"},"01/01/2006",null,null,10,{"v":526500,"d":"526,500"},"K60TĐH.K02","KĐ"]
[1446,"K245520216134","Đặng Văn Mạnh",{"$f":"VLOOKUP(B1447,'[1]Ko tgia'!$B$2:$M$1900,4,0)","v":"2420798595"},{"$f":"VLOOKUP(B1447,'[1]Ko tgia'!$B$2:$M$1900,5,0)","v":"024206011512"},"19/06/2006",null,null,10,{"v":526500,"d":"526,500"},"K60TĐH.K02","KĐ"]
[1447,"K245520216225","Ngô Quang Nguyên",{"$f":"VLOOKUP(B1448,'[1]Ko tgia'!$B$2:$M$1900,4,0)","v":"2421101576"},{"$f":"VLOOKUP(B1448,'[1]Ko tgia'!$B$2:$M$1900,5,0)","v":"024206001072"},"04/01/2006",null,null,10,{"v":526500,"d":"526,500"},"K60TĐH.K02","KĐ"]
[1448,"K245520216112","Nguyễn Đình Hiệp",{"$f":"VLOOKUP(B1449,'[1]Ko tgia'!$B$2:$M$1900,4,0)","v":"2421518857"},{"$f":"VLOOKUP(B1449,'[1]Ko tgia'!$B$2:$M$1900,5,0)","v":"024206010542"},"06/03/2006",null,null,10,{"v":526500,"d":"526,500"},"K60TĐH.K02","KĐ"]
[1449,"K245520216151","Bùi Văn Thái",{"$f":"VLOOKUP(B1450,'[1]Ko tgia'!$B$2:$M$1900,4,0)","v":"2421552040"},{"$f":"VLOOKUP(B1450,'[1]Ko tgia'!$B$2:$M$1900,5,0)","v":"024206006463"},"21/10/2006",null,null,10,{"v":526500,"d":"526,500"},"K60TĐH.K02","KĐ"]
[1450,"K245520216194","Nguyễn Đức Hạnh",{"$f":"VLOOKUP(B1451,'[1]Ko tgia'!$B$2:$M$1900,4,0)","v":"2720911730"},{"$f":"VLOOKUP(B1451,'[1]Ko tgia'!$B$2:$M$1900,5,0)","v":"027206001371"},"22/03/2006",null,null,10,{"v":526500,"d":"526,500"},"K60TĐH.K02","KĐ"]
[1451,"K245520216247","Nguyễn Đắc Tuyên",{"$f":"VLOOKUP(B1452,'[1]Ko tgia'!$B$2:$M$1900,4,0)","v":"3620626114"},{"$f":"VLOOKUP(B1452,'[1]Ko tgia'!$B$2:$M$1900,5,0)","v":"036206004683"},"02/09/2006",null,null,10,{"v":526500,"d":"526,500"},"K60TĐH.K02","KĐ"]
[1452,"K245520216098","Đặng Tiến Đạt",{"$f":"VLOOKUP(B1453,'[1]Ko tgia'!$B$2:$M$1900,4,0)","v":"9731927241"},{"$f":"VLOOKUP(B1453,'[1]Ko tgia'!$B$2:$M$1900,5,0)","v":"024206000614"},"24/03/2006",null,null,10,{"v":526500,"d":"526,500"},"K60TĐH.K02","KĐ"]
[1453,"K245520216279","Bùi Thị Hậu",{"$f":"VLOOKUP(B1454,'[1]Ko tgia'!$B$2:$M$1900,3,0)","v":"1920472239"},{"$f":"VLOOKUP(B1454,'[1]Ko tgia'!$B$2:$M$1900,5,0)","v":"019306002337"},"22/10/2006",{"$f":"VLOOKUP(B1454,'[2]Ko tgia'!$C$2:$K$9900,8,0)","v":"x"},null,10,{"v":526500,"d":"526,500"},"K60TĐH.K03","KĐ"]
[1454,"K245520216286","Nguyễn Ngọc Hùng",{"$f":"VLOOKUP(B1455,'[1]Ko tgia'!$B$2:$M$1900,3,0)","v":"1920018785"},{"$f":"VLOOKUP(B1455,'[1]Ko tgia'!$B$2:$M$1900,5,0)","v":"019206004188"},"23/09/2006",null,null,10,{"v":526500,"d":"526,500"},"K60TĐH.K03","KĐ"]
[1455,"K245520216348","Giáp Quang Đại",{"$f":"VLOOKUP(B1456,'[1]Ko tgia'!$B$2:$M$1900,3,0)","v":"2420268327"},{"$f":"VLOOKUP(B1456,'[1]Ko tgia'!$B$2:$M$1900,5,0)","v":"024206007132"},"30/06/2006",null,null,10,{"v":526500,"d":"526,500"},"K60TĐH.K03","KĐ"]
[1456,"K245520216371","Đỗ Quốc Hùng",{"$f":"VLOOKUP(B1457,'[1]Ko tgia'!$B$2:$M$1900,3,0)","v":"2420385794"},{"$f":"VLOOKUP(B1457,'[1]Ko tgia'!$B$2:$M$1900,5,0)","v":"024206009428"},"03/06/2006",null,null,10,{"v":526500,"d":"526,500"},"K60TĐH.K03","KĐ"]
[1457,"K245520216397","Nguyễn Huy Quang",{"$f":"VLOOKUP(B1458,'[1]Ko tgia'!$B$2:$M$1900,3,0)","v":"1920489567"},{"$f":"VLOOKUP(B1458,'[1]Ko tgia'!$B$2:$M$1900,5,0)","v":"019206005404"},"16/01/2006",null,null,10,{"v":526500,"d":"526,500"},"K60TĐH.K03","KĐ"]
[1458,"K245520216340","Bùi Đức Anh",{"$f":"VLOOKUP(B1459,'[1]Ko tgia'!$B$2:$M$1900,4,0)","v":"1921001504"},{"$f":"VLOOKUP(B1459,'[1]Ko tgia'!$B$2:$M$1900,5,0)","v":"019206010965"},"25/10/2006",null,null,10,{"v":526500,"d":"526,500"},"K60TĐH.K04","KĐ"]
[1459,"K245520216436","Nguyễn Văn Đức",{"$f":"VLOOKUP(B1460,'[1]Ko tgia'!$B$2:$M$1900,3,0)","v":"2420245772"},{"$f":"VLOOKUP(B1460,'[1]Ko tgia'!$B$2:$M$1900,5,0)","v":"024206014654"},"30/10/2006",null,null,10,{"v":526500,"d":"526,500"},"K60TĐH.K04","KĐ"]
[1460,"K245520216508","Nguyễn Việt Bắc",{"$f":"VLOOKUP(B1461,'[1]Ko tgia'!$B$2:$M$1900,4,0)","v":"1920474361"},{"$f":"VLOOKUP(B1461,'[1]Ko tgia'!$B$2:$M$1900,5,0)","v":"019206005212"},"13/03/2006",null,null,10,{"v":526500,"d":"526,500"},"K60TĐH.K05","KĐ"]
[1461,"K245520216516","Triệu Văn Điệp",{"$f":"VLOOKUP(B1462,'[1]Ko tgia'!$B$2:$M$1900,4,0)","v":"1920713083"},{"$f":"VLOOKUP(B1462,'[1]Ko tgia'!$B$2:$M$1900,5,0)","v":"019206008810"},"31/07/2006",null,null,10,{"v":526500,"d":"526,500"},"K60TĐH.K05","KĐ"]
[1462,"K245520216546","Đỗ Tùng Lâm",{"$f":"VLOOKUP(B1463,'[1]Ko tgia'!$B$2:$M$1900,4,0)","v":"1921440432"},{"$f":"VLOOKUP(B1463,'[1]Ko tgia'!$B$2:$M$1900,5,0)","v":"019206000192"},"18/06/2006",null,null,10,{"v":526500,"d":"526,500"},"K60TĐH.K05","KĐ"]
[1463,"K245520216507","Lê Tuấn Anh",{"$f":"VLOOKUP(B1464,'[1]Ko tgia'!$B$2:$M$1900,3,0)","v":"2421415761"},{"$f":"VLOOKUP(B1464,'[1]Ko tgia'!$B$2:$M$1900,5,0)","v":"024206012487"},"17/12/2006",null,null,10,{"v":526500,"d":"526,500"},"K60TĐH.K05","KĐ"]
[1464,"K245520216440","Nguyễn Tùng Dương",{"$f":"VLOOKUP(B1465,'[1]Ko tgia'!$B$2:$M$1900,3,0)","v":"1920249691"},{"$f":"VLOOKUP(B1465,'[1]Ko tgia'!$B$2:$M$1900,5,0)","v":"019206006996"},"01/04/2006",null,null,10,{"v":526500,"d":"526,500"},"K60TĐH.K05","KĐ"]
[1465,"K245520216548","Bùi Xuân Lộc",{"$f":"VLOOKUP(B1466,'[1]Ko tgia'!$B$2:$M$1900,3,0)","v":"1920754343"},{"$f":"VLOOKUP(B1466,'[1]Ko tgia'!$B$2:$M$1900,5,0)","v":"019206010977"},"05/09/2006",null,null,10,{"v":526500,"d":"526,500"},"K60TĐH.K05","KĐ"]
[1466,"K245520216501","Nguyễn Xuân Vũ",{"$f":"VLOOKUP(B1467,'[1]Ko tgia'!$B$2:$M$1900,3,0)","v":"1921011862"},{"$f":"VLOOKUP(B1467,'[1]Ko tgia'!$B$2:$M$1900,5,0)","v":"019206004395"},"02/01/2006",null,null,10,{"v":526500,"d":"526,500"},"K60TĐH.K05","KĐ"]
[1467,"K245520216543","Nguyễn Duy Khánh",{"$f":"VLOOKUP(B1468,'[1]Ko tgia'!$B$2:$M$1900,3,0)","v":"1920555959"},{"$f":"VLOOKUP(B1468,'[1]Ko tgia'!$B$2:$M$1900,5,0)","v":"019206006569"},"09/03/2006",null,null,10,{"v":526500,"d":"526,500"},"K60TĐH.K05","KĐ"]
[1468,"K245520216512","Nguyễn Đức Cương",{"$f":"VLOOKUP(B1469,'[1]Ko tgia'!$B$2:$M$1900,3,0)","v":"2520706663"},{"$f":"VLOOKUP(B1469,'[1]Ko tgia'!$B$2:$M$1900,5,0)","v":"025206002961"},"02/01/2006",null,null,10,{"v":526500,"d":"526,500"},"K60TĐH.K05","KĐ"]
[1469,"K245520216227","Phan Văn Phú",{"$f":"VLOOKUP(B1470,'[1]Ko tgia'!$B$2:$M$1900,4,0)","v":"1920300080"},{"$f":"VLOOKUP(B1470,'[1]Ko tgia'!$B$2:$M$1900,5,0)","v":"019206000467"},"26/04/2006",null,null,10,{"v":526500,"d":"526,500"},"K60TĐH-ĐHDN.K01","KĐ"]
[1470,"K245520216248","Nghiêm Văn Việt",{"$f":"VLOOKUP(B1471,'[1]Ko tgia'!$B$2:$M$1900,4,0)","v":"1920465268"},{"$f":"VLOOKUP(B1471,'[1]Ko tgia'!$B$2:$M$1900,5,0)","v":"019206010593"},"08/11/2006",null,null,10,{"v":526500,"d":"526,500"},"K60TĐH-ĐHDN.K01","KĐ"]
[1471,"K245520216141","Nguyễn Khắc Nguyên",{"$f":"VLOOKUP(B1472,'[1]Ko tgia'!$B$2:$M$1900,4,0)","v":"1921247152"},{"$f":"VLOOKUP(B1472,'[1]Ko tgia'!$B$2:$M$1900,5,0)","v":"019206006410"},"22/11/2006",null,null,10,{"v":526500,"d":"526,500"},"K60TĐH-ĐHDN.K01","KĐ"]
[1472,"K245520216349","Lê Nam Đăng",{"$f":"VLOOKUP(B1473,'[1]Ko tgia'!$B$2:$M$1900,4,0)","v":"1920464097"},{"$f":"VLOOKUP(B1473,'[1]Ko tgia'!$B$2:$M$1900,5,0)","v":"019206006409"},"28/07/2006",null,null,10,{"v":526500,"d":"526,500"},"K60TĐH-ĐHDN.K02","KĐ"]
[1473,"K245520216376","Trần Quang Khải",{"$f":"VLOOKUP(B1474,'[1]Ko tgia'!$B$2:$M$1900,4,0)","v":"1921066824"},{"$f":"VLOOKUP(B1474,'[1]Ko tgia'!$B$2:$M$1900,5,0)","v":"019206001592"},"23/10/2006",null,null,10,{"v":526500,"d":"526,500"},"K60TĐH-ĐHDN.K02","KĐ"]
[1474,"K225510604054","Hoàng Tuấn Kiên",{"$f":"VLOOKUP(B1475,'[1]Ko tgia'!$B$2:$M$1900,4,0)","v":"0125544219"},{"$f":"VLOOKUP(B1475,'[1]Ko tgia'!$B$2:$M$1900,5,0)","v":"001204000110"},"14/02/2004",null,null,10,{"v":526500,"d":"526,500"},"K58KTN.C01","KT"]
[1475,"K225510604025","Nguyễn Nhật Minh",{"$f":"VLOOKUP(B1476,'[1]Ko tgia'!$B$2:$M$1900,4,0)","v":"1020127755"},{"$f":"VLOOKUP(B1476,'[1]Ko tgia'!$B$2:$M$1900,5,0)","v":"019204010206"},"04/06/2004",null,null,10,{"v":526500,"d":"526,500"},"K58KTN.C01","KT"]
[1476,"K225510604023","Nguyễn Quỳnh Mai",{"$f":"VLOOKUP(B1477,'[1]Ko tgia'!$B$2:$M$1900,4,0)","v":"1920016819"},{"$f":"VLOOKUP(B1477,'[1]Ko tgia'!$B$2:$M$1900,5,0)","v":"019304006628"},"31/03/2004",{"$f":"VLOOKUP(B1477,'[2]Ko tgia'!$C$2:$K$9900,8,0)","v":"x"},null,10,{"v":526500,"d":"526,500"},"K58KTN.C01","KT"]
[1477,"K225510604057","Phạm Gia Khiêm",{"$f":"VLOOKUP(B1478,'[1]Ko tgia'!$B$2:$M$1900,4,0)","v":"1920216000"},{"$f":"VLOOKUP(B1478,'[1]Ko tgia'!$B$2:$M$1900,5,0)","v":"019204000467"},"18/05/2004",null,null,10,{"v":526500,"d":"526,500"},"K58KTN.C01","KT"]
[1478,"K225510604045","Đoàn Bá Hoàng",{"$f":"VLOOKUP(B1479,'[1]Ko tgia'!$B$2:$M$1900,4,0)","v":"1920545279"},{"$f":"VLOOKUP(B1479,'[1]Ko tgia'!$B$2:$M$1900,5,0)","v":"019204000292"},"27/11/2004",null,null,10,{"v":526500,"d":"526,500"},"K58KTN.C01","KT"]
[1479,"K225510604053","Bùi Thanh Phương",{"$f":"VLOOKUP(B1480,'[1]Ko tgia'!$B$2:$M$1900,4,0)","v":"1920939541"},{"$f":"VLOOKUP(B1480,'[1]Ko tgia'!$B$2:$M$1900,5,0)","v":"019204003075"},"03/03/2004",null,null,10,{"v":526500,"d":"526,500"},"K58KTN.C01","KT"]
[1480,"K225510604022","Nguyễn Thị Loan",{"$f":"VLOOKUP(B1481,'[1]Ko tgia'!$B$2:$M$1900,4,0)","v":"1921114971"},{"$f":"VLOOKUP(B1481,'[1]Ko tgia'!$B$2:$M$1900,5,0)","v":"019304007801"},"01/08/2004",{"$f":"VLOOKUP(B1481,'[2]Ko tgia'!$C$2:$K$9900,8,0)","v":"x"},null,10,{"v":526500,"d":"526,500"},"K58KTN.C01","KT"]
[1481,"K225510604063","Hoàng Thu Vân",{"$f":"VLOOKUP(B1482,'[1]Ko tgia'!$B$2:$M$1900,4,0)","v":"1921115822"},{"$f":"VLOOKUP(B1482,'[1]Ko tgia'!$B$2:$M$1900,5,0)","v":"019304005537"},"13/05/2004",{"$f":"VLOOKUP(B1482,'[2]Ko tgia'!$C$2:$K$9900,8,0)","v":"x"},null,10,{"v":526500,"d":"526,500"},"K58KTN.C01","KT"]
[1482,"K225510604040","Dương Nghĩa Anh Tuấn",{"$f":"VLOOKUP(B1483,'[1]Ko tgia'!$B$2:$M$1900,4,0)","v":"1921202501"},{"$f":"VLOOKUP(B1483,'[1]Ko tgia'!$B$2:$M$1900,5,0)","v":"019204009904"},"04/10/2004",null,null,10,{"v":526500,"d":"526,500"},"K58KTN.C01","KT"]
[1483,"K225510604009","Lộc Xuân Hậu",{"$f":"VLOOKUP(B1484,'[1]Ko tgia'!$B$2:$M$1900,4,0)","v":"2020431124"},{"$f":"VLOOKUP(B1484,'[1]Ko tgia'!$B$2:$M$1900,5,0)","v":"020204007675"},"18/06/2004",null,null,10,{"v":526500,"d":"526,500"},"K58KTN.C01","KT"]
[1484,"K225510604058","Nguyễn Thị Khánh",{"$f":"VLOOKUP(B1485,'[1]Ko tgia'!$B$2:$M$1900,4,0)","v":"2421674596"},{"$f":"VLOOKUP(B1485,'[1]Ko tgia'!$B$2:$M$1900,5,0)","v":" 024304013367"},"25/07/2004",{"$f":"VLOOKUP(B1485,'[2]Ko tgia'!$C$2:$K$9900,8,0)","v":"x"},null,10,{"v":526500,"d":"526,500"},"K58KTN.C01","KT"]
[1485,"K225510604051","Giáp Minh Đức",{"$f":"VLOOKUP(B1486,'[1]Ko tgia'!$B$2:$M$1900,4,0)","v":"2421985078"},{"$f":"VLOOKUP(B1486,'[1]Ko tgia'!$B$2:$M$1900,5,0)","v":"024204009684"},"26/11/2004",null,null,10,{"v":526500,"d":"526,500"},"K58KTN.C01","KT"]
[1486,"K225510601064","Đào Văn Tuyến",{"$f":"VLOOKUP(B1487,'[1]Ko tgia'!$B$2:$M$1900,4,0)","v":"0121488389"},{"$f":"VLOOKUP(B1487,'[1]Ko tgia'!$B$2:$M$1900,5,0)","v":"001204012703"},"19/09/2004",null,null,10,{"v":526500,"d":"526,500"},"K58QLC.C01","KT"]
[1487,"K225510601036","Phạm Thùy Linh",{"$f":"VLOOKUP(B1488,'[1]Ko tgia'!$B$2:$M$1900,4,0)","v":"0124782438"},{"$f":"VLOOKUP(B1488,'[1]Ko tgia'!$B$2:$M$1900,5,0)","v":"001304031885"},"14/07/2004",{"$f":"VLOOKUP(B1488,'[2]Ko tgia'!$C$2:$K$9900,8,0)","v":"x"},null,10,{"v":526500,"d":"526,500"},"K58QLC.C01","KT"]
[1488,"K225510601015","Nguyễn Văn Giang",{"$f":"VLOOKUP(B1489,'[1]Ko tgia'!$B$2:$M$1900,4,0)","v":"0124785900"},{"$f":"VLOOKUP(B1489,'[1]Ko tgia'!$B$2:$M$1900,5,0)","v":"001204036593"},"04/04/2004",null,null,10,{"v":526500,"d":"526,500"},"K58QLC.C01","KT"]
[1489,"K225510601030","Nguyễn Ngọc Lan",{"$f":"VLOOKUP(B1490,'[1]Ko tgia'!$B$2:$M$1900,4,0)","v":"1920017295"},{"$f":"VLOOKUP(B1490,'[1]Ko tgia'!$B$2:$M$1900,5,0)","v":"019304010229"},"21/01/2004",{"$f":"VLOOKUP(B1490,'[2]Ko tgia'!$C$2:$K$9900,8,0)","v":"x"},null,10,{"v":526500,"d":"526,500"},"K58QLC.C01","KT"]
[1490,"K225510601062","Trần Hiển Tuấn",{"$f":"VLOOKUP(B1491,'[1]Ko tgia'!$B$2:$M$1900,4,0)","v":"1921086247"},{"$f":"VLOOKUP(B1491,'[1]Ko tgia'!$B$2:$M$1900,5,0)","v":"019204009969"},"20/12/2004",null,null,10,{"v":526500,"d":"526,500"},"K58QLC.C01","KT"]
[1491,"K225510601024","Long Viết Hưng",{"$f":"VLOOKUP(B1492,'[1]Ko tgia'!$B$2:$M$1900,4,0)","v":"2020473517"},{"$f":"VLOOKUP(B1492,'[1]Ko tgia'!$B$2:$M$1900,5,0)","v":"020202007788"},"10/04/2002",null,null,10,{"v":526500,"d":"526,500"},"K58QLC.C01","KT"]
[1492,"K225510601061","Hoàng Anh Tú",{"$f":"VLOOKUP(B1493,'[1]Ko tgia'!$B$2:$M$1900,4,0)","v":"2420246774"},{"$f":"VLOOKUP(B1493,'[1]Ko tgia'!$B$2:$M$1900,5,0)","v":"024204012316"},"15/10/2004",null,null,10,{"v":526500,"d":"526,500"},"K58QLC.C01","KT"]
[1493,"K225510601027","Vũ Thị Thu Hương",{"$f":"VLOOKUP(B1494,'[1]Ko tgia'!$B$2:$M$1900,4,0)","v":"2420500620"},{"$f":"VLOOKUP(B1494,'[1]Ko tgia'!$B$2:$M$1900,5,0)","v":"024304004158"},"17/02/2004",{"$f":"VLOOKUP(B1494,'[2]Ko tgia'!$C$2:$K$9900,8,0)","v":"x"},null,10,{"v":526500,"d":"526,500"},"K58QLC.C01","KT"]
[1494,"K225510601033","Nguyễn Khánh Linh",{"$f":"VLOOKUP(B1495,'[1]Ko tgia'!$B$2:$M$1900,4,0)","v":"2420674357"},{"$f":"VLOOKUP(B1495,'[1]Ko tgia'!$B$2:$M$1900,5,0)","v":"024304004497"},"20/06/2004",{"$f":"VLOOKUP(B1495,'[2]Ko tgia'!$C$2:$K$9900,8,0)","v":"x"},null,10,{"v":526500,"d":"526,500"},"K58QLC.C01","KT"]
[1495,"K225510205120","Trần Duy Anh",{"$f":"VLOOKUP(B1496,'[1]Ko tgia'!$B$2:$M$1900,4,0)","v":"2421659956"},{"$f":"VLOOKUP(B1496,'[1]Ko tgia'!$B$2:$M$1900,5,0)","v":"024204003127"},"17/09/2004",null,null,10,{"v":526500,"d":"526,500"},"K58QLC.C01","KT"]
[1496,"K235510604029","Trần Cao Nguyên",{"$f":"VLOOKUP(B1497,'[1]Ko tgia'!$B$2:$M$1900,4,0)","v":"2421345882"},{"$f":"VLOOKUP(B1497,'[1]Ko tgia'!$B$2:$M$1900,5,0)","v":"024205013895"},"17/11/2005",null,null,10,{"v":526500,"d":"526,500"},"K59KTN.C01","KT"]
[1497,"K235510604021","Nguyễn Đinh Tiến Huy",{"$f":"VLOOKUP(B1498,'[1]Ko tgia'!$B$2:$M$1900,4,0)","v":"2421477012"},null,"14/07/2005",null,null,10,{"v":526500,"d":"526,500"},"K59KTN.C01","KT"]
[1498,"K235510601020","Nguyễn Như Hằng",{"$f":"VLOOKUP(B1499,'[1]Ko tgia'!$B$2:$M$1900,4,0)","v":"0620165728"},{"$f":"VLOOKUP(B1499,'[1]Ko tgia'!$B$2:$M$1900,5,0)","v":"006305002063"},"14/04/2005",{"$f":"VLOOKUP(B1499,'[2]Ko tgia'!$C$2:$K$9900,8,0)","v":"x"},null,10,{"v":526500,"d":"526,500"},"K59LGT.C01","KT"]
[1499,"K235510601014","Hoàng Thị Mỹ Duyên",{"$f":"VLOOKUP(B1500,'[1]Ko tgia'!$B$2:$M$1900,4,0)","v":"1920505398"},{"$f":"VLOOKUP(B1500,'[1]Ko tgia'!$B$2:$M$1900,5,0)","v":"019305007846"},"16/12/2005",{"$f":"VLOOKUP(B1500,'[2]Ko tgia'!$C$2:$K$9900,8,0)","v":"x"},null,10,{"v":526500,"d":"526,500"},"K59LGT.C01","KT"]
[1500,"K235510601061","Chu Thị Bích Thủy",{"$f":"VLOOKUP(B1501,'[1]Ko tgia'!$B$2:$M$1900,4,0)","v":"1920978822"},{"$f":"VLOOKUP(B1501,'[1]Ko tgia'!$B$2:$M$1900,5,0)","v":"019305011461"},"16/03/2005",{"$f":"VLOOKUP(B1501,'[2]Ko tgia'!$C$2:$K$9900,8,0)","v":"x"},null,10,{"v":526500,"d":"526,500"},"K59LGT.C01","KT"]
[1501,"K235510601058","Lâm Thị Thu Thảo",{"$f":"VLOOKUP(B1502,'[1]Ko tgia'!$B$2:$M$1900,4,0)","v":"2420292285"},{"$f":"VLOOKUP(B1502,'[1]Ko tgia'!$B$2:$M$1900,5,0)","v":"024305004390"},"02/11/2005",{"$f":"VLOOKUP(B1502,'[2]Ko tgia'!$C$2:$K$9900,8,0)","v":"x"},null,10,{"v":526500,"d":"526,500"},"K59LGT.C01","KT"]
[1502,"K235510601073","Nguyễn Quang Trưởng",{"$f":"VLOOKUP(B1503,'[1]Ko tgia'!$B$2:$M$1900,4,0)","v":"2421525910"},{"$f":"VLOOKUP(B1503,'[1]Ko tgia'!$B$2:$M$1900,5,0)","v":"024205003232"},"06/05/2005",null,null,10,{"v":526500,"d":"526,500"},"K59LGT.C01","KT"]
[1503,"K235510601072","Nguyễn Thành Trung",{"$f":"VLOOKUP(B1504,'[1]Ko tgia'!$B$2:$M$1900,4,0)","v":"2720396775"},{"$f":"VLOOKUP(B1504,'[1]Ko tgia'!$B$2:$M$1900,5,0)","v":"027205005262"},"28/07/2005",null,null,10,{"v":526500,"d":"526,500"},"K59LGT.C01","KT"]
[1504,"K235510601060","Trần Thị Thêu",{"$f":"VLOOKUP(B1505,'[1]Ko tgia'!$B$2:$M$1900,4,0)","v":"1920488690"},{"$f":"VLOOKUP(B1505,'[1]Ko tgia'!$B$2:$M$1900,5,0)","v":"019305000613"},"11/03/2005",{"$f":"VLOOKUP(B1505,'[2]Ko tgia'!$C$2:$K$9900,8,0)","v":"x"},null,10,{"v":526500,"d":"526,500"},"K59QLC.C01","KT"]
[1505,"K235510601022","Hà Thị Thu Hiền",{"$f":"VLOOKUP(B1506,'[1]Ko tgia'!$B$2:$M$1900,4,0)","v":"1920525896"},{"$f":"VLOOKUP(B1506,'[1]Ko tgia'!$B$2:$M$1900,5,0)","v":"019305000520"},"24/10/2005",{"$f":"VLOOKUP(B1506,'[2]Ko tgia'!$C$2:$K$9900,8,0)","v":"x"},null,10,{"v":526500,"d":"526,500"},"K59QLC.C01","KT"]
[1506,"K235510601064","Nguyễn Anh Thư",{"$f":"VLOOKUP(B1507,'[1]Ko tgia'!$B$2:$M$1900,4,0)","v":"1921083221"},{"$f":"VLOOKUP(B1507,'[1]Ko tgia'!$B$2:$M$1900,5,0)","v":"019305010499"},"20/08/2005",{"$f":"VLOOKUP(B1507,'[2]Ko tgia'!$C$2:$K$9900,8,0)","v":"x"},null,10,{"v":526500,"d":"526,500"},"K59QLC.C01","KT"]
[1507,"K235510601097","Phan Thị Dung",{"$f":"VLOOKUP(B1508,'[1]Ko tgia'!$B$2:$M$1900,4,0)","v":"1921236812"},{"$f":"VLOOKUP(B1508,'[1]Ko tgia'!$B$2:$M$1900,5,0)","v":"019305007027"},"04/05/2005",{"$f":"VLOOKUP(B1508,'[2]Ko tgia'!$C$2:$K$9900,8,0)","v":"x"},null,10,{"v":526500,"d":"526,500"},"K59QLC.C01","KT"]
[1508,"K235510601045","Dương Huy Mạnh",{"$f":"VLOOKUP(B1509,'[1]Ko tgia'!$B$2:$M$1900,4,0)","v":"1921298201"},{"$f":"VLOOKUP(B1509,'[1]Ko tgia'!$B$2:$M$1900,5,0)","v":"019205011163"},"27/02/2005",null,null,10,{"v":526500,"d":"526,500"},"K59QLC.C01","KT"]
[1509,"K235510601063","Vũ Thị Hồng Thúy",{"$f":"VLOOKUP(B1510,'[1]Ko tgia'!$B$2:$M$1900,4,0)","v":"2421255666"},{"$f":"VLOOKUP(B1510,'[1]Ko tgia'!$B$2:$M$1900,5,0)","v":"024303003718"},"18/11/2003",{"$f":"VLOOKUP(B1510,'[2]Ko tgia'!$C$2:$K$9900,8,0)","v":"x"},null,10,{"v":526500,"d":"526,500"},"K59QLC.C01","KT"]
[1510,"K245510604038","Nguyễn Thị Hằng Nga",{"$f":"VLOOKUP(B1511,'[1]Ko tgia'!$B$2:$M$1900,4,0)","v":"0620223613"},{"$f":"VLOOKUP(B1511,'[1]Ko tgia'!$B$2:$M$1900,5,0)","v":"006305000227"},"07/03/2005",{"$f":"VLOOKUP(B1511,'[2]Ko tgia'!$C$2:$K$9900,8,0)","v":"x"},null,10,{"v":526500,"d":"526,500"},"K60KTN.C01","KT"]
[1511,"K245510604014","Nguyễn Thúy Kiều",{"$f":"VLOOKUP(B1512,'[1]Ko tgia'!$B$2:$M$1900,4,0)","v":"1920551562"},{"$f":"VLOOKUP(B1512,'[1]Ko tgia'!$B$2:$M$1900,5,0)","v":"019306008566"},"12/04/2006",{"$f":"VLOOKUP(B1512,'[2]Ko tgia'!$C$2:$K$9900,8,0)","v":"x"},null,10,{"v":526500,"d":"526,500"},"K60KTN.C01","KT"]
[1512,"K245480106002","Lê Đức Anh",{"$f":"VLOOKUP(B1513,'[1]Ko tgia'!$B$2:$M$1900,4,0)","v":"1920954929"},{"$f":"VLOOKUP(B1513,'[1]Ko tgia'!$B$2:$M$1900,5,0)","v":"019205007399"},"10/09/2005",null,null,10,{"v":526500,"d":"526,500"},"K60KTN.C01","KT"]
[1513,"K245510604003","Phạm Văn Thái Bảo",{"$f":"VLOOKUP(B1514,'[1]Ko tgia'!$B$2:$M$1900,4,0)","v":"1920984658"},{"$f":"VLOOKUP(B1514,'[1]Ko tgia'!$B$2:$M$1900,5,0)","v":"019206008469"},"22/04/2006",null,null,10,{"v":526500,"d":"526,500"},"K60KTN.C01","KT"]
[1514,"K245510601070","Nguyễn Đức Duy",{"$f":"VLOOKUP(B1515,'[1]Ko tgia'!$B$2:$M$1900,4,0)","v":"1920002635"},{"$f":"VLOOKUP(B1515,'[1]Ko tgia'!$B$2:$M$1900,5,0)","v":"019206000618"},"14/11/2006",null,null,10,{"v":526500,"d":"526,500"},"K60LGT.C01","KT"]
[1515,"K245520201126","Phạm Quang Huy",{"$f":"VLOOKUP(B1516,'[1]Ko tgia'!$B$2:$M$1900,4,0)","v":"1920115595"},{"$f":"VLOOKUP(B1516,'[1]Ko tgia'!$B$2:$M$1900,5,0)","v":"019206009746"},"02/06/2006",null,null,10,{"v":526500,"d":"526,500"},"K60QLC.C01","KT"]
[1516,"K245510601083","Phạm Minh Hùng",{"$f":"VLOOKUP(B1517,'[1]Ko tgia'!$B$2:$M$1900,4,0)","v":"1920167123"},{"$f":"VLOOKUP(B1517,'[1]Ko tgia'!$B$2:$M$1900,5,0)","v":"019206000427"},"14/06/2006",null,null,10,{"v":526500,"d":"526,500"},"K60QLC.C01","KT"]
[1517,"K245510601097","Ngô Mạnh Quân",{"$f":"VLOOKUP(B1518,'[1]Ko tgia'!$B$2:$M$1900,4,0)","v":"1920445332"},{"$f":"VLOOKUP(B1518,'[1]Ko tgia'!$B$2:$M$1900,5,0)","v":"019206010746"},"02/12/2006",null,null,10,{"v":526500,"d":"526,500"},"K60QLC.C01","KT"]
[1518,"K245510601082","Trần Thị Thu Huế",{"$f":"VLOOKUP(B1519,'[1]Ko tgia'!$B$2:$M$1900,4,0)","v":"1920449915"},{"$f":"VLOOKUP(B1519,'[1]Ko tgia'!$B$2:$M$1900,5,0)","v":"019306010716"},"24/11/2006",{"$f":"VLOOKUP(B1519,'[2]Ko tgia'!$C$2:$K$9900,8,0)","v":"x"},null,10,{"v":526500,"d":"526,500"},"K60QLC.C01","KT"]
[1519,"K245510601013","Nông Quang Dũng",{"$f":"VLOOKUP(B1520,'[1]Ko tgia'!$B$2:$M$1900,4,0)","v":"1920458556"},{"$f":"VLOOKUP(B1520,'[1]Ko tgia'!$B$2:$M$1900,5,0)","v":"019206010117"},"12/10/2006",null,null,10,{"v":526500,"d":"526,500"},"K60QLC.C01","KT"]
[1520,"K245510601071","Nguyễn Xuân Duy",{"$f":"VLOOKUP(B1521,'[1]Ko tgia'!$B$2:$M$1900,4,0)","v":"1920551570"},{"$f":"VLOOKUP(B1521,'[1]Ko tgia'!$B$2:$M$1900,5,0)","v":"019206004957"},"15/08/2006",null,null,10,{"v":526500,"d":"526,500"},"K60QLC.C01","KT"]
[1521,"K245510601037","Lô Thị Thanh Nhàn",{"$f":"VLOOKUP(B1522,'[1]Ko tgia'!$B$2:$M$1900,4,0)","v":"1920630116"},{"$f":"VLOOKUP(B1522,'[1]Ko tgia'!$B$2:$M$1900,5,0)","v":"019306009201"},"27/01/2006",{"$f":"VLOOKUP(B1522,'[2]Ko tgia'!$C$2:$K$9900,8,0)","v":"x"},null,10,{"v":526500,"d":"526,500"},"K60QLC.C01","KT"]
[1522,"K245510601032","Dương Thị Thanh Loan",{"$f":"VLOOKUP(B1523,'[1]Ko tgia'!$B$2:$M$1900,4,0)","v":"1921172502"},{"$f":"VLOOKUP(B1523,'[1]Ko tgia'!$B$2:$M$1900,5,0)","v":"019306004385"},"05/09/2006",{"$f":"VLOOKUP(B1523,'[2]Ko tgia'!$C$2:$K$9900,8,0)","v":"x"},null,10,{"v":526500,"d":"526,500"},"K60QLC.C01","KT"]
[1523,"K245510601102","Nguyễn Văn Thế",{"$f":"VLOOKUP(B1524,'[1]Ko tgia'!$B$2:$M$1900,4,0)","v":"2420209513"},{"$f":"VLOOKUP(B1524,'[1]Ko tgia'!$B$2:$M$1900,5,0)","v":"024206000295"},"30/07/2006",null,null,10,{"v":526500,"d":"526,500"},"K60QLC.C01","KT"]
[1524,"K245510601024","Phạm Thị Quỳnh Hoa",{"$f":"VLOOKUP(B1525,'[1]Ko tgia'!$B$2:$M$1900,4,0)","v":"2420321702"},{"$f":"VLOOKUP(B1525,'[1]Ko tgia'!$B$2:$M$1900,5,0)","v":"024306004124"},"22/07/2006",{"$f":"VLOOKUP(B1525,'[2]Ko tgia'!$C$2:$K$9900,8,0)","v":"x"},null,10,{"v":526500,"d":"526,500"},"K60QLC.C01","KT"]
[1525,"K215520116042","Nguyễn Thế Việt",{"$f":"VLOOKUP(B1526,'[1]Ko tgia'!$B$2:$M$1900,4,0)","v":"0125932604"},{"$f":"VLOOKUP(B1526,'[1]Ko tgia'!$B$2:$M$1900,5,0)","v":"001203045114"},"14/10/2003",null,null,10,{"v":526500,"d":"526,500"},"K57CĐL.01","OTO"]
[1526,"K215520116027","Vũ Đức Mạnh",{"$f":"VLOOKUP(B1527,'[1]Ko tgia'!$B$2:$M$1900,4,0)","v":"1220021574"},{"$f":"VLOOKUP(B1527,'[1]Ko tgia'!$B$2:$M$1900,5,0)","v":"012203001248"},"02/11/2003",null,null,10,{"v":526500,"d":"526,500"},"K57CĐL.01","OTO"]
[1527,"K215520116007","Nguyễn Đức Hải",{"$f":"VLOOKUP(B1528,'[1]Ko tgia'!$B$2:$M$1900,4,0)","v":"1420126059"},{"$f":"VLOOKUP(B1528,'[1]Ko tgia'!$B$2:$M$1900,5,0)","v":"014203000623"},"10/05/2003",null,null,10,{"v":526500,"d":"526,500"},"K57CĐL.01","OTO"]
[1528,"K215520116047","La Chí Công",{"$f":"VLOOKUP(B1529,'[1]Ko tgia'!$B$2:$M$1900,4,0)","v":"1920030400"},{"$f":"VLOOKUP(B1529,'[1]Ko tgia'!$B$2:$M$1900,5,0)","v":"019203001361"},"26/08/2003",null,null,10,{"v":526500,"d":"526,500"},"K57CĐL.01","OTO"]
[1529,"K215520116057","Phạm Hoàng Hiệp",{"$f":"VLOOKUP(B1530,'[1]Ko tgia'!$B$2:$M$1900,4,0)","v":"1920141317"},null,"13/10/2003",null,null,10,{"v":526500,"d":"526,500"},"K57CĐL.01","OTO"]
[1530,"K215520116015","Nguyễn Mạnh Hùng",{"$f":"VLOOKUP(B1531,'[1]Ko tgia'!$B$2:$M$1900,4,0)","v":"1920154208"},{"$f":"VLOOKUP(B1531,'[1]Ko tgia'!$B$2:$M$1900,5,0)","v":"019203007284"},"03/05/2003",null,null,10,{"v":526500,"d":"526,500"},"K57CĐL.01","OTO"]
[1531,"K215520116068","Cao Văn Tú",{"$f":"VLOOKUP(B1532,'[1]Ko tgia'!$B$2:$M$1900,4,0)","v":"1920201965"},{"$f":"VLOOKUP(B1532,'[1]Ko tgia'!$B$2:$M$1900,5,0)","v":"019203011750"},"06/04/2003",null,null,10,{"v":526500,"d":"526,500"},"K57CĐL.01","OTO"]
[1532,"K215520116035","Lê Quang Thái",{"$f":"VLOOKUP(B1533,'[1]Ko tgia'!$B$2:$M$1900,4,0)","v":"1920205696"},null,"17/09/2002",null,null,10,{"v":526500,"d":"526,500"},"K57CĐL.01","OTO"]
[1533,"K215520116001","Phan Đình An",{"$f":"VLOOKUP(B1534,'[1]Ko tgia'!$B$2:$M$1900,4,0)","v":"1920245229"},null,"15/09/2003",null,null,10,{"v":526500,"d":"526,500"},"K57CĐL.01","OTO"]
[1534,"K215520116056","Nguyễn Duy Quý",{"$f":"VLOOKUP(B1535,'[1]Ko tgia'!$B$2:$M$1900,4,0)","v":"1920273069"},null,"28/10/2003",null,null,10,{"v":526500,"d":"526,500"},"K57CĐL.01","OTO"]
[1535,"K215520116054","Nguyễn Trường Giang",{"$f":"VLOOKUP(B1536,'[1]Ko tgia'!$B$2:$M$1900,4,0)","v":"1920504711"},{"$f":"VLOOKUP(B1536,'[1]Ko tgia'!$B$2:$M$1900,5,0)","v":"019203003920"},"27/07/2003",null,null,10,{"v":526500,"d":"526,500"},"K57CĐL.01","OTO"]
[1536,"K215520116064","Ngô Quốc Huy",{"$f":"VLOOKUP(B1537,'[1]Ko tgia'!$B$2:$M$1900,4,0)","v":"1920576044"},{"$f":"VLOOKUP(B1537,'[1]Ko tgia'!$B$2:$M$1900,5,0)","v":"019203002706"},"14/06/2003",null,null,10,{"v":526500,"d":"526,500"},"K57CĐL.01","OTO"]
[1537,"K215520116003","Phạm Trung Đức",{"$f":"VLOOKUP(B1538,'[1]Ko tgia'!$B$2:$M$1900,4,0)","v":"1921016807"},{"$f":"VLOOKUP(B1538,'[1]Ko tgia'!$B$2:$M$1900,5,0)","v":"019203002195"},"16/09/2003",null,null,10,{"v":526500,"d":"526,500"},"K57CĐL.01","OTO"]
[1538,"K215520116012","Thế Minh Hiếu",{"$f":"VLOOKUP(B1539,'[1]Ko tgia'!$B$2:$M$1900,4,0)","v":"2220838201"},{"$f":"VLOOKUP(B1539,'[1]Ko tgia'!$B$2:$M$1900,5,0)","v":"022203003043"},"04/08/2003",null,null,10,{"v":526500,"d":"526,500"},"K57CĐL.01","OTO"]
[1539,"K215520116060","Vũ Trường Thọ",{"$f":"VLOOKUP(B1540,'[1]Ko tgia'!$B$2:$M$1900,4,0)","v":"2220847200"},{"$f":"VLOOKUP(B1540,'[1]Ko tgia'!$B$2:$M$1900,5,0)","v":"022203003870"},"28/11/2003",null,null,10,{"v":526500,"d":"526,500"},"K57CĐL.01","OTO"]
[1540,"K215520116021","Nguyễn Xuân Huy",{"$f":"VLOOKUP(B1541,'[1]Ko tgia'!$B$2:$M$1900,4,0)","v":"3021169825"},{"$f":"VLOOKUP(B1541,'[1]Ko tgia'!$B$2:$M$1900,5,0)","v":"030203009214"},"19/10/2003",null,null,10,{"v":526500,"d":"526,500"},"K57CĐL.01","OTO"]
[1541,"K215520116048","Bùi Ngọc Huy",{"$f":"VLOOKUP(B1542,'[1]Ko tgia'!$B$2:$M$1900,4,0)","v":"3420510539"},{"$f":"VLOOKUP(B1542,'[1]Ko tgia'!$B$2:$M$1900,5,0)","v":"034202008682"},"19/02/2002",null,null,10,{"v":526500,"d":"526,500"},"K57CĐL.01","OTO"]
[1542,"K215520116029","Nguyễn Văn Minh",{"$f":"VLOOKUP(B1543,'[1]Ko tgia'!$B$2:$M$1900,4,0)","v":"3520601751"},{"$f":"VLOOKUP(B1543,'[1]Ko tgia'!$B$2:$M$1900,5,0)","v":"035203002467"},"28/09/2003",null,null,10,{"v":526500,"d":"526,500"},"K57CĐL.01","OTO"]
[1543,"K215510205206","Phạm Thanh Hải",{"$f":"VLOOKUP(B1544,'[1]Ko tgia'!$B$2:$M$1900,4,0)","v":"0130098476"},{"$f":"VLOOKUP(B1544,'[1]Ko tgia'!$B$2:$M$1900,5,0)","v":"001203046682"},"24/07/2003",null,null,10,{"v":526500,"d":"526,500"},"K57CN-KTO.01","OTO"]
[1544,"K215510205020","Phạm Ngọc Hải",{"$f":"VLOOKUP(B1545,'[1]Ko tgia'!$B$2:$M$1900,4,0)","v":"1920118303"},{"$f":"VLOOKUP(B1545,'[1]Ko tgia'!$B$2:$M$1900,5,0)","v":"019203000212"},"19/01/2003",null,null,10,{"v":526500,"d":"526,500"},"K57CN-KTO.01","OTO"]
[1545,"K215510205014","Hoàng Minh Đức",{"$f":"VLOOKUP(B1546,'[1]Ko tgia'!$B$2:$M$1900,4,0)","v":"1920688678"},null,"03/01/2003",null,null,10,{"v":526500,"d":"526,500"},"K57CN-KTO.01","OTO"]
[1546,"K215520116017","Dương Văn Huy",{"$f":"VLOOKUP(B1547,'[1]Ko tgia'!$B$2:$M$1900,4,0)","v":"1921143469"},null,"15/03/2003",null,null,10,{"v":526500,"d":"526,500"},"K57CN-KTO.01","OTO"]
[1547,"K215510205048","Dương Văn Sơn",{"$f":"VLOOKUP(B1548,'[1]Ko tgia'!$B$2:$M$1900,4,0)","v":"1921206930"},null,"05/10/2003",null,null,10,{"v":526500,"d":"526,500"},"K57CN-KTO.01","OTO"]
[1548,"K215510205221","Trương Công Minh",{"$f":"VLOOKUP(B1549,'[1]Ko tgia'!$B$2:$M$1900,4,0)","v":"1921284892"},null,"18/11/2003",null,null,10,{"v":526500,"d":"526,500"},"K57CN-KTO.01","OTO"]
[1549,"K215510205040","Nguyễn Trung Nguyên",{"$f":"VLOOKUP(B1550,'[1]Ko tgia'!$B$2:$M$1900,4,0)","v":"1921387874"},{"$f":"VLOOKUP(B1550,'[1]Ko tgia'!$B$2:$M$1900,5,0)","v":"019203001093"},"04/11/2003",null,null,10,{"v":526500,"d":"526,500"},"K57CN-KTO.01","OTO"]
[1550,"K215510205065","Nguyễn Tuấn Dũng",{"$f":"VLOOKUP(B1551,'[1]Ko tgia'!$B$2:$M$1900,4,0)","v":"1921424586"},null,"03/11/2003",null,null,10,{"v":526500,"d":"526,500"},"K57CN-KTO.01","OTO"]
[1551,"K215510205202","Trần Đăng Danh",{"$f":"VLOOKUP(B1552,'[1]Ko tgia'!$B$2:$M$1900,4,0)","v":"2220850461"},{"$f":"VLOOKUP(B1552,'[1]Ko tgia'!$B$2:$M$1900,5,0)","v":"022203000224"},"20/08/2003",null,null,10,{"v":526500,"d":"526,500"},"K57CN-KTO.01","OTO"]
[1552,"K215510205220","Ngô Xuân Đại",{"$f":"VLOOKUP(B1553,'[1]Ko tgia'!$B$2:$M$1900,4,0)","v":"2420778580"},{"$f":"VLOOKUP(B1553,'[1]Ko tgia'!$B$2:$M$1900,5,0)","v":"024203004525"},"24/10/2003",null,null,10,{"v":526500,"d":"526,500"},"K57CN-KTO.01","OTO"]
[1553,"K215510205222","Nguyễn Văn Cư",{"$f":"VLOOKUP(B1554,'[1]Ko tgia'!$B$2:$M$1900,4,0)","v":"2520752233"},null,"01/08/2003",null,null,10,{"v":526500,"d":"526,500"},"K57CN-KTO.01","OTO"]
[1554,"K215510205059","Nguyễn Quốc Tuấn",{"$f":"VLOOKUP(B1555,'[1]Ko tgia'!$B$2:$M$1900,4,0)","v":"2720211717"},{"$f":"VLOOKUP(B1555,'[1]Ko tgia'!$B$2:$M$1900,5,0)","v":"027203004724"},"02/12/2003",null,null,10,{"v":526500,"d":"526,500"},"K57CN-KTO.01","OTO"]
[1555,"K215510205227","Hà Văn Phương",{"$f":"VLOOKUP(B1556,'[1]Ko tgia'!$B$2:$M$1900,4,0)","v":"2721032568"},{"$f":"VLOOKUP(B1556,'[1]Ko tgia'!$B$2:$M$1900,5,0)","v":"027202002640"},"06/11/2002",null,null,10,{"v":526500,"d":"526,500"},"K57CN-KTO.01","OTO"]
[1556,"K215510205205","Mai Thanh Tú",{"$f":"VLOOKUP(B1557,'[1]Ko tgia'!$B$2:$M$1900,4,0)","v":"3321131970"},{"$f":"VLOOKUP(B1557,'[1]Ko tgia'!$B$2:$M$1900,5,0)","v":"033203003760"},"16/07/2003",null,null,10,{"v":526500,"d":"526,500"},"K57CN-KTO.01","OTO"]
[1557,"K215510205464","Lưu Văn Vũ",{"$f":"VLOOKUP(B1558,'[1]Ko tgia'!$B$2:$M$1900,4,0)","v":"0124831470"},{"$f":"VLOOKUP(B1558,'[1]Ko tgia'!$B$2:$M$1900,5,0)","v":"001203048712"},"11/08/2003",null,null,10,{"v":526500,"d":"526,500"},"K57CN-KTO.02","OTO"]
[1558,"K215510205441","Phạm Anh Tú",{"$f":"VLOOKUP(B1559,'[1]Ko tgia'!$B$2:$M$1900,4,0)","v":"1920172392"},null,"29/08/2003",null,null,10,{"v":526500,"d":"526,500"},"K57CN-KTO.02","OTO"]
[1559,"K215510205097","Nguyễn Đức Mạnh",{"$f":"VLOOKUP(B1560,'[1]Ko tgia'!$B$2:$M$1900,4,0)","v":"1920238134"},{"$f":"VLOOKUP(B1560,'[1]Ko tgia'!$B$2:$M$1900,5,0)","v":"019203002690"},"20/11/2003",null,null,10,{"v":526500,"d":"526,500"},"K57CN-KTO.02","OTO"]
[1560,"K215510205076","Thái Hữu Đức",{"$f":"VLOOKUP(B1561,'[1]Ko tgia'!$B$2:$M$1900,4,0)","v":"1920244972"},null,"18/04/2003",null,null,10,{"v":526500,"d":"526,500"},"K57CN-KTO.02","OTO"]
[1561,"K215510205120","Nguyễn Minh Trường",{"$f":"VLOOKUP(B1562,'[1]Ko tgia'!$B$2:$M$1900,4,0)","v":"1921091189"},null,"20/03/2003",null,null,10,{"v":526500,"d":"526,500"},"K57CN-KTO.02","OTO"]
[1562,"K215510205116","Trần Đức Thịnh",{"$f":"VLOOKUP(B1563,'[1]Ko tgia'!$B$2:$M$1900,4,0)","v":"1921105907"},null,"07/03/2003",null,null,10,{"v":526500,"d":"526,500"},"K57CN-KTO.02","OTO"]
[1563,"K215510205114","Nguyễn Hoàng Thanh",{"$f":"VLOOKUP(B1564,'[1]Ko tgia'!$B$2:$M$1900,4,0)","v":"2220846191"},{"$f":"VLOOKUP(B1564,'[1]Ko tgia'!$B$2:$M$1900,5,0)","v":"022203003871"},"27/10/2003",null,null,10,{"v":526500,"d":"526,500"},"K57CN-KTO.02","OTO"]
[1564,"K215510205443","Nguyễn Đăng Tú",{"$f":"VLOOKUP(B1565,'[1]Ko tgia'!$B$2:$M$1900,4,0)","v":"2420138111"},{"$f":"VLOOKUP(B1565,'[1]Ko tgia'!$B$2:$M$1900,5,0)","v":"024203001175"},"14/04/2003",null,null,10,{"v":526500,"d":"526,500"},"K57CN-KTO.02","OTO"]
[1565,"K215510205230","Nguyễn Đình Trưởng",{"$f":"VLOOKUP(B1566,'[1]Ko tgia'!$B$2:$M$1900,4,0)","v":"2721082805"},{"$f":"VLOOKUP(B1566,'[1]Ko tgia'!$B$2:$M$1900,5,0)","v":"027202007959"},"05/11/2002",null,null,10,{"v":526500,"d":"526,500"},"K57CN-KTO.02","OTO"]
[1566,"K215510205460","Đinh Văn Vinh",{"$f":"VLOOKUP(B1567,'[1]Ko tgia'!$B$2:$M$1900,4,0)","v":"3720410019"},{"$f":"VLOOKUP(B1567,'[1]Ko tgia'!$B$2:$M$1900,5,0)","v":"037203003205"},"11/03/2003",null,null,10,{"v":526500,"d":"526,500"},"K57CN-KTO.02","OTO"]
[1567,"K215510205131","Nguyễn Tuấn Anh",{"$f":"VLOOKUP(B1568,'[1]Ko tgia'!$B$2:$M$1900,4,0)","v":"1920067577"},null,"17/10/2002",null,null,10,{"v":526500,"d":"526,500"},"K57CN-KTO.03","OTO"]
[1568,"K215510205156","Đặng Chu Lân",{"$f":"VLOOKUP(B1569,'[1]Ko tgia'!$B$2:$M$1900,4,0)","v":"1920131589"},null,"04/08/2003",null,null,10,{"v":526500,"d":"526,500"},"K57CN-KTO.03","OTO"]
[1569,"K215510205183","Nguyễn Thanh Tú",{"$f":"VLOOKUP(B1570,'[1]Ko tgia'!$B$2:$M$1900,4,0)","v":"1921146031"},{"$f":"VLOOKUP(B1570,'[1]Ko tgia'!$B$2:$M$1900,5,0)","v":"019203005859"},"21/10/2003",null,null,10,{"v":526500,"d":"526,500"},"K57CN-KTO.03","OTO"]
[1570,"K215510205180","Dương Đức Toàn",{"$f":"VLOOKUP(B1571,'[1]Ko tgia'!$B$2:$M$1900,4,0)","v":"1921165091"},{"$f":"VLOOKUP(B1571,'[1]Ko tgia'!$B$2:$M$1900,5,0)","v":"019203005824"},"25/03/2003",null,null,10,{"v":526500,"d":"526,500"},"K57CN-KTO.03","OTO"]
[1571,"K215510205192","Vi Tuấn Anh",{"$f":"VLOOKUP(B1572,'[1]Ko tgia'!$B$2:$M$1900,4,0)","v":"2220829556"},{"$f":"VLOOKUP(B1572,'[1]Ko tgia'!$B$2:$M$1900,5,0)","v":"022203002422"},"21/05/2003",null,null,10,{"v":526500,"d":"526,500"},"K57CN-KTO.03","OTO"]
[1572,"K215510205155","Nguyễn Văn Khôi",{"$f":"VLOOKUP(B1573,'[1]Ko tgia'!$B$2:$M$1900,4,0)","v":"2420572855"},{"$f":"VLOOKUP(B1573,'[1]Ko tgia'!$B$2:$M$1900,5,0)","v":"024203013474"},"13/08/2003",null,null,10,{"v":526500,"d":"526,500"},"K57CN-KTO.03","OTO"]
[1573,"K215510205174","Mẫn Bá Tài",{"$f":"VLOOKUP(B1574,'[1]Ko tgia'!$B$2:$M$1900,4,0)","v":"2720308333"},{"$f":"VLOOKUP(B1574,'[1]Ko tgia'!$B$2:$M$1900,5,0)","v":"027203001978"},"08/10/2003",null,null,10,{"v":526500,"d":"526,500"},"K57CN-KTO.03","OTO"]
[1574,"K215510205471","Trần Hồng Phi",{"$f":"VLOOKUP(B1575,'[1]Ko tgia'!$B$2:$M$1900,4,0)","v":"3621111914"},{"$f":"VLOOKUP(B1575,'[1]Ko tgia'!$B$2:$M$1900,5,0)","v":"036203010958"},"22/01/2003",null,null,10,{"v":526500,"d":"526,500"},"K57CN-KTO.03","OTO"]
[1575,"K215510205468","Trần Minh Đức",{"$f":"VLOOKUP(B1576,'[1]Ko tgia'!$B$2:$M$1900,4,0)","v":"3720154688"},{"$f":"VLOOKUP(B1576,'[1]Ko tgia'!$B$2:$M$1900,5,0)","v":"036203001176"},"23/07/2003",null,null,10,{"v":526500,"d":"526,500"},"K57CN-KTO.03","OTO"]
[1576,"K215510205256","Nguyễn Hoàng Hiệp",{"$f":"VLOOKUP(B1577,'[1]Ko tgia'!$B$2:$M$1900,4,0)","v":"1020073755"},null,"31/12/2003",null,null,10,{"v":526500,"d":"526,500"},"K57CN-KTO.04","OTO"]
[1577,"K215510205259","Triệu Huy Hoàn",{"$f":"VLOOKUP(B1578,'[1]Ko tgia'!$B$2:$M$1900,4,0)","v":"1920671632"},{"$f":"VLOOKUP(B1578,'[1]Ko tgia'!$B$2:$M$1900,5,0)","v":"019203003395"},"05/10/2003",null,null,10,{"v":526500,"d":"526,500"},"K57CN-KTO.04","OTO"]
[1578,"K215510205249","Trần Văn Dương",{"$f":"VLOOKUP(B1579,'[1]Ko tgia'!$B$2:$M$1900,4,0)","v":"1920744046"},{"$f":"VLOOKUP(B1579,'[1]Ko tgia'!$B$2:$M$1900,5,0)","v":"019203005787"},"26/07/2003",null,null,10,{"v":526500,"d":"526,500"},"K57CN-KTO.04","OTO"]
[1579,"K215510205291","Nguyễn Đức Thắng",{"$f":"VLOOKUP(B1580,'[1]Ko tgia'!$B$2:$M$1900,4,0)","v":"1921455536"},null,"02/09/2003",null,null,10,{"v":526500,"d":"526,500"},"K57CN-KTO.04","OTO"]
[1580,"K215510205245","Hoàng Bá Đức",{"$f":"VLOOKUP(B1581,'[1]Ko tgia'!$B$2:$M$1900,4,0)","v":"2220154311"},{"$f":"VLOOKUP(B1581,'[1]Ko tgia'!$B$2:$M$1900,5,0)","v":"022203000401"},"23/07/2003",null,null,10,{"v":526500,"d":"526,500"},"K57CN-KTO.04","OTO"]
[1581,"K215510205236","Đào Văn Bình",{"$f":"VLOOKUP(B1582,'[1]Ko tgia'!$B$2:$M$1900,4,0)","v":"2420177514"},{"$f":"VLOOKUP(B1582,'[1]Ko tgia'!$B$2:$M$1900,5,0)","v":"024203002477"},"20/08/2003",null,null,10,{"v":526500,"d":"526,500"},"K57CN-KTO.04","OTO"]
[1582,"K215510205292","Vi Văn Thắng",{"$f":"VLOOKUP(B1583,'[1]Ko tgia'!$B$2:$M$1900,4,0)","v":"2420819340"},null,"23/05/2003",null,null,10,{"v":526500,"d":"526,500"},"K57CN-KTO.04","OTO"]
[1583,"K215510205267","Vũ Quốc Huy",{"$f":"VLOOKUP(B1584,'[1]Ko tgia'!$B$2:$M$1900,4,0)","v":"2621509992"},{"$f":"VLOOKUP(B1584,'[1]Ko tgia'!$B$2:$M$1900,5,0)","v":"026202001902"},"26/03/2002",null,null,10,{"v":526500,"d":"526,500"},"K57CN-KTO.04","OTO"]
[1584,"K215510205280","Nguyễn Văn Nam",{"$f":"VLOOKUP(B1585,'[1]Ko tgia'!$B$2:$M$1900,4,0)","v":"3520735592"},{"$f":"VLOOKUP(B1585,'[1]Ko tgia'!$B$2:$M$1900,5,0)","v":"035203002409"},"25/05/2003",null,null,10,{"v":526500,"d":"526,500"},"K57CN-KTO.04","OTO"]
[1585,"K215510205253","Đỗ Đình Việt Hải",{"$f":"VLOOKUP(B1586,'[1]Ko tgia'!$B$2:$M$1900,4,0)","v":"3820673606"},{"$f":"VLOOKUP(B1586,'[1]Ko tgia'!$B$2:$M$1900,5,0)","v":"038203013499"},"30/01/2003",null,null,10,{"v":526500,"d":"526,500"},"K57CN-KTO.04","OTO"]
[1586,"K215510205366","Đào Văn Chung",{"$f":"VLOOKUP(B1587,'[1]Ko tgia'!$B$2:$M$1900,4,0)","v":"0123895575"},{"$f":"VLOOKUP(B1587,'[1]Ko tgia'!$B$2:$M$1900,5,0)","v":"001203041167"},"19/04/2003",null,null,10,{"v":526500,"d":"526,500"},"K57CN-KTO.05","OTO"]
[1587,"K215510205409","Hà Trung Nguyên",{"$f":"VLOOKUP(B1588,'[1]Ko tgia'!$B$2:$M$1900,4,0)","v":"0620112336"},null,"06/12/2003",null,null,10,{"v":526500,"d":"526,500"},"K57CN-KTO.05","OTO"]
[1588,"K215510205388","Phan Việt Hoàng",{"$f":"VLOOKUP(B1589,'[1]Ko tgia'!$B$2:$M$1900,4,0)","v":"1420009029"},null,"05/12/2003",null,null,10,{"v":526500,"d":"526,500"},"K57CN-KTO.05","OTO"]
[1589,"K215510205412","Nguyễn Minh Phương",{"$f":"VLOOKUP(B1590,'[1]Ko tgia'!$B$2:$M$1900,4,0)","v":"1920251423"},null,"25/10/2003",null,null,10,{"v":526500,"d":"526,500"},"K57CN-KTO.05","OTO"]
[1590,"K215510205324","Đỗ Xuân Hoàng",{"$f":"VLOOKUP(B1591,'[1]Ko tgia'!$B$2:$M$1900,4,0)","v":"1920592782"},null,"12/08/2003",null,null,10,{"v":526500,"d":"526,500"},"K57CN-KTO.05","OTO"]
[1591,"K215510205349","Lý Hồng Quân",{"$f":"VLOOKUP(B1592,'[1]Ko tgia'!$B$2:$M$1900,4,0)","v":"2420865367"},null,"14/09/2003",null,null,10,{"v":526500,"d":"526,500"},"K57CN-KTO.05","OTO"]
[1592,"K215510205357","Nguyễn Thế Thanh",{"$f":"VLOOKUP(B1593,'[1]Ko tgia'!$B$2:$M$1900,4,0)","v":"2421654805"},null,"29/05/2003",null,null,10,{"v":526500,"d":"526,500"},"K57CN-KTO.05","OTO"]
[1593,"K215510205338","Bùi Vũ Long",{"$f":"VLOOKUP(B1594,'[1]Ko tgia'!$B$2:$M$1900,4,0)","v":"2421676849"},null,"14/06/2002",null,null,10,{"v":526500,"d":"526,500"},"K57CN-KTO.05","OTO"]
[1594,"K215510205417","Nguyễn Quốc Sự",{"$f":"VLOOKUP(B1595,'[1]Ko tgia'!$B$2:$M$1900,4,0)","v":"3420237736"},{"$f":"VLOOKUP(B1595,'[1]Ko tgia'!$B$2:$M$1900,5,0)","v":"034203010805"},"06/11/2003",null,null,10,{"v":526500,"d":"526,500"},"K57CN-KTO.05","OTO"]
[1595,"K215510205353","Bùi Văn Song",{"$f":"VLOOKUP(B1596,'[1]Ko tgia'!$B$2:$M$1900,4,0)","v":"3420700661"},{"$f":"VLOOKUP(B1596,'[1]Ko tgia'!$B$2:$M$1900,5,0)","v":"034203009743"},"15/11/2003",null,null,10,{"v":526500,"d":"526,500"},"K57CN-KTO.05","OTO"]
[1596,"K215510205371","Phạm Hữu Đủ",{"$f":"VLOOKUP(B1597,'[1]Ko tgia'!$B$2:$M$1900,4,0)","v":"3720432686"},{"$f":"VLOOKUP(B1597,'[1]Ko tgia'!$B$2:$M$1900,5,0)","v":"037203003188"},"20/02/2003",null,null,10,{"v":526500,"d":"526,500"},"K57CN-KTO.05","OTO"]
[1597,"K215510205402","Phạm Đức Long",{"$f":"VLOOKUP(B1598,'[1]Ko tgia'!$B$2:$M$1900,4,0)","v":"3721153572"},{"$f":"VLOOKUP(B1598,'[1]Ko tgia'!$B$2:$M$1900,5,0)","v":"037203002737"},"06/11/2003",null,null,10,{"v":526500,"d":"526,500"},"K57CN-KTO.05","OTO"]
[1598,"K225520116006","Phan Minh Đức",{"$f":"VLOOKUP(B1599,'[1]Ko tgia'!$B$2:$M$1900,4,0)","v":"1020106351"},{"$f":"VLOOKUP(B1599,'[1]Ko tgia'!$B$2:$M$1900,5,0)","v":"010204000193"},"09/08/2004",null,null,10,{"v":526500,"d":"526,500"},"K58CĐL.K01","OTO"]
[1599,"K225520116019","Phạm Đức Sơn",{"$f":"VLOOKUP(B1600,'[1]Ko tgia'!$B$2:$M$1900,4,0)","v":"1920065134"},{"$f":"VLOOKUP(B1600,'[1]Ko tgia'!$B$2:$M$1900,5,0)","v":"019204003039"},"18/07/2004",null,null,10,{"v":526500,"d":"526,500"},"K58CĐL.K01","OTO"]
[1600,"K225520116024","Nguyễn Xuân Tuynh",{"$f":"VLOOKUP(B1601,'[1]Ko tgia'!$B$2:$M$1900,4,0)","v":"1920491925"},null,"14/09/2002",null,null,10,{"v":526500,"d":"526,500"},"K58CĐL.K01","OTO"]
[1601,"K225520116025","Kim Gia Linh",{"$f":"VLOOKUP(B1602,'[1]Ko tgia'!$B$2:$M$1900,4,0)","v":"1921434087"},{"$f":"VLOOKUP(B1602,'[1]Ko tgia'!$B$2:$M$1900,5,0)","v":"001204027011"},"21/04/2004",null,null,10,{"v":526500,"d":"526,500"},"K58CĐL.K01","OTO"]
[1602,"K225520116012","Diêm Đăng Hưng",{"$f":"VLOOKUP(B1603,'[1]Ko tgia'!$B$2:$M$1900,4,0)","v":"2420392276"},{"$f":"VLOOKUP(B1603,'[1]Ko tgia'!$B$2:$M$1900,5,0)","v":"024204011487"},"26/03/2004",null,null,10,{"v":526500,"d":"526,500"},"K58CĐL.K01","OTO"]
[1603,"K225520116011","Nguyễn Doãn Nguyên Hưng",{"$f":"VLOOKUP(B1604,'[1]Ko tgia'!$B$2:$M$1900,4,0)","v":"2620146278"},{"$f":"VLOOKUP(B1604,'[1]Ko tgia'!$B$2:$M$1900,5,0)","v":"026204003766"},"09/03/2004",null,null,10,{"v":526500,"d":"526,500"},"K58CĐL.K01","OTO"]
[1604,"K225510205166","Nguyễn Tiến Trung",{"$f":"VLOOKUP(B1605,'[1]Ko tgia'!$B$2:$M$1900,4,0)","v":"1920052057"},{"$f":"VLOOKUP(B1605,'[1]Ko tgia'!$B$2:$M$1900,5,0)","v":"019204006185"},"06/12/2004",null,null,10,{"v":526500,"d":"526,500"},"K58CN-CNO.K01","OTO"]
[1605,"K225510205077","Ngô Minh Hiếu",{"$f":"VLOOKUP(B1606,'[1]Ko tgia'!$B$2:$M$1900,4,0)","v":"1920108187"},{"$f":"VLOOKUP(B1606,'[1]Ko tgia'!$B$2:$M$1900,5,0)","v":"019204008029"},"06/04/2004",null,null,10,{"v":526500,"d":"526,500"},"K58CN-CNO.K01","OTO"]
[1606,"K225510205117","Kiều Văn Tùng",{"$f":"VLOOKUP(B1607,'[1]Ko tgia'!$B$2:$M$1900,4,0)","v":"1920163738"},{"$f":"VLOOKUP(B1607,'[1]Ko tgia'!$B$2:$M$1900,5,0)","v":"019201003553"},"01/06/2001",null,null,10,{"v":526500,"d":"526,500"},"K58CN-CNO.K01","OTO"]
[1607,"K225510205026","Nguyễn Quang Huy",{"$f":"VLOOKUP(B1608,'[1]Ko tgia'!$B$2:$M$1900,4,0)","v":"1920165399"},{"$f":"VLOOKUP(B1608,'[1]Ko tgia'!$B$2:$M$1900,5,0)","v":"019204002046"},"16/12/2004",null,null,10,{"v":526500,"d":"526,500"},"K58CN-CNO.K01","OTO"]
[1608,"K225510205147","Nguyễn Ngọc Khôi",{"$f":"VLOOKUP(B1609,'[1]Ko tgia'!$B$2:$M$1900,4,0)","v":"1920190352"},{"$f":"VLOOKUP(B1609,'[1]Ko tgia'!$B$2:$M$1900,5,0)","v":"019204010428"},"26/05/2004",null,null,10,{"v":526500,"d":"526,500"},"K58CN-CNO.K01","OTO"]
[1609,"K225510205133","Nguyễn Bá Hậu",{"$f":"VLOOKUP(B1610,'[1]Ko tgia'!$B$2:$M$1900,4,0)","v":"1920303607"},{"$f":"VLOOKUP(B1610,'[1]Ko tgia'!$B$2:$M$1900,5,0)","v":"001204043058"},"14/12/2004",null,null,10,{"v":526500,"d":"526,500"},"K58CN-CNO.K01","OTO"]
[1610,"K225510205025","Trần Việt Hùng",{"$f":"VLOOKUP(B1611,'[1]Ko tgia'!$B$2:$M$1900,4,0)","v":"1921089534"},{"$f":"VLOOKUP(B1611,'[1]Ko tgia'!$B$2:$M$1900,5,0)","v":"019204001356"},"15/06/2004",null,null,10,{"v":526500,"d":"526,500"},"K58CN-CNO.K01","OTO"]
[1611,"K225510205073","Tạ Đức Hải",{"$f":"VLOOKUP(B1612,'[1]Ko tgia'!$B$2:$M$1900,4,0)","v":"2421991401"},{"$f":"VLOOKUP(B1612,'[1]Ko tgia'!$B$2:$M$1900,5,0)","v":"024203010760"},"03/11/2003",null,null,10,{"v":526500,"d":"526,500"},"K58CN-CNO.K01","OTO"]
[1612,"K225510205125","Nguyễn Thế Minh Cường",{"$f":"VLOOKUP(B1613,'[1]Ko tgia'!$B$2:$M$1900,4,0)","v":"2720091709"},{"$f":"VLOOKUP(B1613,'[1]Ko tgia'!$B$2:$M$1900,5,0)","v":"027204011853"},"25/10/2004",null,null,10,{"v":526500,"d":"526,500"},"K58CN-CNO.K01","OTO"]
[1613,"K225510205181","Ngô Văn Hoài",{"$f":"VLOOKUP(B1614,'[1]Ko tgia'!$B$2:$M$1900,4,0)","v":"2720609289"},{"$f":"VLOOKUP(B1614,'[1]Ko tgia'!$B$2:$M$1900,5,0)","v":"0272040411312"},"21/12/2004",null,null,10,{"v":526500,"d":"526,500"},"K58CN-CNO.K01","OTO"]
[1614,"K225510205155","Nguyễn Hải Ninh",{"$f":"VLOOKUP(B1615,'[1]Ko tgia'!$B$2:$M$1900,4,0)","v":"3720149571"},{"$f":"VLOOKUP(B1615,'[1]Ko tgia'!$B$2:$M$1900,5,0)","v":"037204005232"},"01/01/2004",null,null,10,{"v":526500,"d":"526,500"},"K58CN-CNO.K01","OTO"]
[1615,"K225510205083","Nguyễn Phan Hùng",{"$f":"VLOOKUP(B1616,'[1]Ko tgia'!$B$2:$M$1900,4,0)","v":"0620337139"},{"$f":"VLOOKUP(B1616,'[1]Ko tgia'!$B$2:$M$1900,5,0)","v":"006204005601"},"10/05/2004",null,null,10,{"v":526500,"d":"526,500"},"K58CN-ĐLO.K01","OTO"]
[1616,"K225510205017","Lò Văn Hậu",{"$f":"VLOOKUP(B1617,'[1]Ko tgia'!$B$2:$M$1900,4,0)","v":"1520628414"},{"$f":"VLOOKUP(B1617,'[1]Ko tgia'!$B$2:$M$1900,5,0)","v":"0152040004210"},"08/08/2004",null,null,10,{"v":526500,"d":"526,500"},"K58CN-ĐLO.K01","OTO"]
[1617,"K225510205090","Nguyễn Trọng Hải Nam",{"$f":"VLOOKUP(B1618,'[1]Ko tgia'!$B$2:$M$1900,4,0)","v":"1920083770"},{"$f":"VLOOKUP(B1618,'[1]Ko tgia'!$B$2:$M$1900,5,0)","v":"019204008204"},"03/12/2004",null,null,10,{"v":526500,"d":"526,500"},"K58CN-ĐLO.K01","OTO"]
[1618,"K225510205102","Nguyễn Văn Thông",{"$f":"VLOOKUP(B1619,'[1]Ko tgia'!$B$2:$M$1900,4,0)","v":"1920115779"},{"$f":"VLOOKUP(B1619,'[1]Ko tgia'!$B$2:$M$1900,5,0)","v":"019204009702"},"21/01/2004",null,null,10,{"v":526500,"d":"526,500"},"K58CN-ĐLO.K01","OTO"]
[1619,"K225510205076","Trịnh Trung Hiếu",{"$f":"VLOOKUP(B1620,'[1]Ko tgia'!$B$2:$M$1900,4,0)","v":"1920307605"},{"$f":"VLOOKUP(B1620,'[1]Ko tgia'!$B$2:$M$1900,5,0)","v":"019204001565"},"11/05/2004",null,null,10,{"v":526500,"d":"526,500"},"K58CN-ĐLO.K01","OTO"]
[1620,"K225510205094","Hoàng Thị Yến Nhi",{"$f":"VLOOKUP(B1621,'[1]Ko tgia'!$B$2:$M$1900,4,0)","v":"1920429839"},{"$f":"VLOOKUP(B1621,'[1]Ko tgia'!$B$2:$M$1900,5,0)","v":"019304006347"},"27/08/2004",{"$f":"VLOOKUP(B1621,'[2]Ko tgia'!$C$2:$K$9900,8,0)","v":"x"},null,10,{"v":526500,"d":"526,500"},"K58CN-ĐLO.K01","OTO"]
[1621,"K225510205046","Vũ Hoàng Thiện",{"$f":"VLOOKUP(B1622,'[1]Ko tgia'!$B$2:$M$1900,4,0)","v":"1921359250"},{"$f":"VLOOKUP(B1622,'[1]Ko tgia'!$B$2:$M$1900,5,0)","v":"019204002010"},"05/03/2004",null,null,10,{"v":526500,"d":"526,500"},"K58CN-ĐLO.K01","OTO"]
[1622,"K225510205068","Đoàn Bá Trung Dũng",{"$f":"VLOOKUP(B1623,'[1]Ko tgia'!$B$2:$M$1900,4,0)","v":"1921423276"},{"$f":"VLOOKUP(B1623,'[1]Ko tgia'!$B$2:$M$1900,5,0)","v":"019204010064"},"30/09/2004",null,null,10,{"v":526500,"d":"526,500"},"K58CN-ĐLO.K01","OTO"]
[1623,"K225510205185","Vũ Việt Dương",{"$f":"VLOOKUP(B1624,'[1]Ko tgia'!$B$2:$M$1900,4,0)","v":"1920134177"},{"$f":"VLOOKUP(B1624,'[1]Ko tgia'!$B$2:$M$1900,5,0)","v":"019204007240"},"06/08/2004",null,null,10,{"v":526500,"d":"526,500"},"K58CN-ĐLO.K02","OTO"]
[1624,"K225510205131","Phạm Thái Dương",{"$f":"VLOOKUP(B1625,'[1]Ko tgia'!$B$2:$M$1900,4,0)","v":"1920212918"},{"$f":"VLOOKUP(B1625,'[1]Ko tgia'!$B$2:$M$1900,5,0)","v":"031204014564"},"06/07/2004",null,null,10,{"v":526500,"d":"526,500"},"K58CN-ĐLO.K02","OTO"]
[1625,"K225510205143","Ngô Văn Huy",{"$f":"VLOOKUP(B1626,'[1]Ko tgia'!$B$2:$M$1900,4,0)","v":"1920619574"},{"$f":"VLOOKUP(B1626,'[1]Ko tgia'!$B$2:$M$1900,5,0)","v":"019204001726"},"30/03/2004",null,null,10,{"v":526500,"d":"526,500"},"K58CN-ĐLO.K02","OTO"]
[1626,"K225510205168","Lê Minh Trường",{"$f":"VLOOKUP(B1627,'[1]Ko tgia'!$B$2:$M$1900,4,0)","v":"1920927682"},{"$f":"VLOOKUP(B1627,'[1]Ko tgia'!$B$2:$M$1900,5,0)","v":"019204005294"},"03/08/2004",null,null,10,{"v":526500,"d":"526,500"},"K58CN-ĐLO.K02","OTO"]
[1627,"K225510205138","Nguyễn Lê Hoàng",{"$f":"VLOOKUP(B1628,'[1]Ko tgia'!$B$2:$M$1900,4,0)","v":"2420233423"},{"$f":"VLOOKUP(B1628,'[1]Ko tgia'!$B$2:$M$1900,5,0)","v":"024204008131"},"06/12/2004",null,null,10,{"v":526500,"d":"526,500"},"K58CN-ĐLO.K02","OTO"]
[1628,"K225510205171","Lê Văn Tuyển",{"$f":"VLOOKUP(B1629,'[1]Ko tgia'!$B$2:$M$1900,4,0)","v":"2420688795"},{"$f":"VLOOKUP(B1629,'[1]Ko tgia'!$B$2:$M$1900,5,0)","v":"024204000568"},"17/07/2004",null,null,10,{"v":526500,"d":"526,500"},"K58CN-ĐLO.K02","OTO"]
[1629,"K225510205154","Nguyễn Vũ Hải Nam",{"$f":"VLOOKUP(B1630,'[1]Ko tgia'!$B$2:$M$1900,4,0)","v":"2420958905"},{"$f":"VLOOKUP(B1630,'[1]Ko tgia'!$B$2:$M$1900,5,0)","v":"024204003617"},"22/01/2004",null,null,10,{"v":526500,"d":"526,500"},"K58CN-ĐLO.K02","OTO"]
[1630,"K225510205129","Lưu Hồng Đức",{"$f":"VLOOKUP(B1631,'[1]Ko tgia'!$B$2:$M$1900,4,0)","v":"2620572062"},{"$f":"VLOOKUP(B1631,'[1]Ko tgia'!$B$2:$M$1900,5,0)","v":"026204012933"},"18/03/2004",null,null,10,{"v":526500,"d":"526,500"},"K58CN-ĐLO.K02","OTO"]
[1631,"K225510205165","Bùi Đức Trọng",{"$f":"VLOOKUP(B1632,'[1]Ko tgia'!$B$2:$M$1900,4,0)","v":"2720115765"},{"$f":"VLOOKUP(B1632,'[1]Ko tgia'!$B$2:$M$1900,5,0)","v":"027204009292"},"30/12/2004",null,null,10,{"v":526500,"d":"526,500"},"K58CN-ĐLO.K02","OTO"]
[1632,"K225510205146","Nguyễn Đắc Khánh",{"$f":"VLOOKUP(B1633,'[1]Ko tgia'!$B$2:$M$1900,4,0)","v":"2721775239"},{"$f":"VLOOKUP(B1633,'[1]Ko tgia'!$B$2:$M$1900,5,0)","v":"027204001951"},"21/11/2004",null,null,10,{"v":526500,"d":"526,500"},"K58CN-ĐLO.K02","OTO"]
[1633,"K225510205139","Phạm Văn Hoàng",{"$f":"VLOOKUP(B1634,'[1]Ko tgia'!$B$2:$M$1900,4,0)","v":"3620373943"},{"$f":"VLOOKUP(B1634,'[1]Ko tgia'!$B$2:$M$1900,5,0)","v":"036204008226"},"17/09/2004",null,null,10,{"v":526500,"d":"526,500"},"K58CN-ĐLO.K02","OTO"]
[1634,"K225510205167","Bùi Đình Trường",{"$f":"VLOOKUP(B1635,'[1]Ko tgia'!$B$2:$M$1900,4,0)","v":"3720247744"},{"$f":"VLOOKUP(B1635,'[1]Ko tgia'!$B$2:$M$1900,5,0)","v":"037204001643"},"27/08/2004",null,null,10,{"v":526500,"d":"526,500"},"K58CN-ĐLO.K02","OTO"]
[1635,"K225510205144","Nguyễn Xuân Huy",{"$f":"VLOOKUP(B1636,'[1]Ko tgia'!$B$2:$M$1900,4,0)","v":"3822953227"},{"$f":"VLOOKUP(B1636,'[1]Ko tgia'!$B$2:$M$1900,5,0)","v":"038204004231"},"25/11/2004",null,null,10,{"v":526500,"d":"526,500"},"K58CN-ĐLO.K02","OTO"]
[1636,"K225510205123","Phạm Quốc Bình",{"$f":"VLOOKUP(B1637,'[1]Ko tgia'!$B$2:$M$1900,4,0)","v":"4217474416"},{"$f":"VLOOKUP(B1637,'[1]Ko tgia'!$B$2:$M$1900,5,0)","v":"044204003385"},"05/08/2004",null,null,10,{"v":526500,"d":"526,500"},"K58CN-ĐLO.K02","OTO"]
[1637,"K225510205032","Nguyễn Hoàng Bảo Long",{"$f":"VLOOKUP(B1638,'[1]Ko tgia'!$B$2:$M$1900,4,0)","v":"1920074069"},{"$f":"VLOOKUP(B1638,'[1]Ko tgia'!$B$2:$M$1900,5,0)","v":"019204002650"},"14/08/2004",null,null,10,{"v":526500,"d":"526,500"},"K58CN-NLO.K01","OTO"]
[1638,"K225510205112","Tạ Ngọc Tuân",{"$f":"VLOOKUP(B1639,'[1]Ko tgia'!$B$2:$M$1900,4,0)","v":"1920464068"},{"$f":"VLOOKUP(B1639,'[1]Ko tgia'!$B$2:$M$1900,5,0)","v":"019204005725"},"18/02/2004",null,null,10,{"v":526500,"d":"526,500"},"K58CN-NLO.K01","OTO"]
[1639,"K225510205114","Trần Duy Tùng",{"$f":"VLOOKUP(B1640,'[1]Ko tgia'!$B$2:$M$1900,4,0)","v":"1920467567"},{"$f":"VLOOKUP(B1640,'[1]Ko tgia'!$B$2:$M$1900,5,0)","v":"019204008622"},"09/06/2004",null,null,10,{"v":526500,"d":"526,500"},"K58CN-NLO.K01","OTO"]
[1640,"K225510205197","Nguyễn Minh Quân",{"$f":"VLOOKUP(B1641,'[1]Ko tgia'!$B$2:$M$1900,4,0)","v":"2421831437"},{"$f":"VLOOKUP(B1641,'[1]Ko tgia'!$B$2:$M$1900,5,0)","v":"024204010297"},"28/08/2004",null,null,10,{"v":526500,"d":"526,500"},"K58CN-NLO.K01","OTO"]
[1641,"K235520116021","Đàm Minh Quân",{"$f":"VLOOKUP(B1642,'[1]Ko tgia'!$B$2:$M$1900,4,0)","v":"0120993769"},{"$f":"VLOOKUP(B1642,'[1]Ko tgia'!$B$2:$M$1900,5,0)","v":"001205041428"},"05/09/2005",null,null,10,{"v":526500,"d":"526,500"},"K59CĐL.K01","OTO"]
[1642,"K235520116012","Nguyễn Minh Quân",{"$f":"VLOOKUP(B1643,'[1]Ko tgia'!$B$2:$M$1900,4,0)","v":"1920043620"},{"$f":"VLOOKUP(B1643,'[1]Ko tgia'!$B$2:$M$1900,5,0)","v":"019205001298"},"01/02/2005",null,null,10,{"v":526500,"d":"526,500"},"K59CĐL.K01","OTO"]
[1643,"K235520116001","Đinh Hoàng Nam",{"$f":"VLOOKUP(B1644,'[1]Ko tgia'!$B$2:$M$1900,4,0)","v":"1920199607"},{"$f":"VLOOKUP(B1644,'[1]Ko tgia'!$B$2:$M$1900,5,0)","v":"019205009156"},"06/05/2005",null,null,10,{"v":526500,"d":"526,500"},"K59CĐL.K01","OTO"]
[1644,"K235520116013","Nguyễn Bá Trường Sơn",{"$f":"VLOOKUP(B1645,'[1]Ko tgia'!$B$2:$M$1900,4,0)","v":"1920291886"},{"$f":"VLOOKUP(B1645,'[1]Ko tgia'!$B$2:$M$1900,5,0)","v":"019205002906"},"14/05/2005",null,null,10,{"v":526500,"d":"526,500"},"K59CĐL.K01","OTO"]
[1645,"K235520116016","Lương Văn Bảo",{"$f":"VLOOKUP(B1646,'[1]Ko tgia'!$B$2:$M$1900,4,0)","v":"2420536383"},{"$f":"VLOOKUP(B1646,'[1]Ko tgia'!$B$2:$M$1900,5,0)","v":"024205002758"},"08/07/2005",null,null,10,{"v":526500,"d":"526,500"},"K59CĐL.K01","OTO"]
[1646,"K235510205050","Nguyễn Trung Dũng",{"$f":"VLOOKUP(B1647,'[1]Ko tgia'!$B$2:$M$1900,4,0)","v":"0124415272"},{"$f":"VLOOKUP(B1647,'[1]Ko tgia'!$B$2:$M$1900,5,0)","v":"001205054632"},"01/09/2005",null,null,10,{"v":526500,"d":"526,500"},"K59CN-CDO.K01","OTO"]
[1647,"K235510205268","Trần Xuân Trường",{"$f":"VLOOKUP(B1648,'[1]Ko tgia'!$B$2:$M$1900,4,0)","v":"1920624754"},{"$f":"VLOOKUP(B1648,'[1]Ko tgia'!$B$2:$M$1900,5,0)","v":"019205002043"},"11/05/2005",null,null,10,{"v":526500,"d":"526,500"},"K59CN-CDO.K01","OTO"]
[1648,"K235510205286","Triệu Minh Tuyển",{"$f":"VLOOKUP(B1649,'[1]Ko tgia'!$B$2:$M$1900,4,0)","v":"1920686842"},{"$f":"VLOOKUP(B1649,'[1]Ko tgia'!$B$2:$M$1900,5,0)","v":"019205002218"},"03/09/2005",null,null,10,{"v":526500,"d":"526,500"},"K59CN-CDO.K01","OTO"]
[1649,"K235510205106","Vũ Đại Hiệp",{"$f":"VLOOKUP(B1650,'[1]Ko tgia'!$B$2:$M$1900,4,0)","v":"1920780862"},{"$f":"VLOOKUP(B1650,'[1]Ko tgia'!$B$2:$M$1900,5,0)","v":"019205005754"},"11/11/2005",null,null,10,{"v":526500,"d":"526,500"},"K59CN-CDO.K01","OTO"]
[1650,"K235510205203","Nguyễn Tú Quang",{"$f":"VLOOKUP(B1651,'[1]Ko tgia'!$B$2:$M$1900,4,0)","v":"2420347699"},{"$f":"VLOOKUP(B1651,'[1]Ko tgia'!$B$2:$M$1900,5,0)","v":"024205005531"},"14/08/2005",null,null,10,{"v":526500,"d":"526,500"},"K59CN-CDO.K01","OTO"]
[1651,"K235510205123","Nguyễn Việt Hoàng",{"$f":"VLOOKUP(B1652,'[1]Ko tgia'!$B$2:$M$1900,4,0)","v":"2521027232"},{"$f":"VLOOKUP(B1652,'[1]Ko tgia'!$B$2:$M$1900,5,0)","v":"025205002360"},"18/05/2005",null,null,10,{"v":526500,"d":"526,500"},"K59CN-CDO.K01","OTO"]
[1652,"K235510205110","Nguyễn Minh Hiếu",{"$f":"VLOOKUP(B1653,'[1]Ko tgia'!$B$2:$M$1900,4,0)","v":"2720105581"},{"$f":"VLOOKUP(B1653,'[1]Ko tgia'!$B$2:$M$1900,5,0)","v":"027205005702"},"07/01/2005",null,null,10,{"v":526500,"d":"526,500"},"K59CN-CDO.K01","OTO"]
[1653,"K235510205095","Phạm Sơn Hải",{"$f":"VLOOKUP(B1654,'[1]Ko tgia'!$B$2:$M$1900,4,0)","v":"1920026861"},{"$f":"VLOOKUP(B1654,'[1]Ko tgia'!$B$2:$M$1900,5,0)","v":"019205005896"},"30/07/2005",null,null,10,{"v":526500,"d":"526,500"},"K59CN-CNO.K01","OTO"]
[1654,"K235520116024","Vũ Minh Thái",{"$f":"VLOOKUP(B1655,'[1]Ko tgia'!$B$2:$M$1900,4,0)","v":"1920066259"},{"$f":"VLOOKUP(B1655,'[1]Ko tgia'!$B$2:$M$1900,5,0)","v":"019205005211"},"22/07/2005",null,null,10,{"v":526500,"d":"526,500"},"K59CN-CNO.K01","OTO"]
[1655,"K235510205052","Vũ Tiến Dũng",{"$f":"VLOOKUP(B1656,'[1]Ko tgia'!$B$2:$M$1900,4,0)","v":"1920244991"},{"$f":"VLOOKUP(B1656,'[1]Ko tgia'!$B$2:$M$1900,5,0)","v":"019205002998"},"07/07/2005",null,null,10,{"v":526500,"d":"526,500"},"K59CN-CNO.K01","OTO"]
[1656,"K235510205121","Lô Văn Hoàng",{"$f":"VLOOKUP(B1657,'[1]Ko tgia'!$B$2:$M$1900,4,0)","v":"1920450579"},{"$f":"VLOOKUP(B1657,'[1]Ko tgia'!$B$2:$M$1900,5,0)","v":"019205002739"},"13/10/2005",null,null,10,{"v":526500,"d":"526,500"},"K59CN-CNO.K01","OTO"]
[1657,"K235510205137","Phạm Lý Tâm Huy",{"$f":"VLOOKUP(B1658,'[1]Ko tgia'!$B$2:$M$1900,4,0)","v":"1920775133"},{"$f":"VLOOKUP(B1658,'[1]Ko tgia'!$B$2:$M$1900,5,0)","v":"019205000504"},"08/07/2005",null,null,10,{"v":526500,"d":"526,500"},"K59CN-CNO.K01","OTO"]
[1658,"K235510205151","Trần Đức Khiêm",{"$f":"VLOOKUP(B1659,'[1]Ko tgia'!$B$2:$M$1900,4,0)","v":"1920990592"},{"$f":"VLOOKUP(B1659,'[1]Ko tgia'!$B$2:$M$1900,5,0)","v":"019205006961"},"15/11/2005",null,null,10,{"v":526500,"d":"526,500"},"K59CN-CNO.K01","OTO"]
[1659,"K235510205262","Nguyễn Mạnh Trung",{"$f":"VLOOKUP(B1660,'[1]Ko tgia'!$B$2:$M$1900,4,0)","v":"1921060042"},{"$f":"VLOOKUP(B1660,'[1]Ko tgia'!$B$2:$M$1900,5,0)","v":"019205006796"},"31/01/2005",null,null,10,{"v":526500,"d":"526,500"},"K59CN-CNO.K01","OTO"]
[1660,"K235510205023","Hoàng Ánh",{"$f":"VLOOKUP(B1661,'[1]Ko tgia'!$B$2:$M$1900,4,0)","v":"1921113357"},{"$f":"VLOOKUP(B1661,'[1]Ko tgia'!$B$2:$M$1900,5,0)","v":"019205006013"},"26/09/2005",null,null,10,{"v":526500,"d":"526,500"},"K59CN-CNO.K01","OTO"]
[1661,"K235510205283","Nguyễn Hoàng Tuyên",{"$f":"VLOOKUP(B1662,'[1]Ko tgia'!$B$2:$M$1900,4,0)","v":"1921341096"},{"$f":"VLOOKUP(B1662,'[1]Ko tgia'!$B$2:$M$1900,5,0)","v":"019205008224"},"17/11/2005",null,null,10,{"v":526500,"d":"526,500"},"K59CN-CNO.K01","OTO"]
[1662,"K235510205132","Đinh Quang Huy",{"$f":"VLOOKUP(B1663,'[1]Ko tgia'!$B$2:$M$1900,4,0)","v":"1921568813"},{"$f":"VLOOKUP(B1663,'[1]Ko tgia'!$B$2:$M$1900,5,0)","v":"019205011151"},"08/06/2005",null,null,10,{"v":526500,"d":"526,500"},"K59CN-CNO.K01","OTO"]
[1663,"K235510205096","Thân Văn Hải",{"$f":"VLOOKUP(B1664,'[1]Ko tgia'!$B$2:$M$1900,4,0)","v":"2421307077"},{"$f":"VLOOKUP(B1664,'[1]Ko tgia'!$B$2:$M$1900,5,0)","v":"024205001828"},"03/11/2005",null,null,10,{"v":526500,"d":"526,500"},"K59CN-CNO.K01","OTO"]
[1664,"K235510205274","Diêm Đăng Tuấn",{"$f":"VLOOKUP(B1665,'[1]Ko tgia'!$B$2:$M$1900,4,0)","v":"2421353616"},{"$f":"VLOOKUP(B1665,'[1]Ko tgia'!$B$2:$M$1900,5,0)","v":"024205005174"},"14/09/2005",null,null,10,{"v":526500,"d":"526,500"},"K59CN-CNO.K01","OTO"]
[1665,"K235510205133","Lê Văn Huy",{"$f":"VLOOKUP(B1666,'[1]Ko tgia'!$B$2:$M$1900,4,0)","v":"2421587660"},{"$f":"VLOOKUP(B1666,'[1]Ko tgia'!$B$2:$M$1900,5,0)","v":"024205010056"},"03/10/2005",null,null,10,{"v":526500,"d":"526,500"},"K59CN-CNO.K01","OTO"]
[1666,"K235510205098","Ngô Tiến Hào",{"$f":"VLOOKUP(B1667,'[1]Ko tgia'!$B$2:$M$1900,4,0)","v":"2620499361"},{"$f":"VLOOKUP(B1667,'[1]Ko tgia'!$B$2:$M$1900,5,0)","v":"026205002120"},"29/08/2005",null,null,10,{"v":526500,"d":"526,500"},"K59CN-CNO.K01","OTO"]
[1667,"K235510205088","Vũ Văn Đức",{"$f":"VLOOKUP(B1668,'[1]Ko tgia'!$B$2:$M$1900,4,0)","v":"7931554414"},{"$f":"VLOOKUP(B1668,'[1]Ko tgia'!$B$2:$M$1900,5,0)","v":"026205000418"},"21/05/2005",null,null,10,{"v":526500,"d":"526,500"},"K59CN-CNO.K01","OTO"]
[1668,"K235510205297","Lê Đình Vũ",{"$f":"VLOOKUP(B1669,'[1]Ko tgia'!$B$2:$M$1900,4,0)","v":"1920372100"},{"$f":"VLOOKUP(B1669,'[1]Ko tgia'!$B$2:$M$1900,5,0)","v":"019204001134"},"05/08/2004",null,null,10,{"v":526500,"d":"526,500"},"K59CN-DLO.K01","OTO"]
[1669,"K235510205115","Nguyễn Văn Hiệu",{"$f":"VLOOKUP(B1670,'[1]Ko tgia'!$B$2:$M$1900,4,0)","v":"2421554432"},{"$f":"VLOOKUP(B1670,'[1]Ko tgia'!$B$2:$M$1900,5,0)","v":"024205014674"},"30/07/2005",null,null,10,{"v":526500,"d":"526,500"},"K59CN-DLO.K01","OTO"]
[1670,"K235510205117","Vũ Văn Hòa",{"$f":"VLOOKUP(B1671,'[1]Ko tgia'!$B$2:$M$1900,4,0)","v":"2421560786"},{"$f":"VLOOKUP(B1671,'[1]Ko tgia'!$B$2:$M$1900,5,0)","v":"024205006731"},"10/11/2005",null,null,10,{"v":526500,"d":"526,500"},"K59CN-DLO.K01","OTO"]
[1671,"K235510205024","Nguyễn Việt Bách",{"$f":"VLOOKUP(B1672,'[1]Ko tgia'!$B$2:$M$1900,4,0)","v":"2620141109"},{"$f":"VLOOKUP(B1672,'[1]Ko tgia'!$B$2:$M$1900,5,0)","v":"026205000449"},"20/07/2005",null,null,10,{"v":526500,"d":"526,500"},"K59CN-DLO.K01","OTO"]
[1672,"K235510205085","Nguyễn Trung Đức",{"$f":"VLOOKUP(B1673,'[1]Ko tgia'!$B$2:$M$1900,4,0)","v":"2721671309"},{"$f":"VLOOKUP(B1673,'[1]Ko tgia'!$B$2:$M$1900,5,0)","v":"027205005247"},"17/07/2005",null,null,10,{"v":526500,"d":"526,500"},"K59CN-DLO.K01","OTO"]
[1673,"K235510205158","Nguyễn Hữu Lành",{"$f":"VLOOKUP(B1674,'[1]Ko tgia'!$B$2:$M$1900,4,0)","v":"1920127844"},{"$f":"VLOOKUP(B1674,'[1]Ko tgia'!$B$2:$M$1900,5,0)","v":"019205004513"},"18/02/2005",null,null,10,{"v":526500,"d":"526,500"},"K59CN-NLO.K01","OTO"]
[1674,"K235510205222","Nguyễn Hồng Sơn",{"$f":"VLOOKUP(B1675,'[1]Ko tgia'!$B$2:$M$1900,4,0)","v":"1920172970"},{"$f":"VLOOKUP(B1675,'[1]Ko tgia'!$B$2:$M$1900,5,0)","v":"019205002118"},"15/09/2005",null,null,10,{"v":526500,"d":"526,500"},"K59CN-NLO.K01","OTO"]
[1675,"K235510205005","Nguyễn Trung Nam",{"$f":"VLOOKUP(B1676,'[1]Ko tgia'!$B$2:$M$1900,4,0)","v":"1920210790"},{"$f":"VLOOKUP(B1676,'[1]Ko tgia'!$B$2:$M$1900,5,0)","v":"019205008884"},"24/06/2005",null,null,10,{"v":526500,"d":"526,500"},"K59CN-NLO.K01","OTO"]
[1676,"K235510205108","Đỗ Anh Hiếu",{"$f":"VLOOKUP(B1677,'[1]Ko tgia'!$B$2:$M$1900,4,0)","v":"1920225533"},{"$f":"VLOOKUP(B1677,'[1]Ko tgia'!$B$2:$M$1900,5,0)","v":"019205011246"},"15/02/2005",null,null,10,{"v":526500,"d":"526,500"},"K59CN-NLO.K01","OTO"]
[1677,"K235520116022","Phạm Văn Quyến",{"$f":"VLOOKUP(B1678,'[1]Ko tgia'!$B$2:$M$1900,4,0)","v":"1920320849"},{"$f":"VLOOKUP(B1678,'[1]Ko tgia'!$B$2:$M$1900,5,0)","v":"019205002992"},"05/12/2005",null,null,10,{"v":526500,"d":"526,500"},"K59CN-NLO.K01","OTO"]
[1678,"K235510205181","Trần Lưu Ngạn",{"$f":"VLOOKUP(B1679,'[1]Ko tgia'!$B$2:$M$1900,4,0)","v":"1920456353"},{"$f":"VLOOKUP(B1679,'[1]Ko tgia'!$B$2:$M$1900,5,0)","v":"019205003155"},"19/10/2005",null,null,10,{"v":526500,"d":"526,500"},"K59CN-NLO.K01","OTO"]
[1679,"K235510205013","Lê Tiến Anh",{"$f":"VLOOKUP(B1680,'[1]Ko tgia'!$B$2:$M$1900,4,0)","v":"1920618980"},{"$f":"VLOOKUP(B1680,'[1]Ko tgia'!$B$2:$M$1900,5,0)","v":"019205000697"},"28/11/2005",null,null,10,{"v":526500,"d":"526,500"},"K59CN-NLO.K01","OTO"]
[1680,"K235510205212","Trần Hồng Quân",{"$f":"VLOOKUP(B1681,'[1]Ko tgia'!$B$2:$M$1900,4,0)","v":"1921066135"},{"$f":"VLOOKUP(B1681,'[1]Ko tgia'!$B$2:$M$1900,5,0)","v":"019205001020"},"27/01/2005",null,null,10,{"v":526500,"d":"526,500"},"K59CN-NLO.K01","OTO"]
[1681,"K235510205243","Nguyễn Văn Thôn",{"$f":"VLOOKUP(B1682,'[1]Ko tgia'!$B$2:$M$1900,4,0)","v":"2421523327"},{"$f":"VLOOKUP(B1682,'[1]Ko tgia'!$B$2:$M$1900,5,0)","v":"024205006063"},"22/02/2005",null,null,10,{"v":526500,"d":"526,500"},"K59CN-NLO.K01","OTO"]
[1682,"K235510205136","Nguyễn Quốc Huy",{"$f":"VLOOKUP(B1683,'[1]Ko tgia'!$B$2:$M$1900,4,0)","v":"2720460381"},{"$f":"VLOOKUP(B1683,'[1]Ko tgia'!$B$2:$M$1900,5,0)","v":"027205003308"},"27/12/2005",null,null,10,{"v":526500,"d":"526,500"},"K59CN-NLO.K01","OTO"]
[1683,"K235520116026","Nguyễn Minh Quân",{"$f":"VLOOKUP(B1684,'[1]Ko tgia'!$B$2:$M$1900,4,0)","v":"2720967038"},{"$f":"VLOOKUP(B1684,'[1]Ko tgia'!$B$2:$M$1900,5,0)","v":"027205011036"},"23/08/2005",null,null,10,{"v":526500,"d":"526,500"},"K59CN-NLO.K01","OTO"]
[1684,"K235510205267","Trần Xuân Trường",{"$f":"VLOOKUP(B1685,'[1]Ko tgia'!$B$2:$M$1900,4,0)","v":"3420446888"},{"$f":"VLOOKUP(B1685,'[1]Ko tgia'!$B$2:$M$1900,5,0)","v":"034205001593"},"13/08/2005",null,null,10,{"v":526500,"d":"526,500"},"K59CN-NLO.K01","OTO"]
[1685,"K235510205263","Nguyễn Thành Trung",{"$f":"VLOOKUP(B1686,'[1]Ko tgia'!$B$2:$M$1900,4,0)","v":"3420473419"},{"$f":"VLOOKUP(B1686,'[1]Ko tgia'!$B$2:$M$1900,5,0)","v":"034205004068"},"28/11/2005",null,null,10,{"v":526500,"d":"526,500"},"K59CN-NLO.K01","OTO"]
[1686,"K235510205006","Nguyễn Xuân Nam",{"$f":"VLOOKUP(B1687,'[1]Ko tgia'!$B$2:$M$1900,4,0)","v":"3620492742"},{"$f":"VLOOKUP(B1687,'[1]Ko tgia'!$B$2:$M$1900,5,0)","v":"036205009093"},"03/11/2005",null,null,10,{"v":526500,"d":"526,500"},"K59CN-NLO.K01","OTO"]
[1687,"K235510205086","Thiều Đình Đức",{"$f":"VLOOKUP(B1688,'[1]Ko tgia'!$B$2:$M$1900,4,0)","v":"3821079981"},{"$f":"VLOOKUP(B1688,'[1]Ko tgia'!$B$2:$M$1900,5,0)","v":"038205017482"},"04/02/2005",null,null,10,{"v":526500,"d":"526,500"},"K59CN-NLO.K01","OTO"]
[1688,"K235510205239","Nguyễn Đức Thiện",{"$f":"VLOOKUP(B1689,'[1]Ko tgia'!$B$2:$M$1900,4,0)","v":"3822541047"},{"$f":"VLOOKUP(B1689,'[1]Ko tgia'!$B$2:$M$1900,5,0)","v":"038205029882"},"18/10/2005",null,null,10,{"v":526500,"d":"526,500"},"K59CN-NLO.K01","OTO"]
[1689,"K235510205291","Nguyễn Đức Việt",{"$f":"VLOOKUP(B1690,'[1]Ko tgia'!$B$2:$M$1900,4,0)","v":"3822888357"},{"$f":"VLOOKUP(B1690,'[1]Ko tgia'!$B$2:$M$1900,5,0)","v":"038205009196"},"13/12/2005",null,null,10,{"v":526500,"d":"526,500"},"K59CN-NLO.K01","OTO"]
[1690,"K235510205064","Nguyễn Văn Dương",{"$f":"VLOOKUP(B1691,'[1]Ko tgia'!$B$2:$M$1900,4,0)","v":"3824417370"},{"$f":"VLOOKUP(B1691,'[1]Ko tgia'!$B$2:$M$1900,5,0)","v":"038205008203"},"13/02/2005",null,null,10,{"v":526500,"d":"526,500"},"K59CN-NLO.K01","OTO"]
[1691,"K245520116037","Nguyễn Huy Đức",{"$f":"VLOOKUP(B1692,'[1]Ko tgia'!$B$2:$M$1900,4,0)","v":"0620256807"},{"$f":"VLOOKUP(B1692,'[1]Ko tgia'!$B$2:$M$1900,5,0)","v":"006206007372"},"25/02/2006",null,null,10,{"v":526500,"d":"526,500"},"K60CĐL.K01","OTO"]
[1692,"K245520116033","Bùi Minh Quân",{"$f":"VLOOKUP(B1693,'[1]Ko tgia'!$B$2:$M$1900,4,0)","v":"1520092187"},{"$f":"VLOOKUP(B1693,'[1]Ko tgia'!$B$2:$M$1900,5,0)","v":"015206000521"},"13/06/2006",null,null,10,{"v":526500,"d":"526,500"},"K60CĐL.K01","OTO"]
[1693,"K245520116041","Hoàng Gia Phong",{"$f":"VLOOKUP(B1694,'[1]Ko tgia'!$B$2:$M$1900,4,0)","v":"1520479629"},{"$f":"VLOOKUP(B1694,'[1]Ko tgia'!$B$2:$M$1900,5,0)","v":"015206007977"},"02/01/2006",null,null,10,{"v":526500,"d":"526,500"},"K60CĐL.K01","OTO"]
[1694,"K245520116016","Mai Quang Khải",{"$f":"VLOOKUP(B1695,'[1]Ko tgia'!$B$2:$M$1900,4,0)","v":"1520760038"},{"$f":"VLOOKUP(B1695,'[1]Ko tgia'!$B$2:$M$1900,5,0)","v":"015206001351"},"06/01/2006",null,null,10,{"v":526500,"d":"526,500"},"K60CĐL.K01","OTO"]
[1695,"K245520116043","Bùi Văn Nghĩa",{"$f":"VLOOKUP(B1696,'[1]Ko tgia'!$B$2:$M$1900,4,0)","v":"2420074032"},{"$f":"VLOOKUP(B1696,'[1]Ko tgia'!$B$2:$M$1900,5,0)","v":"024206014471"},"06/04/2006",null,null,10,{"v":526500,"d":"526,500"},"K60CĐL.K01","OTO"]
[1696,"K245520116005","Nguyễn Trọng Huy",{"$f":"VLOOKUP(B1697,'[1]Ko tgia'!$B$2:$M$1900,4,0)","v":"2421457403"},{"$f":"VLOOKUP(B1697,'[1]Ko tgia'!$B$2:$M$1900,5,0)","v":"024206003534"},"17/03/2006",null,null,10,{"v":526500,"d":"526,500"},"K60CĐL.K01","OTO"]
[1697,"K245520116018","Nguyễn Phú Hải Sơn",{"$f":"VLOOKUP(B1698,'[1]Ko tgia'!$B$2:$M$1900,4,0)","v":"3021978781"},{"$f":"VLOOKUP(B1698,'[1]Ko tgia'!$B$2:$M$1900,5,0)","v":"030206003390"},"05/03/2006",null,null,10,{"v":526500,"d":"526,500"},"K60CĐL.K01","OTO"]
[1698,"K245520116038","Vũ Gia Tường Nguyên",{"$f":"VLOOKUP(B1699,'[1]Ko tgia'!$B$2:$M$1900,4,0)","v":"3420885223"},{"$f":"VLOOKUP(B1699,'[1]Ko tgia'!$B$2:$M$1900,5,0)","v":"034206008312"},"24/01/2006",null,null,10,{"v":526500,"d":"526,500"},"K60CĐL.K01","OTO"]
[1699,"K245510205019","Phạm Đức Hiếu",{"$f":"VLOOKUP(B1700,'[1]Ko tgia'!$B$2:$M$1900,4,0)","v":"1520767888"},{"$f":"VLOOKUP(B1700,'[1]Ko tgia'!$B$2:$M$1900,5,0)","v":"015206009273"},"08/08/2006",null,null,10,{"v":526500,"d":"526,500"},"K60CN-KTO.K01","OTO"]
[1700,"K245510205046","Bùi Nguyên Ngọc",{"$f":"VLOOKUP(B1701,'[1]Ko tgia'!$B$2:$M$1900,4,0)","v":"1720338707"},{"$f":"VLOOKUP(B1701,'[1]Ko tgia'!$B$2:$M$1900,5,0)","v":"017206003166"},"26/11/2006",null,null,10,{"v":526500,"d":"526,500"},"K60CN-KTO.K01","OTO"]
[1701,"K245510205033","Lê Văn Dương",{"$f":"VLOOKUP(B1702,'[1]Ko tgia'!$B$2:$M$1900,4,0)","v":"1920082448"},{"$f":"VLOOKUP(B1702,'[1]Ko tgia'!$B$2:$M$1900,5,0)","v":"019206008236"},"12/10/2006",null,null,10,{"v":526500,"d":"526,500"},"K60CN-KTO.K01","OTO"]
[1702,"K245510205040","Hoàng Đại Nghĩa",{"$f":"VLOOKUP(B1703,'[1]Ko tgia'!$B$2:$M$1900,4,0)","v":"1920086333"},{"$f":"VLOOKUP(B1703,'[1]Ko tgia'!$B$2:$M$1900,5,0)","v":"019206002067"},"13/08/2006",null,null,10,{"v":526500,"d":"526,500"},"K60CN-KTO.K01","OTO"]
[1703,"K245510205029","Hoàng Đăng Nguyên",{"$f":"VLOOKUP(B1704,'[1]Ko tgia'!$B$2:$M$1900,4,0)","v":"1920105482"},{"$f":"VLOOKUP(B1704,'[1]Ko tgia'!$B$2:$M$1900,5,0)","v":"019206001184"},"06/10/2006",null,null,10,{"v":526500,"d":"526,500"},"K60CN-KTO.K01","OTO"]
[1704,"K245510205039","Nguyễn Đức Duy",{"$f":"VLOOKUP(B1705,'[1]Ko tgia'!$B$2:$M$1900,4,0)","v":"1920118822"},{"$f":"VLOOKUP(B1705,'[1]Ko tgia'!$B$2:$M$1900,5,0)","v":"019206000365"},"05/12/2006",null,null,10,{"v":526500,"d":"526,500"},"K60CN-KTO.K01","OTO"]
[1705,"K245510205061","Nguyễn Như Hoàng",{"$f":"VLOOKUP(B1706,'[1]Ko tgia'!$B$2:$M$1900,4,0)","v":"1920146331"},{"$f":"VLOOKUP(B1706,'[1]Ko tgia'!$B$2:$M$1900,5,0)","v":"019206006054"},"03/06/2006",null,null,10,{"v":526500,"d":"526,500"},"K60CN-KTO.K01","OTO"]
[1706,"K245510205063","Trịnh Bảo Long",{"$f":"VLOOKUP(B1707,'[1]Ko tgia'!$B$2:$M$1900,4,0)","v":"1920255139"},{"$f":"VLOOKUP(B1707,'[1]Ko tgia'!$B$2:$M$1900,5,0)","v":"019206000826"},"19/05/2006",null,null,10,{"v":526500,"d":"526,500"},"K60CN-KTO.K01","OTO"]
[1707,"K245510205037","Tăng Đức Thuận",{"$f":"VLOOKUP(B1708,'[1]Ko tgia'!$B$2:$M$1900,4,0)","v":"1920450329"},{"$f":"VLOOKUP(B1708,'[1]Ko tgia'!$B$2:$M$1900,5,0)","v":"019206010321"},"02/03/2006",null,null,10,{"v":526500,"d":"526,500"},"K60CN-KTO.K01","OTO"]
[1708,"K245510205054","Trần Tuấn Minh",{"$f":"VLOOKUP(B1709,'[1]Ko tgia'!$B$2:$M$1900,4,0)","v":"1920623466"},{"$f":"VLOOKUP(B1709,'[1]Ko tgia'!$B$2:$M$1900,5,0)","v":"019206003745"},"02/01/2006",null,null,10,{"v":526500,"d":"526,500"},"K60CN-KTO.K01","OTO"]
[1709,"K245510205016","Ngô Hoàng Hải",{"$f":"VLOOKUP(B1710,'[1]Ko tgia'!$B$2:$M$1900,4,0)","v":"1921431876"},{"$f":"VLOOKUP(B1710,'[1]Ko tgia'!$B$2:$M$1900,5,0)","v":"036206035506"},"27/10/2006",null,null,10,{"v":526500,"d":"526,500"},"K60CN-KTO.K01","OTO"]
[1710,"K245510205026","Dư Gia Khánh",{"$f":"VLOOKUP(B1711,'[1]Ko tgia'!$B$2:$M$1900,4,0)","v":"1921434573"},{"$f":"VLOOKUP(B1711,'[1]Ko tgia'!$B$2:$M$1900,5,0)","v":"020206008830"},"08/06/2006",null,null,10,{"v":526500,"d":"526,500"},"K60CN-KTO.K01","OTO"]
[1711,"K245510205022","Nguyễn Xuân Huy",{"$f":"VLOOKUP(B1712,'[1]Ko tgia'!$B$2:$M$1900,4,0)","v":"2220495945"},{"$f":"VLOOKUP(B1712,'[1]Ko tgia'!$B$2:$M$1900,5,0)","v":"022206000392"},"03/10/2006",null,null,10,{"v":526500,"d":"526,500"},"K60CN-KTO.K01","OTO"]
[1712,"K245520116014","Ngô Văn Quân",{"$f":"VLOOKUP(B1713,'[1]Ko tgia'!$B$2:$M$1900,4,0)","v":"2420265442"},{"$f":"VLOOKUP(B1713,'[1]Ko tgia'!$B$2:$M$1900,5,0)","v":"024206002330"},"28/09/2006",null,null,10,{"v":526500,"d":"526,500"},"K60CN-KTO.K01","OTO"]
[1713,"K245510205009","Trần Việt Khoa",{"$f":"VLOOKUP(B1714,'[1]Ko tgia'!$B$2:$M$1900,4,0)","v":"2420920486"},{"$f":"VLOOKUP(B1714,'[1]Ko tgia'!$B$2:$M$1900,5,0)","v":"024206011579"},"25/10/2006",null,null,10,{"v":526500,"d":"526,500"},"K60CN-KTO.K01","OTO"]
[1714,"K245510205066","Đỗ Viết Hiển",{"$f":"VLOOKUP(B1715,'[1]Ko tgia'!$B$2:$M$1900,4,0)","v":"2421977932"},{"$f":"VLOOKUP(B1715,'[1]Ko tgia'!$B$2:$M$1900,5,0)","v":"024206005515"},"24/01/2006",null,null,10,{"v":526500,"d":"526,500"},"K60CN-KTO.K01","OTO"]
[1715,"K245510205028","Nguyễn Minh Trí",{"$f":"VLOOKUP(B1716,'[1]Ko tgia'!$B$2:$M$1900,4,0)","v":"2720116094"},{"$f":"VLOOKUP(B1716,'[1]Ko tgia'!$B$2:$M$1900,5,0)","v":"027206002569"},"14/08/2006",null,null,10,{"v":526500,"d":"526,500"},"K60CN-KTO.K01","OTO"]
[1716,"K245510205055","Bùi Thế Tiến",{"$f":"VLOOKUP(B1717,'[1]Ko tgia'!$B$2:$M$1900,4,0)","v":"2721420761"},{"$f":"VLOOKUP(B1717,'[1]Ko tgia'!$B$2:$M$1900,5,0)","v":"027206007482"},"16/01/2006",null,null,10,{"v":526500,"d":"526,500"},"K60CN-KTO.K01","OTO"]
[1717,"K245520103059","Bùi Văn Tâm",{"$f":"VLOOKUP(B1718,'[1]Ko tgia'!$B$2:$M$1900,4,0)","v":"3421385389"},{"$f":"VLOOKUP(B1718,'[1]Ko tgia'!$B$2:$M$1900,5,0)","v":"034206006755"},"13/06/2006",null,null,10,{"v":526500,"d":"526,500"},"K60CN-KTO.K01","OTO"]
[1718,"K245510205043","Nguyễn Thành Đạt",{"$f":"VLOOKUP(B1719,'[1]Ko tgia'!$B$2:$M$1900,4,0)","v":"3820197887"},{"$f":"VLOOKUP(B1719,'[1]Ko tgia'!$B$2:$M$1900,5,0)","v":"038206021333"},"07/09/2006",null,null,10,{"v":526500,"d":"526,500"},"K60CN-KTO.K01","OTO"]
[1719,"K245510205001","Trương Đình Nam",{"$f":"VLOOKUP(B1720,'[1]Ko tgia'!$B$2:$M$1900,4,0)","v":"3823320563"},{"$f":"VLOOKUP(B1720,'[1]Ko tgia'!$B$2:$M$1900,5,0)","v":"038206028561"},"25/07/2006",null,null,10,{"v":526500,"d":"526,500"},"K60CN-KTO.K01","OTO"]
[1720,"K245510205058","Vũ Bình Nguyên",{"$f":"VLOOKUP(B1721,'[1]Ko tgia'!$B$2:$M$1900,4,0)","v":"9731680780"},{"$f":"VLOOKUP(B1721,'[1]Ko tgia'!$B$2:$M$1900,5,0)","v":"019206008093"},"20/01/2006",null,null,10,{"v":526500,"d":"526,500"},"K60CN-KTO.K01","OTO"]
[1721,"K245510205025","Đặng Hoàng Kiên",{"$f":"VLOOKUP(B1722,'[1]Ko tgia'!$B$2:$M$1900,4,0)","v":"9732687124"},{"$f":"VLOOKUP(B1722,'[1]Ko tgia'!$B$2:$M$1900,5,0)","v":"019206000183"},"05/09/2006",null,null,10,{"v":526500,"d":"526,500"},"K60CN-KTO.K01","OTO"]
[1722,"K245510205093","Nguyễn Quốc Gia",{"$f":"VLOOKUP(B1723,'[1]Ko tgia'!$B$2:$M$1900,4,0)","v":"0121563327"},{"$f":"VLOOKUP(B1723,'[1]Ko tgia'!$B$2:$M$1900,5,0)","v":"001206005856"},"12/10/2006",null,null,10,{"v":526500,"d":"526,500"},"K60CN-KTO.K02","OTO"]
[1723,"K245510205088","Phùng Quế Đức",{"$f":"VLOOKUP(B1724,'[1]Ko tgia'!$B$2:$M$1900,4,0)","v":"0124583410"},{"$f":"VLOOKUP(B1724,'[1]Ko tgia'!$B$2:$M$1900,5,0)","v":"001206038347"},"24/06/2006",null,null,10,{"v":526500,"d":"526,500"},"K60CN-KTO.K02","OTO"]
[1724,"K245510205124","Nông Đức Nhân",{"$f":"VLOOKUP(B1725,'[1]Ko tgia'!$B$2:$M$1900,4,0)","v":"0620224807"},{"$f":"VLOOKUP(B1725,'[1]Ko tgia'!$B$2:$M$1900,5,0)","v":"006206003138"},"28/07/2006",null,null,10,{"v":526500,"d":"526,500"},"K60CN-KTO.K02","OTO"]
[1725,"K245510205123","Lã Dương Nguyên",{"$f":"VLOOKUP(B1726,'[1]Ko tgia'!$B$2:$M$1900,4,0)","v":"1920306115"},{"$f":"VLOOKUP(B1726,'[1]Ko tgia'!$B$2:$M$1900,5,0)","v":"019206012114"},"12/09/2006",null,null,10,{"v":526500,"d":"526,500"},"K60CN-KTO.K02","OTO"]
[1726,"K245510205144","Phan Quốc Tuấn",{"$f":"VLOOKUP(B1727,'[1]Ko tgia'!$B$2:$M$1900,4,0)","v":"1920518070"},{"$f":"VLOOKUP(B1727,'[1]Ko tgia'!$B$2:$M$1900,5,0)","v":"019206006338"},"13/02/2006",null,null,10,{"v":526500,"d":"526,500"},"K60CN-KTO.K02","OTO"]
[1727,"K245510205127","Nguyễn Lê Minh Quang",{"$f":"VLOOKUP(B1728,'[1]Ko tgia'!$B$2:$M$1900,4,0)","v":"1920641192"},{"$f":"VLOOKUP(B1728,'[1]Ko tgia'!$B$2:$M$1900,5,0)","v":"019206008871"},"18/05/2006",null,null,10,{"v":526500,"d":"526,500"},"K60CN-KTO.K02","OTO"]
[1728,"K245510205091","Phạm Tùng Dương",{"$f":"VLOOKUP(B1729,'[1]Ko tgia'!$B$2:$M$1900,4,0)","v":"1920745982"},{"$f":"VLOOKUP(B1729,'[1]Ko tgia'!$B$2:$M$1900,5,0)","v":"019206001912"},"27/01/2006",null,null,10,{"v":526500,"d":"526,500"},"K60CN-KTO.K02","OTO"]
[1729,"K245510205105","Nguyễn Tấn Gia Huy",{"$f":"VLOOKUP(B1730,'[1]Ko tgia'!$B$2:$M$1900,4,0)","v":"2220150597"},{"$f":"VLOOKUP(B1730,'[1]Ko tgia'!$B$2:$M$1900,5,0)","v":"022206008789"},"19/06/2006",null,null,10,{"v":526500,"d":"526,500"},"K60CN-KTO.K02","OTO"]
[1730,"K245510205117","Nguyễn Huy Mạnh",{"$f":"VLOOKUP(B1731,'[1]Ko tgia'!$B$2:$M$1900,4,0)","v":"2220186484"},{"$f":"VLOOKUP(B1731,'[1]Ko tgia'!$B$2:$M$1900,5,0)","v":"022206007751"},"04/10/2006",null,null,10,{"v":526500,"d":"526,500"},"K60CN-KTO.K02","OTO"]
[1731,"K245510205099","Lương Văn Hòa",{"$f":"VLOOKUP(B1732,'[1]Ko tgia'!$B$2:$M$1900,4,0)","v":"2420335139"},{"$f":"VLOOKUP(B1732,'[1]Ko tgia'!$B$2:$M$1900,5,0)","v":"024206014355"},"24/03/2006",null,null,10,{"v":526500,"d":"526,500"},"K60CN-KTO.K02","OTO"]
[1732,"K245510205076","Nguyễn Tuấn Anh",{"$f":"VLOOKUP(B1733,'[1]Ko tgia'!$B$2:$M$1900,4,0)","v":"2420340568"},{"$f":"VLOOKUP(B1733,'[1]Ko tgia'!$B$2:$M$1900,5,0)","v":"024206012727"},"10/04/2006",null,null,10,{"v":526500,"d":"526,500"},"K60CN-KTO.K02","OTO"]
[1733,"K245510205098","Nguyễn Mạnh Hiếu",{"$f":"VLOOKUP(B1734,'[1]Ko tgia'!$B$2:$M$1900,4,0)","v":"2421598943"},{"$f":"VLOOKUP(B1734,'[1]Ko tgia'!$B$2:$M$1900,5,0)","v":"024206014630"},"03/04/2006",null,null,10,{"v":526500,"d":"526,500"},"K60CN-KTO.K02","OTO"]
[1734,"K245510205106","Hồ Quang Huy",{"$f":"VLOOKUP(B1735,'[1]Ko tgia'!$B$2:$M$1900,4,0)","v":"2520622698"},{"$f":"VLOOKUP(B1735,'[1]Ko tgia'!$B$2:$M$1900,5,0)","v":"025206011848"},"29/09/2006",null,null,10,{"v":526500,"d":"526,500"},"K60CN-KTO.K02","OTO"]
[1735,"K245510205141","Nguyễn Minh Trí",{"$f":"VLOOKUP(B1736,'[1]Ko tgia'!$B$2:$M$1900,4,0)","v":"2720064528"},{"$f":"VLOOKUP(B1736,'[1]Ko tgia'!$B$2:$M$1900,5,0)","v":"027206009110"},"08/10/2006",null,null,10,{"v":526500,"d":"526,500"},"K60CN-KTO.K02","OTO"]
[1736,"K245510205111","Lê Viết Kiên",{"$f":"VLOOKUP(B1737,'[1]Ko tgia'!$B$2:$M$1900,4,0)","v":"3823609762"},{"$f":"VLOOKUP(B1737,'[1]Ko tgia'!$B$2:$M$1900,5,0)","v":"019206010067"},"26/10/2006",null,null,10,{"v":526500,"d":"526,500"},"K60CN-KTO.K02","OTO"]
[1737,"K245510205102","Vũ Đức Hùng",{"$f":"VLOOKUP(B1738,'[1]Ko tgia'!$B$2:$M$1900,4,0)","v":"9732609089"},{"$f":"VLOOKUP(B1738,'[1]Ko tgia'!$B$2:$M$1900,5,0)","v":"024206005641"},"05/11/2006",null,null,10,{"v":526500,"d":"526,500"},"K60CN-KTO.K02","OTO"]
[1738,"K245510205176","Hoàng Hữu Khánh Hòa",{"$f":"VLOOKUP(B1739,'[1]Ko tgia'!$B$2:$M$1900,4,0)","v":"0420291894"},{"$f":"VLOOKUP(B1739,'[1]Ko tgia'!$B$2:$M$1900,5,0)","v":"004205000871"},"21/06/2005",null,null,10,{"v":526500,"d":"526,500"},"K60CN-KTO.K03","OTO"]
[1739,"K245510205170","Phạm Ngọc Giang",{"$f":"VLOOKUP(B1740,'[1]Ko tgia'!$B$2:$M$1900,4,0)","v":"1520065885"},{"$f":"VLOOKUP(B1740,'[1]Ko tgia'!$B$2:$M$1900,5,0)","v":"015206009467"},"08/12/2006",null,null,10,{"v":526500,"d":"526,500"},"K60CN-KTO.K03","OTO"]
[1740,"K245510205223","Phạm Hoàng Tùng",{"$f":"VLOOKUP(B1741,'[1]Ko tgia'!$B$2:$M$1900,4,0)","v":"1920063446"},{"$f":"VLOOKUP(B1741,'[1]Ko tgia'!$B$2:$M$1900,5,0)","v":"019206006458"},"05/01/2006",null,null,10,{"v":526500,"d":"526,500"},"K60CN-KTO.K03","OTO"]
[1741,"K245510205164","La Đức Duẩn",{"$f":"VLOOKUP(B1742,'[1]Ko tgia'!$B$2:$M$1900,4,0)","v":"1920161968"},{"$f":"VLOOKUP(B1742,'[1]Ko tgia'!$B$2:$M$1900,5,0)","v":"019206009986"},"14/11/2006",null,null,10,{"v":526500,"d":"526,500"},"K60CN-KTO.K03","OTO"]
[1742,"K245510205157","Ngô Đặng Gia Bảo",{"$f":"VLOOKUP(B1743,'[1]Ko tgia'!$B$2:$M$1900,4,0)","v":"1920533316"},{"$f":"VLOOKUP(B1743,'[1]Ko tgia'!$B$2:$M$1900,5,0)","v":"019206004039"},"07/11/2006",null,null,10,{"v":526500,"d":"526,500"},"K60CN-KTO.K03","OTO"]
[1743,"K245510205162","Lê Mạnh Đạt",{"$f":"VLOOKUP(B1744,'[1]Ko tgia'!$B$2:$M$1900,4,0)","v":"1921256613"},{"$f":"VLOOKUP(B1744,'[1]Ko tgia'!$B$2:$M$1900,5,0)","v":"019206010596"},"26/12/2006",null,null,10,{"v":526500,"d":"526,500"},"K60CN-KTO.K03","OTO"]
[1744,"K245510205171","Phạm Hải Hà",{"$f":"VLOOKUP(B1745,'[1]Ko tgia'!$B$2:$M$1900,4,0)","v":"2220039762"},{"$f":"VLOOKUP(B1745,'[1]Ko tgia'!$B$2:$M$1900,5,0)","v":"022206003552"},"17/06/2006",null,null,10,{"v":526500,"d":"526,500"},"K60CN-KTO.K03","OTO"]
[1745,"K245510205166","Ngô Việt Đức",{"$f":"VLOOKUP(B1746,'[1]Ko tgia'!$B$2:$M$1900,4,0)","v":"2221392099"},{"$f":"VLOOKUP(B1746,'[1]Ko tgia'!$B$2:$M$1900,5,0)","v":"022206004542"},"28/02/2006",null,null,10,{"v":526500,"d":"526,500"},"K60CN-KTO.K03","OTO"]
[1746,"K245510205220","Hoàng Minh Tú",{"$f":"VLOOKUP(B1747,'[1]Ko tgia'!$B$2:$M$1900,4,0)","v":"2420742770"},{"$f":"VLOOKUP(B1747,'[1]Ko tgia'!$B$2:$M$1900,5,0)","v":"024206011068"},"25/05/2006",null,null,10,{"v":526500,"d":"526,500"},"K60CN-KTO.K03","OTO"]
[1747,"K245510205168","Nguyễn Văn Dương",{"$f":"VLOOKUP(B1748,'[1]Ko tgia'!$B$2:$M$1900,4,0)","v":"2421030017"},{"$f":"VLOOKUP(B1748,'[1]Ko tgia'!$B$2:$M$1900,5,0)","v":"024206001104"},"05/05/2006",null,null,10,{"v":526500,"d":"526,500"},"K60CN-KTO.K03","OTO"]
[1748,"K245510205161","Cam Văn Đạt",{"$f":"VLOOKUP(B1749,'[1]Ko tgia'!$B$2:$M$1900,4,0)","v":"2421052460"},{"$f":"VLOOKUP(B1749,'[1]Ko tgia'!$B$2:$M$1900,5,0)","v":"024206008784"},"11/12/2006",null,null,10,{"v":526500,"d":"526,500"},"K60CN-KTO.K03","OTO"]
[1749,"K245510205224","Thân Văn Việt",{"$f":"VLOOKUP(B1750,'[1]Ko tgia'!$B$2:$M$1900,4,0)","v":"2421306906"},{"$f":"VLOOKUP(B1750,'[1]Ko tgia'!$B$2:$M$1900,5,0)","v":"024206009613"},"15/11/2006",null,null,10,{"v":526500,"d":"526,500"},"K60CN-KTO.K03","OTO"]
[1750,"K245510205184","Nguyễn Minh Khang",{"$f":"VLOOKUP(B1751,'[1]Ko tgia'!$B$2:$M$1900,4,0)","v":"2421926483"},{"$f":"VLOOKUP(B1751,'[1]Ko tgia'!$B$2:$M$1900,5,0)","v":"024206012492"},"24/11/2006",null,null,10,{"v":526500,"d":"526,500"},"K60CN-KTO.K03","OTO"]
[1751,"K245510205216","Nguyễn Quyết Tiến",{"$f":"VLOOKUP(B1752,'[1]Ko tgia'!$B$2:$M$1900,4,0)","v":"2421929678"},{"$f":"VLOOKUP(B1752,'[1]Ko tgia'!$B$2:$M$1900,5,0)","v":"024206010400"},"19/12/2006",null,null,10,{"v":526500,"d":"526,500"},"K60CN-KTO.K03","OTO"]
[1752,"K245510205165","Ngô Minh Đức",{"$f":"VLOOKUP(B1753,'[1]Ko tgia'!$B$2:$M$1900,4,0)","v":"2421934127"},{"$f":"VLOOKUP(B1753,'[1]Ko tgia'!$B$2:$M$1900,5,0)","v":"024206013352"},"28/01/2006",null,null,10,{"v":526500,"d":"526,500"},"K60CN-KTO.K03","OTO"]
[1753,"K245510205217","Nguyễn Đình Tình",{"$f":"VLOOKUP(B1754,'[1]Ko tgia'!$B$2:$M$1900,4,0)","v":"2421962262"},{"$f":"VLOOKUP(B1754,'[1]Ko tgia'!$B$2:$M$1900,5,0)","v":"024206004650"},"30/07/2006",null,null,10,{"v":526500,"d":"526,500"},"K60CN-KTO.K03","OTO"]
[1754,"K245510205155","Hà Quốc Anh",{"$f":"VLOOKUP(B1755,'[1]Ko tgia'!$B$2:$M$1900,4,0)","v":"2620109506"},{"$f":"VLOOKUP(B1755,'[1]Ko tgia'!$B$2:$M$1900,5,0)","v":"019206009702"},"22/04/2006",null,null,10,{"v":526500,"d":"526,500"},"K60CN-KTO.K03","OTO"]
[1755,"K245510205210","Đặng Minh Tâm",{"$f":"VLOOKUP(B1756,'[1]Ko tgia'!$B$2:$M$1900,4,0)","v":"2620128857"},{"$f":"VLOOKUP(B1756,'[1]Ko tgia'!$B$2:$M$1900,5,0)","v":"026206012190"},"30/01/2006",null,null,10,{"v":526500,"d":"526,500"},"K60CN-KTO.K03","OTO"]
[1756,"K245510205153","Lê Việt Anh",{"$f":"VLOOKUP(B1757,'[1]Ko tgia'!$B$2:$M$1900,4,0)","v":"2620413974"},{"$f":"VLOOKUP(B1757,'[1]Ko tgia'!$B$2:$M$1900,5,0)","v":"019206007250"},"02/12/2006",null,null,10,{"v":526500,"d":"526,500"},"K60CN-KTO.K03","OTO"]
[1757,"K245510205225","Trương Quang Vũ",{"$f":"VLOOKUP(B1758,'[1]Ko tgia'!$B$2:$M$1900,4,0)","v":"3720225780"},{"$f":"VLOOKUP(B1758,'[1]Ko tgia'!$B$2:$M$1900,5,0)","v":"037206004843"},"14/12/2006",null,null,10,{"v":526500,"d":"526,500"},"K60CN-KTO.K03","OTO"]
[1758,"K245510205193","Nguyễn Thành Lương",{"$f":"VLOOKUP(B1759,'[1]Ko tgia'!$B$2:$M$1900,4,0)","v":"3821089769"},{"$f":"VLOOKUP(B1759,'[1]Ko tgia'!$B$2:$M$1900,5,0)","v":"038206009734"},"20/11/2006",null,null,10,{"v":526500,"d":"526,500"},"K60CN-KTO.K03","OTO"]
[1759,"K245510205209","Nguyễn Văn Sơn",{"$f":"VLOOKUP(B1760,'[1]Ko tgia'!$B$2:$M$1900,4,0)","v":"3821304317"},{"$f":"VLOOKUP(B1760,'[1]Ko tgia'!$B$2:$M$1900,5,0)","v":"038206027831"},"19/10/2006",null,null,10,{"v":526500,"d":"526,500"},"K60CN-KTO.K03","OTO"]
[1760,"K245510205252","Nguyễn Minh Hiếu",{"$f":"VLOOKUP(B1761,'[1]Ko tgia'!$B$2:$M$1900,4,0)","v":"0120428358"},{"$f":"VLOOKUP(B1761,'[1]Ko tgia'!$B$2:$M$1900,5,0)","v":"001206078582"},"29/10/2006",null,null,10,{"v":526500,"d":"526,500"},"K60CN-KTO.K04","OTO"]
[1761,"K245510205297","Đào Anh Tú",{"$f":"VLOOKUP(B1762,'[1]Ko tgia'!$B$2:$M$1900,4,0)","v":"0124368469"},{"$f":"VLOOKUP(B1762,'[1]Ko tgia'!$B$2:$M$1900,5,0)","v":"022205002977"},"11/07/2005",null,null,10,{"v":526500,"d":"526,500"},"K60CN-KTO.K04","OTO"]
[1762,"K245510205251","Lã Đình Hiếu",{"$f":"VLOOKUP(B1763,'[1]Ko tgia'!$B$2:$M$1900,4,0)","v":"0124711815"},{"$f":"VLOOKUP(B1763,'[1]Ko tgia'!$B$2:$M$1900,5,0)","v":"001206031626"},"14/08/2006",null,null,10,{"v":526500,"d":"526,500"},"K60CN-KTO.K04","OTO"]
[1763,"K245510205280","Đỗ Hồng Quang",{"$f":"VLOOKUP(B1764,'[1]Ko tgia'!$B$2:$M$1900,4,0)","v":"1920550875"},{"$f":"VLOOKUP(B1764,'[1]Ko tgia'!$B$2:$M$1900,5,0)","v":"019206007926"},"12/04/2006",null,null,10,{"v":526500,"d":"526,500"},"K60CN-KTO.K04","OTO"]
[1764,"K245510205246","Trương Thành Duy",{"$f":"VLOOKUP(B1765,'[1]Ko tgia'!$B$2:$M$1900,4,0)","v":"1920551502"},{"$f":"VLOOKUP(B1765,'[1]Ko tgia'!$B$2:$M$1900,5,0)","v":"019206003917"},"13/03/2006",null,null,10,{"v":526500,"d":"526,500"},"K60CN-KTO.K04","OTO"]
[1765,"K245510205245","Đào Đăng Dương",{"$f":"VLOOKUP(B1766,'[1]Ko tgia'!$B$2:$M$1900,4,0)","v":"1920951327"},{"$f":"VLOOKUP(B1766,'[1]Ko tgia'!$B$2:$M$1900,5,0)","v":"019206001060"},"24/09/2006",null,null,10,{"v":526500,"d":"526,500"},"K60CN-KTO.K04","OTO"]
[1766,"K245510205272","Nguyễn Viết Minh",{"$f":"VLOOKUP(B1767,'[1]Ko tgia'!$B$2:$M$1900,4,0)","v":"1921008011"},{"$f":"VLOOKUP(B1767,'[1]Ko tgia'!$B$2:$M$1900,5,0)","v":"019206009306"},"08/09/2006",null,null,10,{"v":526500,"d":"526,500"},"K60CN-KTO.K04","OTO"]
[1767,"K245510205228","Đào Hoàng Anh",{"$f":"VLOOKUP(B1768,'[1]Ko tgia'!$B$2:$M$1900,4,0)","v":"1921151419"},{"$f":"VLOOKUP(B1768,'[1]Ko tgia'!$B$2:$M$1900,5,0)","v":"019206000284"},"06/02/2006",null,null,10,{"v":526500,"d":"526,500"},"K60CN-KTO.K04","OTO"]
[1768,"K245510205302","Trần Quang Vũ",{"$f":"VLOOKUP(B1769,'[1]Ko tgia'!$B$2:$M$1900,4,0)","v":"2220055751"},{"$f":"VLOOKUP(B1769,'[1]Ko tgia'!$B$2:$M$1900,5,0)","v":"022206002755"},"19/09/2006",null,null,10,{"v":526500,"d":"526,500"},"K60CN-KTO.K04","OTO"]
[1769,"K245510205277","Trần Hải Nguyên",{"$f":"VLOOKUP(B1770,'[1]Ko tgia'!$B$2:$M$1900,4,0)","v":"2220101708"},{"$f":"VLOOKUP(B1770,'[1]Ko tgia'!$B$2:$M$1900,5,0)","v":"019206006077"},"07/06/2006",null,null,10,{"v":526500,"d":"526,500"},"K60CN-KTO.K04","OTO"]
[1770,"K245510205265","Nguyễn Mạnh Kiên",{"$f":"VLOOKUP(B1771,'[1]Ko tgia'!$B$2:$M$1900,4,0)","v":"2220153880"},{"$f":"VLOOKUP(B1771,'[1]Ko tgia'!$B$2:$M$1900,5,0)","v":"022206002577"},"25/06/2006",null,null,10,{"v":526500,"d":"526,500"},"K60CN-KTO.K04","OTO"]
[1771,"K245510205290","Nguyễn Tiến Thành",{"$f":"VLOOKUP(B1772,'[1]Ko tgia'!$B$2:$M$1900,4,0)","v":"2420110402"},{"$f":"VLOOKUP(B1772,'[1]Ko tgia'!$B$2:$M$1900,5,0)","v":"024206000595"},"05/03/2006",null,null,10,{"v":526500,"d":"526,500"},"K60CN-KTO.K04","OTO"]
[1772,"K245510205299","Hoàng Huy Tùng",{"$f":"VLOOKUP(B1773,'[1]Ko tgia'!$B$2:$M$1900,4,0)","v":"2422354377"},{"$f":"VLOOKUP(B1773,'[1]Ko tgia'!$B$2:$M$1900,5,0)","v":"024206015702"},"24/03/2006",null,null,10,{"v":526500,"d":"526,500"},"K60CN-KTO.K04","OTO"]
[1773,"K245510205266","Nguyễn Phúc Kiên",{"$f":"VLOOKUP(B1774,'[1]Ko tgia'!$B$2:$M$1900,4,0)","v":"2721383947"},{"$f":"VLOOKUP(B1774,'[1]Ko tgia'!$B$2:$M$1900,5,0)","v":"027206007466"},"17/04/2006",null,null,10,{"v":526500,"d":"526,500"},"K60CN-KTO.K04","OTO"]
[1774,"K245510205227","Đào Duy An",{"$f":"VLOOKUP(B1775,'[1]Ko tgia'!$B$2:$M$1900,4,0)","v":"3320445351"},{"$f":"VLOOKUP(B1775,'[1]Ko tgia'!$B$2:$M$1900,5,0)","v":"033206001241"},"04/06/2006",null,null,10,{"v":526500,"d":"526,500"},"K60CN-KTO.K04","OTO"]
[1775,"K245510205241","Phạm Văn Đức",{"$f":"VLOOKUP(B1776,'[1]Ko tgia'!$B$2:$M$1900,4,0)","v":"3821291187"},{"$f":"VLOOKUP(B1776,'[1]Ko tgia'!$B$2:$M$1900,5,0)","v":"038206028956"},"28/01/2006",null,null,10,{"v":526500,"d":"526,500"},"K60CN-KTO.K04","OTO"]
[1776,"K245510205258","Đồng Phú Hưng",{"$f":"VLOOKUP(B1777,'[1]Ko tgia'!$B$2:$M$1900,4,0)","v":"9731272495"},{"$f":"VLOOKUP(B1777,'[1]Ko tgia'!$B$2:$M$1900,5,0)","v":"001206027786"},"06/09/2006",null,null,10,{"v":526500,"d":"526,500"},"K60CN-KTO.K04","OTO"]
[1777,"K245510205364","Nguyễn Như Tây",{"$f":"VLOOKUP(B1778,'[1]Ko tgia'!$B$2:$M$1900,4,0)","v":"0124945889"},{"$f":"VLOOKUP(B1778,'[1]Ko tgia'!$B$2:$M$1900,5,0)","v":"001206025589"},"20/01/2006",null,null,10,{"v":526500,"d":"526,500"},"K60CN-KTO.K05","OTO"]
[1778,"K245510205376","Mai Thanh Tùng",{"$f":"VLOOKUP(B1779,'[1]Ko tgia'!$B$2:$M$1900,4,0)","v":"0620239020"},{"$f":"VLOOKUP(B1779,'[1]Ko tgia'!$B$2:$M$1900,5,0)","v":"006206000121"},"24/09/2006",null,null,10,{"v":526500,"d":"526,500"},"K60CN-KTO.K05","OTO"]
[1779,"K245510205319","Hoàng Minh Đức",{"$f":"VLOOKUP(B1780,'[1]Ko tgia'!$B$2:$M$1900,4,0)","v":"0820075184"},{"$f":"VLOOKUP(B1780,'[1]Ko tgia'!$B$2:$M$1900,5,0)","v":"008206007913"},"15/04/2006",null,null,10,{"v":526500,"d":"526,500"},"K60CN-KTO.K05","OTO"]
[1780,"K245510205309","Vũ Gia Bảo",{"$f":"VLOOKUP(B1781,'[1]Ko tgia'!$B$2:$M$1900,4,0)","v":"1920061266"},{"$f":"VLOOKUP(B1781,'[1]Ko tgia'!$B$2:$M$1900,5,0)","v":"019206011000"},"31/10/2006",null,null,10,{"v":526500,"d":"526,500"},"K60CN-KTO.K05","OTO"]
[1781,"K245510205304","Lê Đặng Tuấn Anh",{"$f":"VLOOKUP(B1782,'[1]Ko tgia'!$B$2:$M$1900,4,0)","v":"1920233094"},{"$f":"VLOOKUP(B1782,'[1]Ko tgia'!$B$2:$M$1900,5,0)","v":"019206000877"},"28/08/2006",null,null,10,{"v":526500,"d":"526,500"},"K60CN-KTO.K05","OTO"]
[1782,"K245510205351","Vũ Xuân Nghiêm",{"$f":"VLOOKUP(B1783,'[1]Ko tgia'!$B$2:$M$1900,4,0)","v":"1920559202"},{"$f":"VLOOKUP(B1783,'[1]Ko tgia'!$B$2:$M$1900,5,0)","v":"019206010685"},"20/01/2006",null,null,10,{"v":526500,"d":"526,500"},"K60CN-KTO.K05","OTO"]
[1783,"K245510205333","Nguyễn Phi Hùng",{"$f":"VLOOKUP(B1784,'[1]Ko tgia'!$B$2:$M$1900,4,0)","v":"1920561153"},{"$f":"VLOOKUP(B1784,'[1]Ko tgia'!$B$2:$M$1900,5,0)","v":"019206000226"},"09/04/2006",null,null,10,{"v":526500,"d":"526,500"},"K60CN-KTO.K05","OTO"]
[1784,"K245510205370","Phạm Minh Trí",{"$f":"VLOOKUP(B1785,'[1]Ko tgia'!$B$2:$M$1900,4,0)","v":"1921425878"},{"$f":"VLOOKUP(B1785,'[1]Ko tgia'!$B$2:$M$1900,5,0)","v":"019206010402"},"19/08/2006",null,null,10,{"v":526500,"d":"526,500"},"K60CN-KTO.K05","OTO"]
[1785,"K245510205325","Nguyễn Công Hậu",{"$f":"VLOOKUP(B1786,'[1]Ko tgia'!$B$2:$M$1900,4,0)","v":"2420974041"},{"$f":"VLOOKUP(B1786,'[1]Ko tgia'!$B$2:$M$1900,5,0)","v":"024206015133"},"27/07/2006",null,null,10,{"v":526500,"d":"526,500"},"K60CN-KTO.K05","OTO"]
[1786,"K245510205344","Nguyễn Văn Lộc",{"$f":"VLOOKUP(B1787,'[1]Ko tgia'!$B$2:$M$1900,4,0)","v":"2421674446"},{"$f":"VLOOKUP(B1787,'[1]Ko tgia'!$B$2:$M$1900,5,0)","v":"024206003016"},"27/11/2006",null,null,10,{"v":526500,"d":"526,500"},"K60CN-KTO.K05","OTO"]
[1787,"K245510205318","Nguyễn Tiến Đức",{"$f":"VLOOKUP(B1788,'[1]Ko tgia'!$B$2:$M$1900,4,0)","v":"2620185192"},{"$f":"VLOOKUP(B1788,'[1]Ko tgia'!$B$2:$M$1900,5,0)","v":"026206002817"},"25/03/2006",null,null,10,{"v":526500,"d":"526,500"},"K60CN-KTO.K05","OTO"]
[1788,"K245510205363","Nguyễn Văn Tân",{"$f":"VLOOKUP(B1789,'[1]Ko tgia'!$B$2:$M$1900,4,0)","v":"2721168314"},{"$f":"VLOOKUP(B1789,'[1]Ko tgia'!$B$2:$M$1900,5,0)","v":"027206008450"},"13/12/2006",null,null,10,{"v":526500,"d":"526,500"},"K60CN-KTO.K05","OTO"]
[1789,"K245510205310","Ngô Quốc Bình",{"$f":"VLOOKUP(B1790,'[1]Ko tgia'!$B$2:$M$1900,4,0)","v":"2721344666"},{"$f":"VLOOKUP(B1790,'[1]Ko tgia'!$B$2:$M$1900,5,0)","v":"027206000306"},"17/11/2006",null,null,10,{"v":526500,"d":"526,500"},"K60CN-KTO.K05","OTO"]
[1790,"K245510205327","Phạm Trung Hiếu",{"$f":"VLOOKUP(B1791,'[1]Ko tgia'!$B$2:$M$1900,4,0)","v":"3421393129"},{"$f":"VLOOKUP(B1791,'[1]Ko tgia'!$B$2:$M$1900,5,0)","v":"034206012848"},"29/03/2006",null,null,10,{"v":526500,"d":"526,500"},"K60CN-KTO.K05","OTO"]
[1791,"K245510205368","Trần Mạnh Tiến",{"$f":"VLOOKUP(B1792,'[1]Ko tgia'!$B$2:$M$1900,4,0)","v":"3720155697"},{"$f":"VLOOKUP(B1792,'[1]Ko tgia'!$B$2:$M$1900,5,0)","v":"037206003704"},"03/12/2006",null,null,10,{"v":526500,"d":"526,500"},"K60CN-KTO.K05","OTO"]
[1792,"K245510205320","Nguyễn Văn Dương",{"$f":"VLOOKUP(B1793,'[1]Ko tgia'!$B$2:$M$1900,4,0)","v":"3822409545"},{"$f":"VLOOKUP(B1793,'[1]Ko tgia'!$B$2:$M$1900,5,0)","v":"038205026532"},"27/05/2005",null,null,10,{"v":526500,"d":"526,500"},"K60CN-KTO.K05","OTO"]
[1793,"K215905228011","Phạm Quý Dương",{"$f":"VLOOKUP(B1794,'[1]Ko tgia'!$B$2:$M$1900,4,0)","v":"1920021097"},{"$f":"VLOOKUP(B1794,'[1]Ko tgia'!$B$2:$M$1900,5,0)","v":"019203003229"},"10/02/2003",null,null,10,{"v":526500,"d":"526,500"},"K57AP.I","QT"]
[1794,"K215905228018","Lương Thị Bích Phương",{"$f":"VLOOKUP(B1795,'[1]Ko tgia'!$B$2:$M$1900,4,0)","v":"1920434637"},{"$f":"VLOOKUP(B1795,'[1]Ko tgia'!$B$2:$M$1900,5,0)","v":0},"24/12/2003",{"$f":"VLOOKUP(B1795,'[2]Ko tgia'!$C$2:$K$9900,8,0)","v":"x"},null,10,{"v":526500,"d":"526,500"},"K57AP.I","QT"]
[1795,"K215905228030","Vũ Thanh Lâm",{"$f":"VLOOKUP(B1796,'[1]Ko tgia'!$B$2:$M$1900,4,0)","v":"1920526357"},{"$f":"VLOOKUP(B1796,'[1]Ko tgia'!$B$2:$M$1900,5,0)","v":"019203003523"},"07/02/2003",null,null,10,{"v":526500,"d":"526,500"},"K57AP.I","QT"]
[1796,"K215905228017","Hoàng Đức Mạnh",{"$f":"VLOOKUP(B1797,'[1]Ko tgia'!$B$2:$M$1900,4,0)","v":"1921423227"},{"$f":"VLOOKUP(B1797,'[1]Ko tgia'!$B$2:$M$1900,5,0)","v":"019203006807"},"04/07/2003",null,null,10,{"v":526500,"d":"526,500"},"K57AP.I","QT"]
[1797,"K215510205374","Vi Việt Dũng",{"$f":"VLOOKUP(B1798,'[1]Ko tgia'!$B$2:$M$1900,4,0)","v":"2421828436"},{"$f":"VLOOKUP(B1798,'[1]Ko tgia'!$B$2:$M$1900,5,0)","v":"024203003372"},"15/12/2003",null,null,10,{"v":526500,"d":"526,500"},"K57AP.I","QT"]
[1798,"K215905228022","Nguyễn Mạnh Tú",{"$f":"VLOOKUP(B1799,'[1]Ko tgia'!$B$2:$M$1900,4,0)","v":"4016082360"},{"$f":"VLOOKUP(B1799,'[1]Ko tgia'!$B$2:$M$1900,5,0)","v":"040302003472"},"06/08/2003",null,null,10,{"v":526500,"d":"526,500"},"K57AP.I","QT"]
[1799,"K215905218010","Vi Hồ Lân",{"$f":"VLOOKUP(B1800,'[1]Ko tgia'!$B$2:$M$1900,4,0)","v":"1920204529"},{"$f":"VLOOKUP(B1800,'[1]Ko tgia'!$B$2:$M$1900,5,0)","v":"019203008857"},"28/08/2003",null,null,10,{"v":526500,"d":"526,500"},"K57AP.M","QT"]
[1800,"K205520114221","Hoàng Xuân Trường",{"$f":"VLOOKUP(B1801,'[1]Ko tgia'!$B$2:$M$1900,4,0)","v":"1920587757"},{"$f":"VLOOKUP(B1801,'[1]Ko tgia'!$B$2:$M$1900,5,0)","v":"019202032022"},"23/12/2002",null,null,10,{"v":526500,"d":"526,500"},"K57AP.M","QT"]
[1801,"K215220201052","Trần Hương Giang",{"$f":"VLOOKUP(B1802,'[1]Ko tgia'!$B$2:$M$1900,4,0)","v":"2521271992"},{"$f":"VLOOKUP(B1802,'[1]Ko tgia'!$B$2:$M$1900,5,0)","v":"025803002393"},"02/06/2003",{"$f":"VLOOKUP(B1802,'[2]Ko tgia'!$C$2:$K$9900,8,0)","v":"x"},null,10,{"v":526500,"d":"526,500"},"K57NNA.01","QT"]
[1802,"K225905228010","Nguyễn Quý Ngọc Vương",{"$f":"VLOOKUP(B1803,'[1]Ko tgia'!$B$2:$M$1900,4,0)","v":"1920562228"},{"$f":"VLOOKUP(B1803,'[1]Ko tgia'!$B$2:$M$1900,5,0)","v":"019204000741"},"08/03/2004",null,null,10,{"v":526500,"d":"526,500"},"K58API.K01","QT"]
[1803,"K225905228006","Nguyễn Hoàng Phúc",{"$f":"VLOOKUP(B1804,'[1]Ko tgia'!$B$2:$M$1900,4,0)","v":"1921423267"},{"$f":"VLOOKUP(B1804,'[1]Ko tgia'!$B$2:$M$1900,5,0)","v":"019204010250"},"01/11/2004",null,null,10,{"v":526500,"d":"526,500"},"K58API.K01","QT"]
[1804,"K225905228011","Nguyễn Ngọc Triều Giang",{"$f":"VLOOKUP(B1805,'[1]Ko tgia'!$B$2:$M$1900,4,0)","v":"1921430892"},{"$f":"VLOOKUP(B1805,'[1]Ko tgia'!$B$2:$M$1900,5,0)","v":"019204010972"},"23/10/2004",null,null,10,{"v":526500,"d":"526,500"},"K58API.K01","QT"]
[1805,"K225905228013","Nguyễn Mạnh Tuấn",{"$f":"VLOOKUP(B1806,'[1]Ko tgia'!$B$2:$M$1900,4,0)","v":"2220730450"},{"$f":"VLOOKUP(B1806,'[1]Ko tgia'!$B$2:$M$1900,5,0)","v":"022204005981"},"01/03/2004",null,null,10,{"v":526500,"d":"526,500"},"K58API.K01","QT"]
[1806,"K225905218001","Nguyễn Anh Đức",{"$f":"VLOOKUP(B1807,'[1]Ko tgia'!$B$2:$M$1900,4,0)","v":"3422217681"},{"$f":"VLOOKUP(B1807,'[1]Ko tgia'!$B$2:$M$1900,5,0)","v":"034204007352"},"08/04/2004",null,null,10,{"v":526500,"d":"526,500"},"K58APM.K01","QT"]
[1807,"K225220201028","Nguyễn Bích Hợp",{"$f":"VLOOKUP(B1808,'[1]Ko tgia'!$B$2:$M$1900,4,0)","v":"0124778928"},{"$f":"VLOOKUP(B1808,'[1]Ko tgia'!$B$2:$M$1900,5,0)","v":"001304034232"},"11/08/2004",{"$f":"VLOOKUP(B1808,'[2]Ko tgia'!$C$2:$K$9900,8,0)","v":"x"},null,10,{"v":526500,"d":"526,500"},"K58NNA.C01","QT"]
[1808,"K225220201006","Nguyễn Hoàng Bách",{"$f":"VLOOKUP(B1809,'[1]Ko tgia'!$B$2:$M$1900,4,0)","v":"1921427937"},{"$f":"VLOOKUP(B1809,'[1]Ko tgia'!$B$2:$M$1900,5,0)","v":"019204009766"},"23/07/2004",null,null,10,{"v":526500,"d":"526,500"},"K58NNA.C01","QT"]
[1809,"K225220201031","Nguyễn Thị Lâm Oanh",{"$f":"VLOOKUP(B1810,'[1]Ko tgia'!$B$2:$M$1900,4,0)","v":"3021218075"},{"$f":"VLOOKUP(B1810,'[1]Ko tgia'!$B$2:$M$1900,5,0)","v":"030304003430"},"24/05/2004",{"$f":"VLOOKUP(B1810,'[2]Ko tgia'!$C$2:$K$9900,8,0)","v":"x"},null,10,{"v":526500,"d":"526,500"},"K58NNA.C01","QT"]
[1810,"K235905228001","Giáp Tùng Dương",{"$f":"VLOOKUP(B1811,'[1]Ko tgia'!$B$2:$M$1900,4,0)","v":"2420365572"},{"$f":"VLOOKUP(B1811,'[1]Ko tgia'!$B$2:$M$1900,5,0)","v":"024205004113"},"28/02/2005",null,null,10,{"v":526500,"d":"526,500"},"K59API.K01","QT"]
[1811,"K235905228009","Trần Duy Phúc",{"$f":"VLOOKUP(B1812,'[1]Ko tgia'!$B$2:$M$1900,4,0)","v":"2721848416"},{"$f":"VLOOKUP(B1812,'[1]Ko tgia'!$B$2:$M$1900,5,0)","v":"020205000741"},"03/06/2005",null,null,10,{"v":526500,"d":"526,500"},"K59API.K01","QT"]
[1812,"K235510601078","Chu Thị Hồng Nhung",{"$f":"VLOOKUP(B1813,'[1]Ko tgia'!$B$2:$M$1900,4,0)","v":"1920458422"},{"$f":"VLOOKUP(B1813,'[1]Ko tgia'!$B$2:$M$1900,5,0)","v":"019305000502"},"23/04/2005",{"$f":"VLOOKUP(B1813,'[2]Ko tgia'!$C$2:$K$9900,8,0)","v":"x"},null,10,{"v":526500,"d":"526,500"},"K59APM.K01","QT"]
[1813,"K235220201012","Đinh Văn Nguyên",{"$f":"VLOOKUP(B1814,'[1]Ko tgia'!$B$2:$M$1900,4,0)","v":"1920925609"},{"$f":"VLOOKUP(B1814,'[1]Ko tgia'!$B$2:$M$1900,5,0)","v":"019205011796"},"07/11/2005",null,null,10,{"v":526500,"d":"526,500"},"K59NNA.C01","QT"]
[1814,"K235220201014","Nguyễn Ngọc Phú",{"$f":"VLOOKUP(B1815,'[1]Ko tgia'!$B$2:$M$1900,4,0)","v":"1920946251"},{"$f":"VLOOKUP(B1815,'[1]Ko tgia'!$B$2:$M$1900,5,0)","v":"019205001351"},"25/07/2005",null,null,10,{"v":526500,"d":"526,500"},"K59NNA.C01","QT"]
[1815,"K235220201020","Trương Thị Thu Giang",{"$f":"VLOOKUP(B1816,'[1]Ko tgia'!$B$2:$M$1900,4,0)","v":"2422031743"},{"$f":"VLOOKUP(B1816,'[1]Ko tgia'!$B$2:$M$1900,5,0)","v":"024305013905"},"23/06/2005",{"$f":"VLOOKUP(B1816,'[2]Ko tgia'!$C$2:$K$9900,8,0)","v":"x"},null,10,{"v":526500,"d":"526,500"},"K59NNA.C01","QT"]
[1816,"K245905218012","Ngô Bá Quang",{"$f":"VLOOKUP(B1817,'[1]Ko tgia'!$B$2:$M$1900,4,0)","v":"1920227995"},{"$f":"VLOOKUP(B1817,'[1]Ko tgia'!$B$2:$M$1900,5,0)","v":"019206008630"},"09/02/2006",null,null,10,{"v":526500,"d":"526,500"},"K60API.K01","QT"]
[1817,"K245905228009","Hoàng Tiến Mạnh",{"$f":"VLOOKUP(B1818,'[1]Ko tgia'!$B$2:$M$1900,4,0)","v":"2020247969"},{"$f":"VLOOKUP(B1818,'[1]Ko tgia'!$B$2:$M$1900,5,0)","v":"020206000905"},"24/12/2006",null,null,10,{"v":526500,"d":"526,500"},"K60API.K01","QT"]
[1818,"K245905228016","Lê Hồng Phong",{"$f":"VLOOKUP(B1819,'[1]Ko tgia'!$B$2:$M$1900,4,0)","v":"2420245873"},{"$f":"VLOOKUP(B1819,'[1]Ko tgia'!$B$2:$M$1900,5,0)","v":"024206001414"},"24/03/2006",null,null,10,{"v":526500,"d":"526,500"},"K60API.K01","QT"]
[1819,"K245905228001","Trần Đức Việt Anh",{"$f":"VLOOKUP(B1820,'[1]Ko tgia'!$B$2:$M$1900,4,0)","v":"2421221151"},{"$f":"VLOOKUP(B1820,'[1]Ko tgia'!$B$2:$M$1900,5,0)","v":"024206000758"},"16/06/2006",null,null,10,{"v":526500,"d":"526,500"},"K60API.K01","QT"]
[1820,"K245905228022","Trần Văn Trưởng",{"$f":"VLOOKUP(B1821,'[1]Ko tgia'!$B$2:$M$1900,4,0)","v":"3520640554"},{"$f":"VLOOKUP(B1821,'[1]Ko tgia'!$B$2:$M$1900,5,0)","v":"035206004012"},"06/10/2006",null,null,10,{"v":526500,"d":"526,500"},"K60API.K01","QT"]
[1821,"K245905228021","Bùi Hoàng Long",{"$f":"VLOOKUP(B1822,'[1]Ko tgia'!$B$2:$M$1900,4,0)","v":"6623758750"},{"$f":"VLOOKUP(B1822,'[1]Ko tgia'!$B$2:$M$1900,5,0)","v":"066202000088"},"14/03/2002",null,null,10,{"v":526500,"d":"526,500"},"K60API.K01","QT"]
[1822,"K245905218004","Nguyễn Minh Hiếu",{"$f":"VLOOKUP(B1823,'[1]Ko tgia'!$B$2:$M$1900,4,0)","v":"0121477401"},{"$f":"VLOOKUP(B1823,'[1]Ko tgia'!$B$2:$M$1900,5,0)","v":"001206008225"},"07/10/2006",null,null,10,{"v":526500,"d":"526,500"},"K60APM.K01","QT"]
[1823,"K245905218017","Nguyễn Việt Tiến",{"$f":"VLOOKUP(B1824,'[1]Ko tgia'!$B$2:$M$1900,4,0)","v":"1420813777"},{"$f":"VLOOKUP(B1824,'[1]Ko tgia'!$B$2:$M$1900,5,0)","v":"014206008725"},"10/09/2006",null,null,10,{"v":526500,"d":"526,500"},"K60APM.K01","QT"]
[1824,"K245905218020","Nguyễn Đức Quảng",{"$f":"VLOOKUP(B1825,'[1]Ko tgia'!$B$2:$M$1900,4,0)","v":"1920157795"},{"$f":"VLOOKUP(B1825,'[1]Ko tgia'!$B$2:$M$1900,5,0)","v":"019206005282"},"16/10/2006",null,null,10,{"v":526500,"d":"526,500"},"K60APM.K01","QT"]
[1825,"K245905218005","Đồng Trung Hiếu",{"$f":"VLOOKUP(B1826,'[1]Ko tgia'!$B$2:$M$1900,4,0)","v":"1920288216"},{"$f":"VLOOKUP(B1826,'[1]Ko tgia'!$B$2:$M$1900,5,0)","v":"019206002170"},"01/02/2006",null,null,10,{"v":526500,"d":"526,500"},"K60APM.K01","QT"]
[1826,"K245905218013","Dương Trường Sơn",{"$f":"VLOOKUP(B1827,'[1]Ko tgia'!$B$2:$M$1900,4,0)","v":"1921126645"},{"$f":"VLOOKUP(B1827,'[1]Ko tgia'!$B$2:$M$1900,5,0)","v":"019206010226"},"03/11/2006",null,null,10,{"v":526500,"d":"526,500"},"K60APM.K01","QT"]
[1827,"K245905218001","Nguyễn Bá Cảnh",{"$f":"VLOOKUP(B1828,'[1]Ko tgia'!$B$2:$M$1900,4,0)","v":"2721063234"},{"$f":"VLOOKUP(B1828,'[1]Ko tgia'!$B$2:$M$1900,5,0)","v":"027206007679"},"10/10/2006",null,null,10,{"v":526500,"d":"526,500"},"K60APM.K01","QT"]
[1828,"K245905218022","Nguyễn Thái Dương",{"$f":"VLOOKUP(B1829,'[1]Ko tgia'!$B$2:$M$1900,4,0)","v":"9731805116"},{"$f":"VLOOKUP(B1829,'[1]Ko tgia'!$B$2:$M$1900,5,0)","v":"032006002622"},"11/03/2006",null,null,10,{"v":526500,"d":"526,500"},"K60APM.K01","QT"]
[1829,"K245220201001","Lưu Thái An",{"$f":"VLOOKUP(B1830,'[1]Ko tgia'!$B$2:$M$1900,4,0)","v":"0420569984"},{"$f":"VLOOKUP(B1830,'[1]Ko tgia'!$B$2:$M$1900,5,0)","v":"004206000188"},"04/07/2006",null,null,10,{"v":526500,"d":"526,500"},"K60NNA.C01","QT"]
[1830,"K245220201014","Trần Thị Ngọc Linh",{"$f":"VLOOKUP(B1831,'[1]Ko tgia'!$B$2:$M$1900,4,0)","v":"1920435096"},{"$f":"VLOOKUP(B1831,'[1]Ko tgia'!$B$2:$M$1900,5,0)","v":"019306010116"},"31/07/2006",{"$f":"VLOOKUP(B1831,'[2]Ko tgia'!$C$2:$K$9900,8,0)","v":"x"},null,10,{"v":526500,"d":"526,500"},"K60NNA.C01","QT"]
[1831,"K245220201009","Hoàng Thanh Hương",{"$f":"VLOOKUP(B1832,'[1]Ko tgia'!$B$2:$M$1900,4,0)","v":"1920987758"},{"$f":"VLOOKUP(B1832,'[1]Ko tgia'!$B$2:$M$1900,5,0)","v":"019306001704"},"22/11/2006",{"$f":"VLOOKUP(B1832,'[2]Ko tgia'!$C$2:$K$9900,8,0)","v":"x"},null,10,{"v":526500,"d":"526,500"},"K60NNA.C01","QT"]
[1832,"K245220201026","Hoàng Minh Tiến",{"$f":"VLOOKUP(B1833,'[1]Ko tgia'!$B$2:$M$1900,4,0)","v":"2020582839"},{"$f":"VLOOKUP(B1833,'[1]Ko tgia'!$B$2:$M$1900,5,0)","v":"020206004031"},"20/02/2006",null,null,10,{"v":526500,"d":"526,500"},"K60NNA.C01","QT"]
[1833,"K245220201030","Dương Văn Vũ",{"$f":"VLOOKUP(B1834,'[1]Ko tgia'!$B$2:$M$1900,4,0)","v":"2421228648"},{"$f":"VLOOKUP(B1834,'[1]Ko tgia'!$B$2:$M$1900,5,0)","v":"024206005278"},"30/07/2006",null,null,10,{"v":526500,"d":"526,500"},"K60NNA.C01","QT"]
[1834,"K245220201032","Nguyễn Thị Hải Yến",{"$f":"VLOOKUP(B1835,'[1]Ko tgia'!$B$2:$M$1900,4,0)","v":"2421976511"},{"$f":"VLOOKUP(B1835,'[1]Ko tgia'!$B$2:$M$1900,5,0)","v":"024306000750"},"03/07/2006",{"$f":"VLOOKUP(B1835,'[2]Ko tgia'!$C$2:$K$9900,8,0)","v":"x"},null,10,{"v":526500,"d":"526,500"},"K60NNA.C01","QT"]
[1835,"K245220201028","Trần Thị Thùy Trang",{"$f":"VLOOKUP(B1836,'[1]Ko tgia'!$B$2:$M$1900,4,0)","v":"6622749358"},{"$f":"VLOOKUP(B1836,'[1]Ko tgia'!$B$2:$M$1900,5,0)","v":"066306014923"},"23/10/2006",{"$f":"VLOOKUP(B1836,'[2]Ko tgia'!$C$2:$K$9900,8,0)","v":"x"},null,10,{"v":526500,"d":"526,500"},"K60NNA.C01","QT"]